BEGIN:VCALENDAR
VERSION:2.0
PRODID:-//MAX - ECPv6.15.17.1//NONSGML v1.0//EN
CALSCALE:GREGORIAN
METHOD:PUBLISH
X-ORIGINAL-URL:https://metroatlantaexchange.org
X-WR-CALDESC:Events for MAX
REFRESH-INTERVAL;VALUE=DURATION:PT1H
X-Robots-Tag:noindex
X-PUBLISHED-TTL:PT1H
BEGIN:VTIMEZONE
TZID:America/New_York
BEGIN:DAYLIGHT
TZOFFSETFROM:-0500
TZOFFSETTO:-0400
TZNAME:EDT
DTSTART:20250309T070000
END:DAYLIGHT
BEGIN:STANDARD
TZOFFSETFROM:-0400
TZOFFSETTO:-0500
TZNAME:EST
DTSTART:20251102T060000
END:STANDARD
BEGIN:DAYLIGHT
TZOFFSETFROM:-0500
TZOFFSETTO:-0400
TZNAME:EDT
DTSTART:20260308T070000
END:DAYLIGHT
BEGIN:STANDARD
TZOFFSETFROM:-0400
TZOFFSETTO:-0500
TZNAME:EST
DTSTART:20261101T060000
END:STANDARD
BEGIN:DAYLIGHT
TZOFFSETFROM:-0500
TZOFFSETTO:-0400
TZNAME:EDT
DTSTART:20270314T070000
END:DAYLIGHT
BEGIN:STANDARD
TZOFFSETFROM:-0400
TZOFFSETTO:-0500
TZNAME:EST
DTSTART:20271107T060000
END:STANDARD
END:VTIMEZONE
BEGIN:VEVENT
DTSTART;TZID=America/New_York:20260212T090000
DTEND;TZID=America/New_York:20260213T160000
DTSTAMP:20260422T231613
CREATED:20260208T202722Z
LAST-MODIFIED:20260208T202722Z
UID:10035942-1770886800-1770998400@metroatlantaexchange.org
SUMMARY:All Ways Caring HomeCare: Love Your Career Hiring Event
DESCRIPTION:All Ways Caring HomeCare is hosting a Love Your Career Hiring Event on Thursday\, February 12th and Friday\, February 13th\, from 9:00 AM to 4:00 PM\, at All Ways Caring HomeCare. \nAll Ways Caring HomeCare is seeking Caregivers. Enjoy on-the-spot interviews and job offers while you meet with the team and learn how you can make a difference. \nClick here to learn more and register.
URL:https://metroatlantaexchange.org/event/all-ways-caring-homecare-love-your-career-hiring-event/
LOCATION:All Ways Caring HomeCare (Martinez)\, 3726 Executive Center Drive\, Martinez\, GA\, 30907\, United States
CATEGORIES:In-Person Event,Job Seeker
END:VEVENT
BEGIN:VEVENT
DTSTART;TZID=America/New_York:20260213T110000
DTEND;TZID=America/New_York:20260213T140000
DTSTAMP:20260422T231613
CREATED:20260202T234045Z
LAST-MODIFIED:20260202T234124Z
UID:10035917-1770980400-1770991200@metroatlantaexchange.org
SUMMARY:Goodwill of North Georgia: Department of Corrections Hiring Event
DESCRIPTION:Goodwill of North Georgia is hosting a Department of Corrections Hiring Event every Friday\, from 11:00 AM to 2:00 PM\, at the Stockbridge Career Center. \nFor more information\, call 678-514-0670. \nClick here to learn more and register.
URL:https://metroatlantaexchange.org/event/goodwill-of-north-georgia-department-of-corrections-hiring-event-2/2026-02-13/
LOCATION:Goodwill Stockbridge\, 3871 Highway 138\, SE\, Stockbridge\, 30281\, United States
CATEGORIES:In-Person Event,Job Seeker
END:VEVENT
END:VCALENDAR