BEGIN:VCALENDAR
VERSION:2.0
PRODID:-//MAX - ECPv6.15.17.1//NONSGML v1.0//EN
CALSCALE:GREGORIAN
METHOD:PUBLISH
X-ORIGINAL-URL:https://metroatlantaexchange.org
X-WR-CALDESC:Events for MAX
REFRESH-INTERVAL;VALUE=DURATION:PT1H
X-Robots-Tag:noindex
X-PUBLISHED-TTL:PT1H
BEGIN:VTIMEZONE
TZID:America/New_York
BEGIN:DAYLIGHT
TZOFFSETFROM:-0500
TZOFFSETTO:-0400
TZNAME:EDT
DTSTART:20250309T070000
END:DAYLIGHT
BEGIN:STANDARD
TZOFFSETFROM:-0400
TZOFFSETTO:-0500
TZNAME:EST
DTSTART:20251102T060000
END:STANDARD
BEGIN:DAYLIGHT
TZOFFSETFROM:-0500
TZOFFSETTO:-0400
TZNAME:EDT
DTSTART:20260308T070000
END:DAYLIGHT
BEGIN:STANDARD
TZOFFSETFROM:-0400
TZOFFSETTO:-0500
TZNAME:EST
DTSTART:20261101T060000
END:STANDARD
BEGIN:DAYLIGHT
TZOFFSETFROM:-0500
TZOFFSETTO:-0400
TZNAME:EDT
DTSTART:20270314T070000
END:DAYLIGHT
BEGIN:STANDARD
TZOFFSETFROM:-0400
TZOFFSETTO:-0500
TZNAME:EST
DTSTART:20271107T060000
END:STANDARD
END:VTIMEZONE
BEGIN:VEVENT
DTSTART;TZID=America/New_York:20260225T090000
DTEND;TZID=America/New_York:20260225T100000
DTSTAMP:20260423T010209
CREATED:20250902T220734Z
LAST-MODIFIED:20250902T220734Z
UID:10035272-1772010000-1772013600@metroatlantaexchange.org
SUMMARY:Goodwill of North Georgia: NorthStar Testing Session
DESCRIPTION:Goodwill of North Georgia is hosting a NorthStar Testing Session every Wednesday\, from 9:00 AM to 10:00 AM\, at the Woodstock Career Center. \nFor more information\, call 770-874-0901. \nClick here to learn more and register.
URL:https://metroatlantaexchange.org/event/goodwill-of-north-georgia-northstar-testing-session/2026-02-25/
LOCATION:Goodwill of North Georgia – Woodstock Career Center\, 9425 Highway 92\, Woodstock\, GA\, 30188\, United States
CATEGORIES:Career Development,In-Person Event,Job Seeker
GEO:34.0872637;-84.5325399
X-APPLE-STRUCTURED-LOCATION;VALUE=URI;X-ADDRESS=Goodwill of North Georgia – Woodstock Career Center 9425 Highway 92 Woodstock GA 30188 United States;X-APPLE-RADIUS=500;X-TITLE=9425 Highway 92:geo:-84.5325399,34.0872637
END:VEVENT
BEGIN:VEVENT
DTSTART;TZID=America/New_York:20260225T090000
DTEND;TZID=America/New_York:20260225T143000
DTSTAMP:20260423T010209
CREATED:20260208T210046Z
LAST-MODIFIED:20260208T210046Z
UID:10035957-1772010000-1772029800@metroatlantaexchange.org
SUMMARY:Northside Hospital: Choice+ Practice Hiring Event
DESCRIPTION:Northside Hospital is hosting a Choice+ Practice Hiring Event on Wednesday\, February 25th\, from 9:00 AM to 2:30 PM\, at the Interchange Building. \nNorthside Hospital invites you to attend this upcoming event and discover exciting Medical Assistant and Temp Non-Clinical Support Staff opportunities. Meet the team\, learn about Northside\, and take the next step in your career with on-the-spot interviews and potential same-day job offers. \nClick here to learn more and register.
URL:https://metroatlantaexchange.org/event/northside-hospital-choice-practice-hiring-event/
LOCATION:Northside Hospital-Interchange Building\, 5780 Peachtree Dunwoody Road\, Atlanta\, GA\, 30342\, United States
CATEGORIES:In-Person Event,Job Seeker
END:VEVENT
BEGIN:VEVENT
DTSTART;TZID=America/New_York:20260225T100000
DTEND;TZID=America/New_York:20260225T130000
DTSTAMP:20260423T010209
CREATED:20260208T210459Z
LAST-MODIFIED:20260208T210459Z
UID:10035958-1772013600-1772024400@metroatlantaexchange.org
SUMMARY:Goodwill of North Georgia: Drive Your Career Forward Transportation Hiring Event
DESCRIPTION:Goodwill of North Georgia is hosting a Drive Your Career Forward Transportation Hiring Event on Wednesday\, February 25th\, from 10:00 AM to 1:00 PM\, at the Decatur Career Center. \nFor more information\, call 404-554-9600. \nClick here to learn more and register.
URL:https://metroatlantaexchange.org/event/goodwill-of-north-georgia-drive-your-career-forward-transportation-hiring-event/
LOCATION:Goodwill of North Georgia – Decatur Career Center\, 2201 Lawrenceville Highway\, Suite 200\, Decatur\, GA\, 30033\, United States
CATEGORIES:In-Person Event,Job Seeker
GEO:33.8114213;-84.2699313
X-APPLE-STRUCTURED-LOCATION;VALUE=URI;X-ADDRESS=Goodwill of North Georgia – Decatur Career Center 2201 Lawrenceville Highway Suite 200 Decatur GA 30033 United States;X-APPLE-RADIUS=500;X-TITLE=2201 Lawrenceville Highway\, Suite 200:geo:-84.2699313,33.8114213
END:VEVENT
BEGIN:VEVENT
DTSTART;TZID=America/New_York:20260225T100000
DTEND;TZID=America/New_York:20260225T130000
DTSTAMP:20260423T010209
CREATED:20260208T211252Z
LAST-MODIFIED:20260208T211252Z
UID:10035959-1772013600-1772024400@metroatlantaexchange.org
SUMMARY:Goodwill of North Georgia: Unitus Security Hiring Event
DESCRIPTION:Goodwill of North Georgia is hosting a Unitus Security Hiring Event on Wednesday\, February 25th\, from 10:00 AM to 1:00 PM\, at the Metropolitan Parkway Career Center. \nFor more information\, call 770-795-4204. \nClick here to learn more and register.
URL:https://metroatlantaexchange.org/event/goodwill-of-north-georgia-unitus-security-hiring-event-3/
LOCATION:Goodwill of North Georgia – Metropolitan Parkway Career Center\, 2160 Metropolitan Parkway\, Atlanta\, GA\, 30315\, United States
CATEGORIES:In-Person Event,Job Seeker
END:VEVENT
BEGIN:VEVENT
DTSTART;TZID=America/New_York:20260225T100000
DTEND;TZID=America/New_York:20260225T140000
DTSTAMP:20260423T010209
CREATED:20260208T201250Z
LAST-MODIFIED:20260208T201250Z
UID:10035938-1772013600-1772028000@metroatlantaexchange.org
SUMMARY:Goodwill of North Georgia: SIMOS Hiring Event
DESCRIPTION:Goodwill of North Georgia is hosting a SIMOS Hiring Event every Wednesday\, from 10:00 AM to 2:00 PM\, at the Oakwood Career Center. \nFor more information\, call 770-538-4209. \nClick here to learn more and register.
URL:https://metroatlantaexchange.org/event/goodwill-of-north-georgia-simos-hiring-event-2/2026-02-25/
LOCATION:Goodwill of North Georgia – Oakwood Career Center\, 3715 Mundy Mill Road\, Oakwood\, GA\, 30566\, United States
CATEGORIES:In-Person Event,Job Seeker
GEO:34.2290795;-83.8701636
X-APPLE-STRUCTURED-LOCATION;VALUE=URI;X-ADDRESS=Goodwill of North Georgia – Oakwood Career Center 3715 Mundy Mill Road Oakwood GA 30566 United States;X-APPLE-RADIUS=500;X-TITLE=3715 Mundy Mill Road:geo:-83.8701636,34.2290795
END:VEVENT
END:VCALENDAR