BEGIN:VCALENDAR
VERSION:2.0
PRODID:-//MAX - ECPv6.15.17.1//NONSGML v1.0//EN
CALSCALE:GREGORIAN
METHOD:PUBLISH
X-ORIGINAL-URL:https://metroatlantaexchange.org
X-WR-CALDESC:Events for MAX
REFRESH-INTERVAL;VALUE=DURATION:PT1H
X-Robots-Tag:noindex
X-PUBLISHED-TTL:PT1H
BEGIN:VTIMEZONE
TZID:America/New_York
BEGIN:DAYLIGHT
TZOFFSETFROM:-0500
TZOFFSETTO:-0400
TZNAME:EDT
DTSTART:20250309T070000
END:DAYLIGHT
BEGIN:STANDARD
TZOFFSETFROM:-0400
TZOFFSETTO:-0500
TZNAME:EST
DTSTART:20251102T060000
END:STANDARD
BEGIN:DAYLIGHT
TZOFFSETFROM:-0500
TZOFFSETTO:-0400
TZNAME:EDT
DTSTART:20260308T070000
END:DAYLIGHT
BEGIN:STANDARD
TZOFFSETFROM:-0400
TZOFFSETTO:-0500
TZNAME:EST
DTSTART:20261101T060000
END:STANDARD
BEGIN:DAYLIGHT
TZOFFSETFROM:-0500
TZOFFSETTO:-0400
TZNAME:EDT
DTSTART:20270314T070000
END:DAYLIGHT
BEGIN:STANDARD
TZOFFSETFROM:-0400
TZOFFSETTO:-0500
TZNAME:EST
DTSTART:20271107T060000
END:STANDARD
END:VTIMEZONE
BEGIN:VEVENT
DTSTART;TZID=America/New_York:20260313T100000
DTEND;TZID=America/New_York:20260313T150000
DTSTAMP:20260422T191933
CREATED:20260310T182920Z
LAST-MODIFIED:20260310T182920Z
UID:10035981-1773396000-1773414000@metroatlantaexchange.org
SUMMARY:Georgia Urology: Hiring Event
DESCRIPTION:Georgia Urology is hosting a Hiring Event on Friday\, March 13th\, from 10:00 AM to 3:00 PM\, at Georgia Urology. \nAre you passionate about helping patients and making a difference in their healthcare journey? Georgia Urology is hosting a Hiring Event for Patient Support Center Representatives (PSC Reps) to join a fast-paced\, patient-focused team. Parking is available in the surface lot\, please park there towards the back/bottom level and we will validate your parking. You may bring your resume\, but it is not required. \nClick here to learn more and register.
URL:https://metroatlantaexchange.org/event/georgia-urology-hiring-event/
LOCATION:Georgia Urology\, 1200 Lake Hearn Drive\, NE\, Sandy Springs\, GA\, 30319\, United States
CATEGORIES:In-Person Event,Job Seeker
END:VEVENT
BEGIN:VEVENT
DTSTART;TZID=America/New_York:20260313T110000
DTEND;TZID=America/New_York:20260313T140000
DTSTAMP:20260422T191933
CREATED:20260310T183100Z
LAST-MODIFIED:20260310T183127Z
UID:10035982-1773399600-1773410400@metroatlantaexchange.org
SUMMARY:Goodwill of North Georgia: Department of Corrections Hiring Event
DESCRIPTION:Goodwill of North Georgia is hosting a Department of Corrections Hiring Event every Friday\, from 11:00 AM to 2:00 PM\, at the Stockbridge Career Center. \nFor more information\, call 678-514-0670. \nClick here to learn more and register.
URL:https://metroatlantaexchange.org/event/goodwill-of-north-georgia-department-of-corrections-hiring-event-11/2026-03-13/
LOCATION:Goodwill Stockbridge\, 3871 Highway 138\, SE\, Stockbridge\, 30281\, United States
CATEGORIES:In-Person Event,Job Seeker
END:VEVENT
END:VCALENDAR