BEGIN:VCALENDAR
VERSION:2.0
PRODID:-//MAX - ECPv6.15.17.1//NONSGML v1.0//EN
CALSCALE:GREGORIAN
METHOD:PUBLISH
X-WR-CALNAME:MAX
X-ORIGINAL-URL:https://metroatlantaexchange.org
X-WR-CALDESC:Events for MAX
REFRESH-INTERVAL;VALUE=DURATION:PT1H
X-Robots-Tag:noindex
X-PUBLISHED-TTL:PT1H
BEGIN:VTIMEZONE
TZID:America/New_York
BEGIN:DAYLIGHT
TZOFFSETFROM:-0500
TZOFFSETTO:-0400
TZNAME:EDT
DTSTART:20250309T070000
END:DAYLIGHT
BEGIN:STANDARD
TZOFFSETFROM:-0400
TZOFFSETTO:-0500
TZNAME:EST
DTSTART:20251102T060000
END:STANDARD
BEGIN:DAYLIGHT
TZOFFSETFROM:-0500
TZOFFSETTO:-0400
TZNAME:EDT
DTSTART:20260308T070000
END:DAYLIGHT
BEGIN:STANDARD
TZOFFSETFROM:-0400
TZOFFSETTO:-0500
TZNAME:EST
DTSTART:20261101T060000
END:STANDARD
BEGIN:DAYLIGHT
TZOFFSETFROM:-0500
TZOFFSETTO:-0400
TZNAME:EDT
DTSTART:20270314T070000
END:DAYLIGHT
BEGIN:STANDARD
TZOFFSETFROM:-0400
TZOFFSETTO:-0500
TZNAME:EST
DTSTART:20271107T060000
END:STANDARD
END:VTIMEZONE
BEGIN:VEVENT
DTSTART;TZID=America/New_York:20260324T100000
DTEND;TZID=America/New_York:20260324T120000
DTSTAMP:20260422T231546
CREATED:20260310T192107Z
LAST-MODIFIED:20260310T192107Z
UID:10036012-1774346400-1774353600@metroatlantaexchange.org
SUMMARY:Goodwill of North Georgia: Multi-Business Job Fair
DESCRIPTION:Goodwill of North Georgia is hosting a Multi-Business Job Fair on Tuesday\, March 24th\, from 10:00 AM to 12:00 PM\, at the Cartersville Career Center. \nFor more information\, call 770-276-7036. \nClick here to learn more and register.
URL:https://metroatlantaexchange.org/event/goodwill-of-north-georgia-multi-business-job-fair-2/
LOCATION:Goodwill of North Georgia – Cartersville Career Center\, 929 Joe Frank Harris Parkway\, Cartersville\, GA\, 30120\, United States
CATEGORIES:In-Person Event,Job Seeker
GEO:34.1974793;-84.7941559
X-APPLE-STRUCTURED-LOCATION;VALUE=URI;X-ADDRESS=Goodwill of North Georgia – Cartersville Career Center 929 Joe Frank Harris Parkway Cartersville GA 30120 United States;X-APPLE-RADIUS=500;X-TITLE=929 Joe Frank Harris Parkway:geo:-84.7941559,34.1974793
END:VEVENT
BEGIN:VEVENT
DTSTART;TZID=America/New_York:20260324T100000
DTEND;TZID=America/New_York:20260324T120000
DTSTAMP:20260422T231546
CREATED:20260310T192448Z
LAST-MODIFIED:20260310T192448Z
UID:10036013-1774346400-1774353600@metroatlantaexchange.org
SUMMARY:Schneider: Truck Driver and Owner-Operator Recruiting Event
DESCRIPTION:Schneider is hosting a Truck Driver and Owner-Operator Recruiting Event on Tuesday\, March 24th\, from 10:00 AM to 1:00 PM\, at Southern Crescent. \nWhether you’re an experienced driver ready for a change or just starting your trucking journey\, this recruiting event is designed with you in mind. Stop by for a casual\, no-pressure conversation where you can ask questions\, explore opportunities and get the information you need to make your next move. Your local recruiter will be available to discuss company driving jobs and owner-operator contracting jobs across our portfolio of companies: Schneider\, Midwest Logistics Systems\, Cowan Systems and M&M Transport Services. \nClick here to learn more and register.
URL:https://metroatlantaexchange.org/event/schneider-truck-driver-and-owner-operator-recruiting-event-31/
LOCATION:Southern Crescent – Griffin\, 501 Varsity Road\, Griffin\, GA\, 30223\, United States
CATEGORIES:In-Person Event,Job Seeker
END:VEVENT
BEGIN:VEVENT
DTSTART;TZID=America/New_York:20260324T100000
DTEND;TZID=America/New_York:20260324T130000
DTSTAMP:20260422T231546
CREATED:20260310T191955Z
LAST-MODIFIED:20260310T191955Z
UID:10036011-1774346400-1774357200@metroatlantaexchange.org
SUMMARY:Goodwill of North Georgia: Job Fair
DESCRIPTION:Goodwill of North Georgia is hosting a Job Fair on Tuesday\, March 24th\, from 10:00 AM to 1:00 PM\, at the Cornelia Career Center. \nFor more information\, call 706-894-4905. \nClick here to learn more and register.
URL:https://metroatlantaexchange.org/event/goodwill-of-north-georgia-job-fair-13/
LOCATION:Goodwill of North Georgia – Cornelia Career Center\, 308 Habersham Hills Circle\, Cornelia\, GA\, 30531\, United States
CATEGORIES:In-Person Event,Job Seeker
END:VEVENT
END:VCALENDAR