BEGIN:VCALENDAR
VERSION:2.0
PRODID:-//MAX - ECPv6.15.17.1//NONSGML v1.0//EN
CALSCALE:GREGORIAN
METHOD:PUBLISH
X-ORIGINAL-URL:https://metroatlantaexchange.org
X-WR-CALDESC:Events for MAX
REFRESH-INTERVAL;VALUE=DURATION:PT1H
X-Robots-Tag:noindex
X-PUBLISHED-TTL:PT1H
BEGIN:VTIMEZONE
TZID:America/New_York
BEGIN:DAYLIGHT
TZOFFSETFROM:-0500
TZOFFSETTO:-0400
TZNAME:EDT
DTSTART:20250309T070000
END:DAYLIGHT
BEGIN:STANDARD
TZOFFSETFROM:-0400
TZOFFSETTO:-0500
TZNAME:EST
DTSTART:20251102T060000
END:STANDARD
BEGIN:DAYLIGHT
TZOFFSETFROM:-0500
TZOFFSETTO:-0400
TZNAME:EDT
DTSTART:20260308T070000
END:DAYLIGHT
BEGIN:STANDARD
TZOFFSETFROM:-0400
TZOFFSETTO:-0500
TZNAME:EST
DTSTART:20261101T060000
END:STANDARD
BEGIN:DAYLIGHT
TZOFFSETFROM:-0500
TZOFFSETTO:-0400
TZNAME:EDT
DTSTART:20270314T070000
END:DAYLIGHT
BEGIN:STANDARD
TZOFFSETFROM:-0400
TZOFFSETTO:-0500
TZNAME:EST
DTSTART:20271107T060000
END:STANDARD
END:VTIMEZONE
BEGIN:VEVENT
DTSTART;TZID=America/New_York:20260408T090000
DTEND;TZID=America/New_York:20260408T100000
DTSTAMP:20260422T211058
CREATED:20250902T220734Z
LAST-MODIFIED:20250902T220734Z
UID:10035278-1775638800-1775642400@metroatlantaexchange.org
SUMMARY:Goodwill of North Georgia: NorthStar Testing Session
DESCRIPTION:Goodwill of North Georgia is hosting a NorthStar Testing Session every Wednesday\, from 9:00 AM to 10:00 AM\, at the Woodstock Career Center. \nFor more information\, call 770-874-0901. \nClick here to learn more and register.
URL:https://metroatlantaexchange.org/event/goodwill-of-north-georgia-northstar-testing-session/2026-04-08/
LOCATION:Goodwill of North Georgia – Woodstock Career Center\, 9425 Highway 92\, Woodstock\, GA\, 30188\, United States
CATEGORIES:Career Development,In-Person Event,Job Seeker
GEO:34.0872637;-84.5325399
X-APPLE-STRUCTURED-LOCATION;VALUE=URI;X-ADDRESS=Goodwill of North Georgia – Woodstock Career Center 9425 Highway 92 Woodstock GA 30188 United States;X-APPLE-RADIUS=500;X-TITLE=9425 Highway 92:geo:-84.5325399,34.0872637
END:VEVENT
BEGIN:VEVENT
DTSTART;TZID=America/New_York:20260408T090000
DTEND;TZID=America/New_York:20260408T150000
DTSTAMP:20260422T211058
CREATED:20260406T192750Z
LAST-MODIFIED:20260406T192750Z
UID:10036144-1775638800-1775660400@metroatlantaexchange.org
SUMMARY:Goodwill of North Georgia: Supply Chain Management Skills Orientation
DESCRIPTION:Goodwill of North Georgia is hosting a Supply Chain Management Skills Orientation on Wednesday\, April 8th and Thursday\, April 9th\, from 9:00 AM to 3:00 PM\, at the Old National Career Center. \nFor more information\, call 678-554-0412. Click here to learn more and register.
URL:https://metroatlantaexchange.org/event/goodwill-of-north-georgia-supply-chain-management-skills-orientation/2026-04-08/
LOCATION:Goodwill of North Georgia – Old National Career Center\, 6175 Old National Highway\, Suite 120\, Atlanta\, GA\, 30349\, United States
CATEGORIES:Career Development,In-Person Event,Job Seeker
END:VEVENT
BEGIN:VEVENT
DTSTART;TZID=America/New_York:20260408T093000
DTEND;TZID=America/New_York:20260408T120000
DTSTAMP:20260422T211058
CREATED:20260406T185743Z
LAST-MODIFIED:20260406T185743Z
UID:10036116-1775640600-1775649600@metroatlantaexchange.org
SUMMARY:DeKalb County Public Library: GED Study Time
DESCRIPTION:The DeKalb County Public Library hosts GED Study Time every Monday and Wednesday\, from 10:00 AM to 1:00 PM\, at the Stonecrest Library. \nThe library will have a dedicated study space for those wishing to study for the GED. Chromebooks will be available during all sessions as well as an in-person tutor from Georgia Piedmont College. \nClick here to learn more.
URL:https://metroatlantaexchange.org/event/dekalb-county-public-library-ged-study-time/2026-04-08/
LOCATION:Stonecrest Public Library\, 3123 Klondike Road\, Lithonia\, GA\, 30038\, United States
CATEGORIES:Career Development,In-Person Event
GEO:33.694361;-84.1097277
X-APPLE-STRUCTURED-LOCATION;VALUE=URI;X-ADDRESS=Stonecrest Public Library 3123 Klondike Road Lithonia GA 30038 United States;X-APPLE-RADIUS=500;X-TITLE=3123 Klondike Road:geo:-84.1097277,33.694361
END:VEVENT
BEGIN:VEVENT
DTSTART;TZID=America/New_York:20260408T100000
DTEND;TZID=America/New_York:20260408T130000
DTSTAMP:20260422T211058
CREATED:20260406T145752Z
LAST-MODIFIED:20260406T145752Z
UID:10036047-1775642400-1775653200@metroatlantaexchange.org
SUMMARY:Goodwill of North Georgia: EKG Security Hiring Event
DESCRIPTION:Goodwill of North Georgia is hosting an EKG Security Hiring Event on Wednesday\, April 8th\, from 10:00 AM to 1:00 PM\, at the Woodstock Career Center. \nFor more information\, call 770-874-0901. \nClick here to learn more and register.
URL:https://metroatlantaexchange.org/event/goodwill-of-north-georgia-ekg-security-hiring-event/
LOCATION:Goodwill of North Georgia – Woodstock Career Center\, 9425 Highway 92\, Woodstock\, GA\, 30188\, United States
CATEGORIES:In-Person Event,Job Seeker
GEO:34.0872637;-84.5325399
X-APPLE-STRUCTURED-LOCATION;VALUE=URI;X-ADDRESS=Goodwill of North Georgia – Woodstock Career Center 9425 Highway 92 Woodstock GA 30188 United States;X-APPLE-RADIUS=500;X-TITLE=9425 Highway 92:geo:-84.5325399,34.0872637
END:VEVENT
BEGIN:VEVENT
DTSTART;TZID=America/New_York:20260408T100000
DTEND;TZID=America/New_York:20260408T130000
DTSTAMP:20260422T211058
CREATED:20260406T150136Z
LAST-MODIFIED:20260406T150136Z
UID:10036049-1775642400-1775653200@metroatlantaexchange.org
SUMMARY:Goodwill of North Georgia: Multi-Industry Job Fair
DESCRIPTION:Goodwill of North Georgia is hosting a Multi-Industry Job Fair on Wednesday\, April 8th\, from 10:00 AM to 1:00 PM\, at the Decatur Career Center. \nFor more information\, call 404-554-9600. \nClick here to learn more and register.
URL:https://metroatlantaexchange.org/event/goodwill-of-north-georgia-multi-industry-job-fair-8/
LOCATION:Goodwill of North Georgia – Decatur Career Center\, 2201 Lawrenceville Highway\, Suite 200\, Decatur\, GA\, 30033\, United States
CATEGORIES:In-Person Event,Job Seeker
GEO:33.8114213;-84.2699313
X-APPLE-STRUCTURED-LOCATION;VALUE=URI;X-ADDRESS=Goodwill of North Georgia – Decatur Career Center 2201 Lawrenceville Highway Suite 200 Decatur GA 30033 United States;X-APPLE-RADIUS=500;X-TITLE=2201 Lawrenceville Highway\, Suite 200:geo:-84.2699313,33.8114213
END:VEVENT
BEGIN:VEVENT
DTSTART;TZID=America/New_York:20260408T100000
DTEND;TZID=America/New_York:20260408T140000
DTSTAMP:20260422T211058
CREATED:20260406T145914Z
LAST-MODIFIED:20260406T145914Z
UID:10036048-1775642400-1775656800@metroatlantaexchange.org
SUMMARY:Goodwill of North Georgia: Lexx Homecare Hiring Event
DESCRIPTION:Goodwill of North Georgia is hosting a Lexx Homecare Hiring Event on Wednesday\, April 8th\, from 10:00 AM to 2:00 PM\, at the Rome Career Center. \nOpen positions include Caregivers\, Certified Nursing Assistants and more. \nFor more information\, call 706-292-3304. \nClick here to learn more and register.
URL:https://metroatlantaexchange.org/event/goodwill-of-north-georgia-lexx-homecare-hiring-event/
LOCATION:Goodwill of North Georgia – Rome Career Center\, 154 Hicks Drive\, Rome\, 30161
CATEGORIES:In-Person Event,Job Seeker
END:VEVENT
BEGIN:VEVENT
DTSTART;TZID=America/New_York:20260408T100000
DTEND;TZID=America/New_York:20260408T140000
DTSTAMP:20260422T211058
CREATED:20260406T150256Z
LAST-MODIFIED:20260406T150256Z
UID:10036050-1775642400-1775656800@metroatlantaexchange.org
SUMMARY:Goodwill of North Georgia: SIMOS Hiring Event
DESCRIPTION:Goodwill of North Georgia is hosting a SIMOS Hiring Event on Wednesday\, April 8th\, from 10:00 AM to 2:00 PM\, at the Oakwood Career Center. \nFor more information\, call 770-538-4209. \nClick here to learn more and register.
URL:https://metroatlantaexchange.org/event/goodwill-of-north-georgia-simos-hiring-event-3/
LOCATION:Goodwill of North Georgia – Oakwood Career Center\, 3715 Mundy Mill Road\, Oakwood\, GA\, 30566\, United States
CATEGORIES:In-Person Event,Job Seeker
GEO:34.2290795;-83.8701636
X-APPLE-STRUCTURED-LOCATION;VALUE=URI;X-ADDRESS=Goodwill of North Georgia – Oakwood Career Center 3715 Mundy Mill Road Oakwood GA 30566 United States;X-APPLE-RADIUS=500;X-TITLE=3715 Mundy Mill Road:geo:-83.8701636,34.2290795
END:VEVENT
BEGIN:VEVENT
DTSTART;TZID=America/New_York:20260408T103000
DTEND;TZID=America/New_York:20260408T110000
DTSTAMP:20260422T211058
CREATED:20260406T193002Z
LAST-MODIFIED:20260406T193002Z
UID:10036146-1775644200-1775646000@metroatlantaexchange.org
SUMMARY:Clayton County Library System: One-on-One Tech Class
DESCRIPTION:The Clayton County Library System hosts One-on-One Tech classes on Wednesdays\, from 10:30 AM to 11:00 AM\, at the Riverdale Branch. \nWork one-on-one with a librarian to explore your Pines account\, access online databases\, and use Microsoft Word. Bring your device for personalized help. \nClick here to register.
URL:https://metroatlantaexchange.org/event/clayton-county-library-system-one-on-one-tech-class/2026-04-08/
LOCATION:Clayton County Public Library – Riverdale\, 420 Valley Hill Road\, Riverdale\, GA\, 30274\, United States
CATEGORIES:Career Development,In-Person Event,Job Seeker
GEO:33.5701123;-84.4039771
X-APPLE-STRUCTURED-LOCATION;VALUE=URI;X-ADDRESS=Clayton County Public Library – Riverdale 420 Valley Hill Road Riverdale GA 30274 United States;X-APPLE-RADIUS=500;X-TITLE=420 Valley Hill Road:geo:-84.4039771,33.5701123
END:VEVENT
BEGIN:VEVENT
DTSTART;TZID=America/New_York:20260408T103000
DTEND;TZID=America/New_York:20260408T113000
DTSTAMP:20260422T211058
CREATED:20260406T193423Z
LAST-MODIFIED:20260406T193552Z
UID:10036154-1775644200-1775647800@metroatlantaexchange.org
SUMMARY:Goodwill of North Georgia: In-Person Interview Lab
DESCRIPTION:Goodwill of North Georgia\, in partnership with the @Promise Center\, is hosting an In-Person Interview Lab on Wednesdays\, from 10:30 AM to 11:30 AM\, at the @Promise Center. \nThis class is geared towards participants ages 16 to 24 years old. You must be registered with @promise to attend. \nClick here to register.
URL:https://metroatlantaexchange.org/event/goodwill-of-north-georgia-in-person-interview-lab/2026-04-08/
LOCATION:@Promise Center (MLK)\, 2175 Martin Luther King Jr. SW\, Atlanta\, 30310\, United States
CATEGORIES:Career Development,In-Person Event,Job Seeker
END:VEVENT
BEGIN:VEVENT
DTSTART;TZID=America/New_York:20260408T140000
DTEND;TZID=America/New_York:20260408T160000
DTSTAMP:20260422T211058
CREATED:20260406T193800Z
LAST-MODIFIED:20260406T193800Z
UID:10036162-1775656800-1775664000@metroatlantaexchange.org
SUMMARY:Gwinnett County Public Library System: Professional Podcast Equipment Training Learning Lab
DESCRIPTION:The Gwinnett County Public Library System is hosting a Professional Podcast Equipment Training Learning Lab on Wednesday\, April 8th\, from 2:00 PM to 4:00 PM\, at the Lilburn Branch. \nWant to get into the podcasting business? Get started by learning how to use the video and audio equipment at the Lilburn Recording Studio! In this program\, the basics will be covered on how to use the equipment in the Lilburn Recording Studio to start your journey as a professional podcaster! You will learn the Rodecaster\, microphones\, camera\, lighting\, and the OBS software. \nClick here to learn more and register.
URL:https://metroatlantaexchange.org/event/gwinnett-county-public-library-system-professional-podcast-equipment-training-learning-lab/
LOCATION:Gwinnett County Public Library – Lilburn Branch\, 4817 Church Street\, NW\, Lilburn\, 30047
CATEGORIES:Career Development,In-Person Event,Job Seeker
END:VEVENT
END:VCALENDAR