BEGIN:VCALENDAR
VERSION:2.0
PRODID:-//MAX - ECPv6.15.17.1//NONSGML v1.0//EN
CALSCALE:GREGORIAN
METHOD:PUBLISH
X-ORIGINAL-URL:https://metroatlantaexchange.org
X-WR-CALDESC:Events for MAX
REFRESH-INTERVAL;VALUE=DURATION:PT1H
X-Robots-Tag:noindex
X-PUBLISHED-TTL:PT1H
BEGIN:VTIMEZONE
TZID:America/New_York
BEGIN:DAYLIGHT
TZOFFSETFROM:-0500
TZOFFSETTO:-0400
TZNAME:EDT
DTSTART:20250309T070000
END:DAYLIGHT
BEGIN:STANDARD
TZOFFSETFROM:-0400
TZOFFSETTO:-0500
TZNAME:EST
DTSTART:20251102T060000
END:STANDARD
BEGIN:DAYLIGHT
TZOFFSETFROM:-0500
TZOFFSETTO:-0400
TZNAME:EDT
DTSTART:20260308T070000
END:DAYLIGHT
BEGIN:STANDARD
TZOFFSETFROM:-0400
TZOFFSETTO:-0500
TZNAME:EST
DTSTART:20261101T060000
END:STANDARD
BEGIN:DAYLIGHT
TZOFFSETFROM:-0500
TZOFFSETTO:-0400
TZNAME:EDT
DTSTART:20270314T070000
END:DAYLIGHT
BEGIN:STANDARD
TZOFFSETFROM:-0400
TZOFFSETTO:-0500
TZNAME:EST
DTSTART:20271107T060000
END:STANDARD
END:VTIMEZONE
BEGIN:VEVENT
DTSTART;TZID=America/New_York:20260409T090000
DTEND;TZID=America/New_York:20260409T150000
DTSTAMP:20260422T192518
CREATED:20260406T192750Z
LAST-MODIFIED:20260406T192750Z
UID:10036145-1775725200-1775746800@metroatlantaexchange.org
SUMMARY:Goodwill of North Georgia: Supply Chain Management Skills Orientation
DESCRIPTION:Goodwill of North Georgia is hosting a Supply Chain Management Skills Orientation on Wednesday\, April 8th and Thursday\, April 9th\, from 9:00 AM to 3:00 PM\, at the Old National Career Center. \nFor more information\, call 678-554-0412. Click here to learn more and register.
URL:https://metroatlantaexchange.org/event/goodwill-of-north-georgia-supply-chain-management-skills-orientation/2026-04-09/
LOCATION:Goodwill of North Georgia – Old National Career Center\, 6175 Old National Highway\, Suite 120\, Atlanta\, GA\, 30349\, United States
CATEGORIES:Career Development,In-Person Event,Job Seeker
END:VEVENT
BEGIN:VEVENT
DTSTART;TZID=America/New_York:20260409T090000
DTEND;TZID=America/New_York:20260409T160000
DTSTAMP:20260422T192518
CREATED:20260406T194243Z
LAST-MODIFIED:20260406T194243Z
UID:10036165-1775725200-1775750400@metroatlantaexchange.org
SUMMARY:Goodwill of North Georgia: Forklift Skills Orientation
DESCRIPTION:Goodwill of North Georgia is hosting a Forklift Skills Orientation on Thursday\, April 9th and Friday\, April 10th\, from 9:00 AM to 4:00 PM\, at the Smyrna Career Center. \nFor more information\, call 678-766-8173. \nClick here to learn more and register.
URL:https://metroatlantaexchange.org/event/goodwill-of-north-georgia-forklift-skills-orientation/2026-04-09/
LOCATION:Goodwill of North Georgia – Smyrna Career Center\, 3205 South Cobb Drive\, Smyrna\, GA\, 30080\, United States
CATEGORIES:Career Development,In-Person Event,Job Seeker
GEO:33.8769374;-84.5289443
X-APPLE-STRUCTURED-LOCATION;VALUE=URI;X-ADDRESS=Goodwill of North Georgia – Smyrna Career Center 3205 South Cobb Drive Smyrna GA 30080 United States;X-APPLE-RADIUS=500;X-TITLE=3205 South Cobb Drive:geo:-84.5289443,33.8769374
END:VEVENT
BEGIN:VEVENT
DTSTART;TZID=America/New_York:20260409T103000
DTEND;TZID=America/New_York:20260409T113000
DTSTAMP:20260422T192518
CREATED:20260406T194503Z
LAST-MODIFIED:20260406T194503Z
UID:10036167-1775730600-1775734200@metroatlantaexchange.org
SUMMARY:Goodwill of North Georgia: Typing Thursdays
DESCRIPTION:Goodwill of North Georgia is hosting Typing Thursdays every Thursday\, from 10:30 AM to 11:30 AM\, at the Rome Career Center. \nFor more information\, call 706-292-3304. \nClick here to learn more and register.
URL:https://metroatlantaexchange.org/event/goodwill-of-north-georgia-typing-thursdays/2026-04-09/
LOCATION:Goodwill of North Georgia – Rome Career Center\, 154 Hicks Drive\, Rome\, 30161
CATEGORIES:Career Development,In-Person Event,Job Seeker
END:VEVENT
BEGIN:VEVENT
DTSTART;TZID=America/New_York:20260409T140000
DTEND;TZID=America/New_York:20260409T160000
DTSTAMP:20260422T192518
CREATED:20260406T194930Z
LAST-MODIFIED:20260406T194930Z
UID:10036172-1775743200-1775750400@metroatlantaexchange.org
SUMMARY:Fulton County Library System: Tech Help
DESCRIPTION:The Fulton County Library System is hosting Tech Help on Thursdays\, from 2:00 PM to 4:00 PM\, at the Cleveland Avenue Branch. \nThis event will provide assistance with basic computer skills\, navigating websites\, resume templates\, or help with applying for job applications. Questions on other computer topics will be encouraged. This program is free and open to the public. \nClick here to learn more and register.
URL:https://metroatlantaexchange.org/event/fulton-county-library-system-tech-help/
LOCATION:Cleveland Avenue Branch\, 47 Cleveland Avenue\, Atlanta\, GA\, 30315\, United States
CATEGORIES:Career Development,In-Person Event,Job Seeker
END:VEVENT
END:VCALENDAR