BEGIN:VCALENDAR
VERSION:2.0
PRODID:-//MAX - ECPv6.15.17.1//NONSGML v1.0//EN
CALSCALE:GREGORIAN
METHOD:PUBLISH
X-ORIGINAL-URL:https://metroatlantaexchange.org
X-WR-CALDESC:Events for MAX
REFRESH-INTERVAL;VALUE=DURATION:PT1H
X-Robots-Tag:noindex
X-PUBLISHED-TTL:PT1H
BEGIN:VTIMEZONE
TZID:America/New_York
BEGIN:DAYLIGHT
TZOFFSETFROM:-0500
TZOFFSETTO:-0400
TZNAME:EDT
DTSTART:20250309T070000
END:DAYLIGHT
BEGIN:STANDARD
TZOFFSETFROM:-0400
TZOFFSETTO:-0500
TZNAME:EST
DTSTART:20251102T060000
END:STANDARD
BEGIN:DAYLIGHT
TZOFFSETFROM:-0500
TZOFFSETTO:-0400
TZNAME:EDT
DTSTART:20260308T070000
END:DAYLIGHT
BEGIN:STANDARD
TZOFFSETFROM:-0400
TZOFFSETTO:-0500
TZNAME:EST
DTSTART:20261101T060000
END:STANDARD
BEGIN:DAYLIGHT
TZOFFSETFROM:-0500
TZOFFSETTO:-0400
TZNAME:EDT
DTSTART:20270314T070000
END:DAYLIGHT
BEGIN:STANDARD
TZOFFSETFROM:-0400
TZOFFSETTO:-0500
TZNAME:EST
DTSTART:20271107T060000
END:STANDARD
END:VTIMEZONE
BEGIN:VEVENT
DTSTART;TZID=America/New_York:20260410T090000
DTEND;TZID=America/New_York:20260410T163000
DTSTAMP:20260422T191724
CREATED:20260408T212451Z
LAST-MODIFIED:20260408T212451Z
UID:10036230-1775811600-1775838600@metroatlantaexchange.org
SUMMARY:Georgia Center for Nonprofits: Deep Dive - Grant Writing Workshop
DESCRIPTION:The Georgia Center for Nonprofits is hosting a Deep Dive: Grant Writing Workshop on Friday\, April 10th\, from 9:00 AM to 4:30 PM\, at GCN Headquarters. \nGet a comprehensive overview and targeted practice in grant writing with this immersive\, full-day learning experience. You’ll get up-to-speed on all the fundamentals\, best practices\, and processes to follow while developing your in-progress project. Hands-on activities\, including small-group breakout sessions and self-paced exercises\, will give you experience in answering funders’ most-asked questions\, developing an effective budget\, identifying partners\, and more. By the end of this course\, you’ll be equipped with the skills to write compelling narratives that not only win awards\, but make for powerful\, persuasive fundraising conversations. \nClick here to learn more and register.
URL:https://metroatlantaexchange.org/event/georgia-center-for-nonprofits-deep-dive-grant-writing-workshop-2/
LOCATION:GCN Headquarters\, 881 Memorial Drive\, SE\, Atlanta\, GA\, 30316\, United States
CATEGORIES:In-Person Event,Workforce Developer
END:VEVENT
END:VCALENDAR