BEGIN:VCALENDAR
VERSION:2.0
PRODID:-//MAX - ECPv6.15.17.1//NONSGML v1.0//EN
CALSCALE:GREGORIAN
METHOD:PUBLISH
X-WR-CALNAME:MAX
X-ORIGINAL-URL:https://metroatlantaexchange.org
X-WR-CALDESC:Events for MAX
REFRESH-INTERVAL;VALUE=DURATION:PT1H
X-Robots-Tag:noindex
X-PUBLISHED-TTL:PT1H
BEGIN:VTIMEZONE
TZID:America/New_York
BEGIN:DAYLIGHT
TZOFFSETFROM:-0500
TZOFFSETTO:-0400
TZNAME:EDT
DTSTART:20250309T070000
END:DAYLIGHT
BEGIN:STANDARD
TZOFFSETFROM:-0400
TZOFFSETTO:-0500
TZNAME:EST
DTSTART:20251102T060000
END:STANDARD
BEGIN:DAYLIGHT
TZOFFSETFROM:-0500
TZOFFSETTO:-0400
TZNAME:EDT
DTSTART:20260308T070000
END:DAYLIGHT
BEGIN:STANDARD
TZOFFSETFROM:-0400
TZOFFSETTO:-0500
TZNAME:EST
DTSTART:20261101T060000
END:STANDARD
BEGIN:DAYLIGHT
TZOFFSETFROM:-0500
TZOFFSETTO:-0400
TZNAME:EDT
DTSTART:20270314T070000
END:DAYLIGHT
BEGIN:STANDARD
TZOFFSETFROM:-0400
TZOFFSETTO:-0500
TZNAME:EST
DTSTART:20271107T060000
END:STANDARD
END:VTIMEZONE
BEGIN:VEVENT
DTSTART;TZID=America/New_York:20260413T080000
DTEND;TZID=America/New_York:20260415T170000
DTSTAMP:20260422T191718
CREATED:20260409T143107Z
LAST-MODIFIED:20260409T143107Z
UID:10036251-1776067200-1776272400@metroatlantaexchange.org
SUMMARY:Jobs for the Future (JFF): ASU + GSV Summit 2026
DESCRIPTION:Jobs for the Future (JFF) is hosting the ASU + GSV Summit 2026 starting Monday\, April 13th through Wednesday\, April 15th\, at the Manchester Grand Hyatt – Bankers Hill Room. \nJobs for the Future (JFF) returns ready for three days of bold ideas\, practical insights\, and meaningful connections to advance the future of education and work. As a proud summit sponsor\, JFF is excited to reconnect with longtime collaborators and engage with trailblazers from across the learn-and-work ecosystem. This event will challenge assumptions\, surface breakthrough solutions\, and advance a future where opportunity has no limits\, and every learner and worker can navigate a clear\, supported pathway to success. \nClick here to learn more and register.
URL:https://metroatlantaexchange.org/event/jobs-for-the-future-jff-asu-gsv-summit-2026/
LOCATION:Manchester Grand Hyatt\, 1 Market Place\, San Diego\, CA\, 92101\, United States
CATEGORIES:Conferences,In-Person Event,Workforce Developer
END:VEVENT
BEGIN:VEVENT
DTSTART;TZID=America/New_York:20260413T093000
DTEND;TZID=America/New_York:20260413T120000
DTSTAMP:20260422T191718
CREATED:20260406T185743Z
LAST-MODIFIED:20260406T185743Z
UID:10036117-1776072600-1776081600@metroatlantaexchange.org
SUMMARY:DeKalb County Public Library: GED Study Time
DESCRIPTION:The DeKalb County Public Library hosts GED Study Time every Monday and Wednesday\, from 10:00 AM to 1:00 PM\, at the Stonecrest Library. \nThe library will have a dedicated study space for those wishing to study for the GED. Chromebooks will be available during all sessions as well as an in-person tutor from Georgia Piedmont College. \nClick here to learn more.
URL:https://metroatlantaexchange.org/event/dekalb-county-public-library-ged-study-time/2026-04-13/
LOCATION:Stonecrest Public Library\, 3123 Klondike Road\, Lithonia\, GA\, 30038\, United States
CATEGORIES:Career Development,In-Person Event
GEO:33.694361;-84.1097277
X-APPLE-STRUCTURED-LOCATION;VALUE=URI;X-ADDRESS=Stonecrest Public Library 3123 Klondike Road Lithonia GA 30038 United States;X-APPLE-RADIUS=500;X-TITLE=3123 Klondike Road:geo:-84.1097277,33.694361
END:VEVENT
BEGIN:VEVENT
DTSTART;TZID=America/New_York:20260413T093000
DTEND;TZID=America/New_York:20260413T150000
DTSTAMP:20260422T191718
CREATED:20260408T212750Z
LAST-MODIFIED:20260408T212750Z
UID:10036232-1776072600-1776092400@metroatlantaexchange.org
SUMMARY:Georgia Chamber of Commerce: Georgia Chamber Classic
DESCRIPTION:The Georgia Chamber of Commerce is hosting the Georgia Chamber Classic on Monday\, April 13th\, from 9:30 AM to 3:00 PM\, at TPC Sugarloaf – Duluth. \nJoin the Georgia Chamber of Commerce for an incredible day of competition and networking at TPC Sugarloaf in Duluth\, Georgia. The Georgia Chamber Classic Golf Tournament offers businesses an opportunity to engage and network over an enjoyable round of golf followed by a reception where winners are recognized in an array of categories. \nClick here to learn more and register.
URL:https://metroatlantaexchange.org/event/georgia-chamber-of-commerce-georgia-chamber-classic/
LOCATION:TPC Sugarloaf – Duluth\, 2595 Sugarloaf Club Drive\, Duluth\, GA\, 30097\, United States
CATEGORIES:In-Person Event,Workforce Developer
END:VEVENT
BEGIN:VEVENT
DTSTART;TZID=America/New_York:20260413T100000
DTEND;TZID=America/New_York:20260413T150000
DTSTAMP:20260422T191718
CREATED:20260406T201244Z
LAST-MODIFIED:20260406T201244Z
UID:10036179-1776074400-1776092400@metroatlantaexchange.org
SUMMARY:Goodwill of North Georgia: EVSE and SCM Skills Orientation
DESCRIPTION:Goodwill of North Georgia is hosting an EVSE and SCM Skills Orientation on Monday\, April 13th and Tuesday\, April 14th\, from 10:00 AM to 3:00 PM\, at the Decatur Career Center. \nFor more information\, call 404-554-9600. \nClick here to learn more and register.
URL:https://metroatlantaexchange.org/event/goodwill-of-north-georgia-evse-and-scm-skills-orientation/
LOCATION:Goodwill of North Georgia – Decatur Career Center\, 2201 Lawrenceville Highway\, Suite 200\, Decatur\, GA\, 30033\, United States
CATEGORIES:Career Development,In-Person Event,Job Seeker
GEO:33.8114213;-84.2699313
X-APPLE-STRUCTURED-LOCATION;VALUE=URI;X-ADDRESS=Goodwill of North Georgia – Decatur Career Center 2201 Lawrenceville Highway Suite 200 Decatur GA 30033 United States;X-APPLE-RADIUS=500;X-TITLE=2201 Lawrenceville Highway\, Suite 200:geo:-84.2699313,33.8114213
END:VEVENT
BEGIN:VEVENT
DTSTART;TZID=America/New_York:20260413T100000
DTEND;TZID=America/New_York:20260413T160000
DTSTAMP:20260422T191718
CREATED:20260406T201541Z
LAST-MODIFIED:20260406T201541Z
UID:10036181-1776074400-1776096000@metroatlantaexchange.org
SUMMARY:Goodwill of North Georgia: Supply Chain Management Skills Orientation
DESCRIPTION:Goodwill of North Georgia is hosting a Supply Chain Management Skills Orientation on Monday\, April 13th and Tuesday\, April 14th\, from 10:00 AM to 4:00 PM\, at the East Athens Career Center. \nFor more information\, call 706-395-1558. Click here to learn more and register.
URL:https://metroatlantaexchange.org/event/goodwill-of-north-georgia-supply-chain-management-skills-orientation-2/2026-04-13/
LOCATION:Goodwill of North Georgia – East Athens Career Center\, 4070 Lexington Road\, Athens\, GA\, 30605\, United States
CATEGORIES:Career Development,In-Person Event,Job Seeker
END:VEVENT
BEGIN:VEVENT
DTSTART;TZID=America/New_York:20260413T150000
DTEND;TZID=America/New_York:20260413T180000
DTSTAMP:20260422T191718
CREATED:20260406T152921Z
LAST-MODIFIED:20260406T152921Z
UID:10036072-1776092400-1776103200@metroatlantaexchange.org
SUMMARY:Schneider: Truck Driver and Owner-Operator Recruiting Event
DESCRIPTION:Schneider is hosting a Truck Driver and Owner-Operator Recruiting Event on Monday\, April 13th\, from 3:00 PM to 6:00 PM\, at Schneider. \nWhether you’re an experienced driver ready for a change or just starting your trucking journey\, this recruiting event is designed with you in mind. Stop by for a casual\, no-pressure conversation where you can ask questions\, explore opportunities and get the information you need to make your next move. Your local recruiter will be available to discuss company driving jobs and owner-operator contracting jobs across our portfolio of companies: Schneider\, Midwest Logistics Systems\, Cowan Systems and M&M Transport Services. \nClick here to learn more and register.
URL:https://metroatlantaexchange.org/event/schneider-truck-driver-and-owner-operator-recruiting-event/
LOCATION:Schneider – Operations Training Center\, 3300 International Drive\, SE\, Atlanta\, Georgia\, 30316
CATEGORIES:In-Person Event,Job Seeker
END:VEVENT
END:VCALENDAR