BEGIN:VCALENDAR
VERSION:2.0
PRODID:-//MAX - ECPv6.15.17.1//NONSGML v1.0//EN
CALSCALE:GREGORIAN
METHOD:PUBLISH
X-WR-CALNAME:MAX
X-ORIGINAL-URL:https://metroatlantaexchange.org
X-WR-CALDESC:Events for MAX
REFRESH-INTERVAL;VALUE=DURATION:PT1H
X-Robots-Tag:noindex
X-PUBLISHED-TTL:PT1H
BEGIN:VTIMEZONE
TZID:America/New_York
BEGIN:DAYLIGHT
TZOFFSETFROM:-0500
TZOFFSETTO:-0400
TZNAME:EDT
DTSTART:20250309T070000
END:DAYLIGHT
BEGIN:STANDARD
TZOFFSETFROM:-0400
TZOFFSETTO:-0500
TZNAME:EST
DTSTART:20251102T060000
END:STANDARD
BEGIN:DAYLIGHT
TZOFFSETFROM:-0500
TZOFFSETTO:-0400
TZNAME:EDT
DTSTART:20260308T070000
END:DAYLIGHT
BEGIN:STANDARD
TZOFFSETFROM:-0400
TZOFFSETTO:-0500
TZNAME:EST
DTSTART:20261101T060000
END:STANDARD
BEGIN:DAYLIGHT
TZOFFSETFROM:-0500
TZOFFSETTO:-0400
TZNAME:EDT
DTSTART:20270314T070000
END:DAYLIGHT
BEGIN:STANDARD
TZOFFSETFROM:-0400
TZOFFSETTO:-0500
TZNAME:EST
DTSTART:20271107T060000
END:STANDARD
END:VTIMEZONE
BEGIN:VEVENT
DTSTART;TZID=America/New_York:20260414T120000
DTEND;TZID=America/New_York:20260416T130000
DTSTAMP:20260422T211139
CREATED:20260406T201957Z
LAST-MODIFIED:20260406T201957Z
UID:10036184-1776168000-1776344400@metroatlantaexchange.org
SUMMARY:Urban League of Greater Atlanta: Urban Tech Jobs Program - TechTHRIVE Workshop
DESCRIPTION:The Urban League of Greater Atlanta is hosting an Urban Tech Jobs Program – TechTHRIVE Workshop starting Tuesday\, April 14th through Thursday\, April 16th\, from 12:00 PM to 1:00 PM. \nIn just three one-hour sessions\, participants will explore high-growth tech career pathways\, in-demand certifications\, AI tools\, and gain essential resume and interview skills. Perfect for beginners\, this workshop gives participants the foundation to get started in a tech career. Upon completion\, graduates will receive a free Google Coursera license to continue building skills and receive certificates in IT Support\, Cybersecurity\, Data Analytics\, Digital Markets\, Cloud Computing\, and more. \nClick here to register. For more information\, contact dbulls@ulgatl.org.
URL:https://metroatlantaexchange.org/event/urban-league-of-greater-atlanta-urban-tech-jobs-program-techthrive-workshop/
LOCATION:GA
CATEGORIES:Career Development,In-Person Event,Job Seeker
END:VEVENT
BEGIN:VEVENT
DTSTART;TZID=America/New_York:20260415T090000
DTEND;TZID=America/New_York:20260415T100000
DTSTAMP:20260422T211139
CREATED:20250902T220734Z
LAST-MODIFIED:20250902T220734Z
UID:10035279-1776243600-1776247200@metroatlantaexchange.org
SUMMARY:Goodwill of North Georgia: NorthStar Testing Session
DESCRIPTION:Goodwill of North Georgia is hosting a NorthStar Testing Session every Wednesday\, from 9:00 AM to 10:00 AM\, at the Woodstock Career Center. \nFor more information\, call 770-874-0901. \nClick here to learn more and register.
URL:https://metroatlantaexchange.org/event/goodwill-of-north-georgia-northstar-testing-session/2026-04-15/
LOCATION:Goodwill of North Georgia – Woodstock Career Center\, 9425 Highway 92\, Woodstock\, GA\, 30188\, United States
CATEGORIES:Career Development,In-Person Event,Job Seeker
GEO:34.0872637;-84.5325399
X-APPLE-STRUCTURED-LOCATION;VALUE=URI;X-ADDRESS=Goodwill of North Georgia – Woodstock Career Center 9425 Highway 92 Woodstock GA 30188 United States;X-APPLE-RADIUS=500;X-TITLE=9425 Highway 92:geo:-84.5325399,34.0872637
END:VEVENT
BEGIN:VEVENT
DTSTART;TZID=America/New_York:20260415T090000
DTEND;TZID=America/New_York:20260415T160000
DTSTAMP:20260422T211139
CREATED:20260408T170745Z
LAST-MODIFIED:20260408T170745Z
UID:10036189-1776243600-1776268800@metroatlantaexchange.org
SUMMARY:Keller Williams Inspire Network: Two-Day Career Visioning
DESCRIPTION:The Keller Williams Inspire Network is hosting a Two-Day Career Visioning event on Wednesday\, April 15th\, from 9:00 AM to 4:00 PM\, at Keller Williams Buckhead. \nCareer Visioning is one of the most impactful leadership courses offered within Keller Williams\, designed to help agents build scalable businesses through people. Most agents eventually hit a ceiling when their business depends entirely on them. Career Visioning shows you how to break through that ceiling by building the right people around your business. Whether you’re preparing to hire your first assistant or building a larger team\, this course provides the practical tools and frameworks used by top Keller Williams teams across the country. \nClick here to learn more and register.
URL:https://metroatlantaexchange.org/event/keller-williams-inspire-network-two-day-career-visioning/
LOCATION:Keller Williams Buckhead\, 3650 Habersham Road\, NW\, Atlanta\, GA\, 30305\, United States
CATEGORIES:Career Development,In-Person Event,Job Seeker
END:VEVENT
BEGIN:VEVENT
DTSTART;TZID=America/New_York:20260415T100000
DTEND;TZID=America/New_York:20260415T130000
DTSTAMP:20260422T211139
CREATED:20260406T154721Z
LAST-MODIFIED:20260406T154721Z
UID:10036076-1776247200-1776258000@metroatlantaexchange.org
SUMMARY:Devereux Advanced Behavioral Health: Direct Support Professional Interview Day
DESCRIPTION:Devereux Advanced Behavioral Health is hosting a Direct Support Professional Interview Day on Wednesday\, April 15th\, from 10:00 AM to 1:00 PM\, at Devereux Advanced Behavioral Health. \nAre you looking for a full-time employment opportunity? Do you want to help teens feel safe\, perhaps for the first time in their lives? If so\, you could become a part of a team creating meaningful\, independent and productive lives for those individuals. \nDirect Support Professionals have a positive impact on the lives of others and will help candidates develop and enhance their skills. Pay rates begin at $20 per hour\, with additional pay with experience. Please bring copies of your resume\, driver’s license and be ready to interview. \nClick here to learn more and register.
URL:https://metroatlantaexchange.org/event/devereux-advanced-behavioral-health-direct-support-professional-interview-day/
LOCATION:Devereux Advanced Behavioral Health\, 1291 Stanley Road\, NW\, Kennesaw\, Georgia\, 30152
CATEGORIES:In-Person Event,Job Seeker
END:VEVENT
BEGIN:VEVENT
DTSTART;TZID=America/New_York:20260415T103000
DTEND;TZID=America/New_York:20260415T110000
DTSTAMP:20260422T211139
CREATED:20260406T193002Z
LAST-MODIFIED:20260406T193002Z
UID:10036147-1776249000-1776250800@metroatlantaexchange.org
SUMMARY:Clayton County Library System: One-on-One Tech Class
DESCRIPTION:The Clayton County Library System hosts One-on-One Tech classes on Wednesdays\, from 10:30 AM to 11:00 AM\, at the Riverdale Branch. \nWork one-on-one with a librarian to explore your Pines account\, access online databases\, and use Microsoft Word. Bring your device for personalized help. \nClick here to register.
URL:https://metroatlantaexchange.org/event/clayton-county-library-system-one-on-one-tech-class/2026-04-15/
LOCATION:Clayton County Public Library – Riverdale\, 420 Valley Hill Road\, Riverdale\, GA\, 30274\, United States
CATEGORIES:Career Development,In-Person Event,Job Seeker
GEO:33.5701123;-84.4039771
X-APPLE-STRUCTURED-LOCATION;VALUE=URI;X-ADDRESS=Clayton County Public Library – Riverdale 420 Valley Hill Road Riverdale GA 30274 United States;X-APPLE-RADIUS=500;X-TITLE=420 Valley Hill Road:geo:-84.4039771,33.5701123
END:VEVENT
BEGIN:VEVENT
DTSTART;TZID=America/New_York:20260415T103000
DTEND;TZID=America/New_York:20260415T113000
DTSTAMP:20260422T211139
CREATED:20260406T193423Z
LAST-MODIFIED:20260406T193552Z
UID:10036155-1776249000-1776252600@metroatlantaexchange.org
SUMMARY:Goodwill of North Georgia: In-Person Interview Lab
DESCRIPTION:Goodwill of North Georgia\, in partnership with the @Promise Center\, is hosting an In-Person Interview Lab on Wednesdays\, from 10:30 AM to 11:30 AM\, at the @Promise Center. \nThis class is geared towards participants ages 16 to 24 years old. You must be registered with @promise to attend. \nClick here to register.
URL:https://metroatlantaexchange.org/event/goodwill-of-north-georgia-in-person-interview-lab/2026-04-15/
LOCATION:@Promise Center (MLK)\, 2175 Martin Luther King Jr. SW\, Atlanta\, 30310\, United States
CATEGORIES:Career Development,In-Person Event,Job Seeker
END:VEVENT
BEGIN:VEVENT
DTSTART;TZID=America/New_York:20260415T120000
DTEND;TZID=America/New_York:20260415T133000
DTSTAMP:20260422T211139
CREATED:20260408T172417Z
LAST-MODIFIED:20260408T172417Z
UID:10036190-1776254400-1776259800@metroatlantaexchange.org
SUMMARY:Atlanta Tech Village: Women + Tech Meetup
DESCRIPTION:Atlanta Tech Village is hosting a Women + Tech Meetup on Wednesday\, April 15th\, from 12:00 PM to 1:30 PM\, at Atlanta Tech Village. \nIt’s time to come together to make the phrase “Women in Tech” obsolete! Join this event to discuss personal and professional growth\, challenges in the workplace\, community involvement\, and whatever else is on your mind. This Village can be the one to make women in tech the status quo. \nClick here to learn more and register.
URL:https://metroatlantaexchange.org/event/atlanta-tech-village-women-tech-meetup/
LOCATION:Atlanta Tech Village\, 3423 Piedmont Road\, Atlanta\, GA\, 30305\, United States
CATEGORIES:Career Development,In-Person Event,Job Seeker
GEO:33.8486731;-84.3733132
X-APPLE-STRUCTURED-LOCATION;VALUE=URI;X-ADDRESS=Atlanta Tech Village 3423 Piedmont Road Atlanta GA 30305 United States;X-APPLE-RADIUS=500;X-TITLE=3423 Piedmont Road:geo:-84.3733132,33.8486731
END:VEVENT
END:VCALENDAR