BEGIN:VCALENDAR
VERSION:2.0
PRODID:-//MAX - ECPv6.15.17.1//NONSGML v1.0//EN
CALSCALE:GREGORIAN
METHOD:PUBLISH
X-ORIGINAL-URL:https://metroatlantaexchange.org
X-WR-CALDESC:Events for MAX
REFRESH-INTERVAL;VALUE=DURATION:PT1H
X-Robots-Tag:noindex
X-PUBLISHED-TTL:PT1H
BEGIN:VTIMEZONE
TZID:America/New_York
BEGIN:DAYLIGHT
TZOFFSETFROM:-0500
TZOFFSETTO:-0400
TZNAME:EDT
DTSTART:20250309T070000
END:DAYLIGHT
BEGIN:STANDARD
TZOFFSETFROM:-0400
TZOFFSETTO:-0500
TZNAME:EST
DTSTART:20251102T060000
END:STANDARD
BEGIN:DAYLIGHT
TZOFFSETFROM:-0500
TZOFFSETTO:-0400
TZNAME:EDT
DTSTART:20260308T070000
END:DAYLIGHT
BEGIN:STANDARD
TZOFFSETFROM:-0400
TZOFFSETTO:-0500
TZNAME:EST
DTSTART:20261101T060000
END:STANDARD
BEGIN:DAYLIGHT
TZOFFSETFROM:-0500
TZOFFSETTO:-0400
TZNAME:EDT
DTSTART:20270314T070000
END:DAYLIGHT
BEGIN:STANDARD
TZOFFSETFROM:-0400
TZOFFSETTO:-0500
TZNAME:EST
DTSTART:20271107T060000
END:STANDARD
END:VTIMEZONE
BEGIN:VEVENT
DTSTART;TZID=America/New_York:20260417T080000
DTEND;TZID=America/New_York:20260420T170000
DTSTAMP:20260422T211052
CREATED:20260408T220113Z
LAST-MODIFIED:20260408T220113Z
UID:10036250-1776412800-1776704400@metroatlantaexchange.org
SUMMARY:Federal Reserve Bank of Atlanta: 2026 Financial Markets Conference
DESCRIPTION:The Federal Reserve Bank of Atlanta is hosting its 2026 Financial Markets Conference starting Sunday\, May 17th through Wednesday\, May 20th\, at Amelia Island\, FL. \nThe exact location will be shared by invitation only. The Financial Markets Conference is the Atlanta Fed’s signature policy and research event\, convenes leading experts to discuss emerging financial market issues and their monetary policy implications. This event will have the option to be attended virtually. \nClick here to learn more and register.
URL:https://metroatlantaexchange.org/event/federal-reserve-bank-of-atlanta-2026-financial-markets-conference/
LOCATION:GA
CATEGORIES:Conferences,In-Person Event,Workforce Developer
END:VEVENT
BEGIN:VEVENT
DTSTART;TZID=America/New_York:20260418T080000
DTEND;TZID=America/New_York:20260424T170000
DTSTAMP:20260422T211052
CREATED:20251203T201931Z
LAST-MODIFIED:20251203T201931Z
UID:10035762-1776499200-1777050000@metroatlantaexchange.org
SUMMARY:Aspen Institute:Aspen Executive Seminar on Leadership\, Values\, and the Good Society
DESCRIPTION:The Aspen Institute is hosting the Aspen Executive Seminar on Leadership\, Values\, and the Good Society starting Saturday\, April 18th through Friday\, April 24th\, at the Aspen Meadows Resort. \nThe Aspen Executive Seminar on Leadership\, Values\, and the Good Society challenges experienced leaders to engage with the ideas and ideals that have shaped our world. Through a small cohort\, the Aspen Executive Seminar creates space for conversations that stretch thinking\, challenge assumptions\, and invite participants to consider not just what they believe\, but how those beliefs motivate their actions in the world\, shaping how they lead. \nClick here to learn more and register.
URL:https://metroatlantaexchange.org/event/aspen-instituteaspen-executive-seminar-on-leadership-values-and-the-good-society/
LOCATION:Aspen Meadows Resort\, 845 Meadows Road\, Aspen\, CO\, 81611\, United States
CATEGORIES:Conferences,In-Person Event,Workforce Developer
END:VEVENT
BEGIN:VEVENT
DTSTART;TZID=America/New_York:20260420T093000
DTEND;TZID=America/New_York:20260420T120000
DTSTAMP:20260422T211052
CREATED:20260406T185743Z
LAST-MODIFIED:20260406T185743Z
UID:10036119-1776677400-1776686400@metroatlantaexchange.org
SUMMARY:DeKalb County Public Library: GED Study Time
DESCRIPTION:The DeKalb County Public Library hosts GED Study Time every Monday and Wednesday\, from 10:00 AM to 1:00 PM\, at the Stonecrest Library. \nThe library will have a dedicated study space for those wishing to study for the GED. Chromebooks will be available during all sessions as well as an in-person tutor from Georgia Piedmont College. \nClick here to learn more.
URL:https://metroatlantaexchange.org/event/dekalb-county-public-library-ged-study-time/2026-04-20/
LOCATION:Stonecrest Public Library\, 3123 Klondike Road\, Lithonia\, GA\, 30038\, United States
CATEGORIES:Career Development,In-Person Event
GEO:33.694361;-84.1097277
X-APPLE-STRUCTURED-LOCATION;VALUE=URI;X-ADDRESS=Stonecrest Public Library 3123 Klondike Road Lithonia GA 30038 United States;X-APPLE-RADIUS=500;X-TITLE=3123 Klondike Road:geo:-84.1097277,33.694361
END:VEVENT
BEGIN:VEVENT
DTSTART;TZID=America/New_York:20260420T093000
DTEND;TZID=America/New_York:20260420T123000
DTSTAMP:20260422T211052
CREATED:20260406T163522Z
LAST-MODIFIED:20260406T163522Z
UID:10036094-1776677400-1776688200@metroatlantaexchange.org
SUMMARY:Career Fair Connection: Atlanta Career Fair
DESCRIPTION:Career Fair Connection is hosting an Atlanta Career Fair on Monday\, April 20th\, from 9:30 AM to 12:30 PM\, at the Marriott Hotel – Atlanta. \nThis career fair is a great recruitment event to connect with top employers in the areas of Government\, Sales\, Retail\, Education\, Information Technology\, Engineering\, Healthcare\, Financial Services\, Management\, Manufacturing\, Customer Service as well as other career paths. Professional dress and an updated resume are strongly recommended. Career Fair Connection encourages every job seeker to provide their resume prior to attending the career fair. This allows the recruitment team to review your experience and advise you on the best career path available for the attending employers. \nForward your resume to events@careerfairconnection.com. \nClick here to learn more and register.
URL:https://metroatlantaexchange.org/event/career-fair-connection-atlanta-career-fair/
LOCATION:GA
CATEGORIES:In-Person Event,Job Seeker
END:VEVENT
BEGIN:VEVENT
DTSTART;TZID=America/New_York:20260420T100000
DTEND;TZID=America/New_York:20260420T150000
DTSTAMP:20260422T211052
CREATED:20260408T203415Z
LAST-MODIFIED:20260408T203556Z
UID:10036206-1776679200-1776697200@metroatlantaexchange.org
SUMMARY:Goodwill of North Georgia: Welding Skills Orientation
DESCRIPTION:Goodwill of North Georgia is hosting a Welding Skills Orientation on Monday\, April 20th and Tuesday\, April 21st\, from 10:00 AM to 3:00 PM\, at the Decatur Career Center. \nFor more information\, call 404-554-9600. \nClick here to learn more and register.
URL:https://metroatlantaexchange.org/event/goodwill-of-north-georgia-welding-skills-orientation-2/2026-04-20/
LOCATION:Goodwill of North Georgia – Decatur Career Center\, 2201 Lawrenceville Highway\, Suite 200\, Decatur\, GA\, 30033\, United States
CATEGORIES:Career Development,In-Person Event,Job Seeker
GEO:33.8114213;-84.2699313
X-APPLE-STRUCTURED-LOCATION;VALUE=URI;X-ADDRESS=Goodwill of North Georgia – Decatur Career Center 2201 Lawrenceville Highway Suite 200 Decatur GA 30033 United States;X-APPLE-RADIUS=500;X-TITLE=2201 Lawrenceville Highway\, Suite 200:geo:-84.2699313,33.8114213
END:VEVENT
BEGIN:VEVENT
DTSTART;TZID=America/New_York:20260420T140000
DTEND;TZID=America/New_York:20260420T170000
DTSTAMP:20260422T211052
CREATED:20260406T163702Z
LAST-MODIFIED:20260406T163702Z
UID:10036095-1776693600-1776704400@metroatlantaexchange.org
SUMMARY:Schneider: Truck Driver and Owner-Operator Recruiting Event
DESCRIPTION:Schneider is hosting a Truck Driver and Owner-Operator Recruiting Event on Monday\, April 20th\, from 2:00 PM to 5:00 PM\, at Katlaw School. \nWhether you’re an experienced driver ready for a change or just starting your trucking journey\, this recruiting event is designed with you in mind. Stop by for a casual\, no-pressure conversation where you can ask questions\, explore opportunities and get the information you need to make your next move. Your local recruiter will be available to discuss company driving jobs and owner-operator contracting jobs across our portfolio of companies: Schneider\, Midwest Logistics Systems\, Cowan Systems and M&M Transport Services. \nClick here to learn more and register.
URL:https://metroatlantaexchange.org/event/schneider-truck-driver-and-owner-operator-recruiting-event-32/
LOCATION:Katlaw School\, 5000 Austell Powder Springs Road\, Austell\, GA\, 30106\, United States
CATEGORIES:In-Person Event,Job Seeker
END:VEVENT
END:VCALENDAR