BEGIN:VCALENDAR
VERSION:2.0
PRODID:-//MAX - ECPv6.15.17.1//NONSGML v1.0//EN
CALSCALE:GREGORIAN
METHOD:PUBLISH
X-WR-CALNAME:MAX
X-ORIGINAL-URL:https://metroatlantaexchange.org
X-WR-CALDESC:Events for MAX
REFRESH-INTERVAL;VALUE=DURATION:PT1H
X-Robots-Tag:noindex
X-PUBLISHED-TTL:PT1H
BEGIN:VTIMEZONE
TZID:America/New_York
BEGIN:DAYLIGHT
TZOFFSETFROM:-0500
TZOFFSETTO:-0400
TZNAME:EDT
DTSTART:20250309T070000
END:DAYLIGHT
BEGIN:STANDARD
TZOFFSETFROM:-0400
TZOFFSETTO:-0500
TZNAME:EST
DTSTART:20251102T060000
END:STANDARD
BEGIN:DAYLIGHT
TZOFFSETFROM:-0500
TZOFFSETTO:-0400
TZNAME:EDT
DTSTART:20260308T070000
END:DAYLIGHT
BEGIN:STANDARD
TZOFFSETFROM:-0400
TZOFFSETTO:-0500
TZNAME:EST
DTSTART:20261101T060000
END:STANDARD
BEGIN:DAYLIGHT
TZOFFSETFROM:-0500
TZOFFSETTO:-0400
TZNAME:EDT
DTSTART:20270314T070000
END:DAYLIGHT
BEGIN:STANDARD
TZOFFSETFROM:-0400
TZOFFSETTO:-0500
TZNAME:EST
DTSTART:20271107T060000
END:STANDARD
END:VTIMEZONE
BEGIN:VEVENT
DTSTART;TZID=America/New_York:20260425T090000
DTEND;TZID=America/New_York:20260425T120000
DTSTAMP:20260422T231556
CREATED:20260420T143148Z
LAST-MODIFIED:20260420T143148Z
UID:10036268-1777107600-1777118400@metroatlantaexchange.org
SUMMARY:Rockdale County Public Schools (RCPS): Teacher Job Fair
DESCRIPTION:Rockdale County Public Schools (RCPS) is hosting a Teacher Job Fair on Saturday\, April 25th\, from 9:00 AM to 12:00 PM\, at the RCPS Board Office. \nRCPS is seeking Certified Teachers for the 2026-2027 school year. Please bring your certificate and copies of your resume. \nContact anelson2@rockdale.k12.ga.us for more information. \nClick here to learn more.
URL:https://metroatlantaexchange.org/event/rockdale-county-public-schools-rcps-teacher-job-fair/
LOCATION:RCPS Board Office\, 960 Pine Street\, NE\, Conyers\, GA\, 30012\, United States
CATEGORIES:Educators,In-Person Event,Job Seeker
END:VEVENT
BEGIN:VEVENT
DTSTART;TZID=America/New_York:20260425T100000
DTEND;TZID=America/New_York:20260425T130000
DTSTAMP:20260422T231556
CREATED:20260420T143428Z
LAST-MODIFIED:20260420T143428Z
UID:10036269-1777111200-1777122000@metroatlantaexchange.org
SUMMARY:Fulton County Schools (FCS): In-Person Special Education Hiring Event
DESCRIPTION:Fulton County Schools (FCS) is hosting an In-Person Special Education Hiring Event on Saturday\, April 25th\, from 10:00 AM to 1:00 PM\, at Heards Ferry Elementary School. \nFCS is seeking Special Education Teachers and Paraprofessionals and is featuring select schools from zones 1-7 for this event. \nClick here to learn more.
URL:https://metroatlantaexchange.org/event/fulton-county-schools-fcs-in-person-special-education-hiring-event/
LOCATION:Heards Ferry Elementary School\, 6151 Powers Ferry Road\, NW\, Sandy Springs\, GA\, 30339\, United States
CATEGORIES:Educators,In-Person Event,Job Seeker
END:VEVENT
END:VCALENDAR