BEGIN:VCALENDAR
VERSION:2.0
PRODID:-//MAX - ECPv6.15.17.1//NONSGML v1.0//EN
CALSCALE:GREGORIAN
METHOD:PUBLISH
X-ORIGINAL-URL:https://metroatlantaexchange.org
X-WR-CALDESC:Events for MAX
REFRESH-INTERVAL;VALUE=DURATION:PT1H
X-Robots-Tag:noindex
X-PUBLISHED-TTL:PT1H
BEGIN:VTIMEZONE
TZID:America/New_York
BEGIN:DAYLIGHT
TZOFFSETFROM:-0500
TZOFFSETTO:-0400
TZNAME:EDT
DTSTART:20250309T070000
END:DAYLIGHT
BEGIN:STANDARD
TZOFFSETFROM:-0400
TZOFFSETTO:-0500
TZNAME:EST
DTSTART:20251102T060000
END:STANDARD
BEGIN:DAYLIGHT
TZOFFSETFROM:-0500
TZOFFSETTO:-0400
TZNAME:EDT
DTSTART:20260308T070000
END:DAYLIGHT
BEGIN:STANDARD
TZOFFSETFROM:-0400
TZOFFSETTO:-0500
TZNAME:EST
DTSTART:20261101T060000
END:STANDARD
BEGIN:DAYLIGHT
TZOFFSETFROM:-0500
TZOFFSETTO:-0400
TZNAME:EDT
DTSTART:20270314T070000
END:DAYLIGHT
BEGIN:STANDARD
TZOFFSETFROM:-0400
TZOFFSETTO:-0500
TZNAME:EST
DTSTART:20271107T060000
END:STANDARD
END:VTIMEZONE
BEGIN:VEVENT
DTSTART;TZID=America/New_York:20260430T100000
DTEND;TZID=America/New_York:20260430T120000
DTSTAMP:20260422T191748
CREATED:20260413T044231Z
LAST-MODIFIED:20260413T044543Z
UID:10036253-1777543200-1777550400@metroatlantaexchange.org
SUMMARY:Connect to Work GA: The Workforce Reset: Real Solutions\, Real Jobs\, Real Impact
DESCRIPTION:Connect to Work GA invites you to The Workforce Reset: Real Solutions\, Real Jobs\, Real Impact\,  on Thursday\, April 30th\, from 10:00 AM to 12:00 PM\, at the Metro Atlanta Chamber. The Workforce Reset is a collaborative convening for community-based organizations (CBOs)  to align workforce efforts with employer needs. The engagement will feature insights from real-time data on what employers are saying\, as shared through subject matter experts. It will also highlight actionable strategies\, shared learning\, and opportunities to strengthen employer–CBO alignment. \n\nThe event is free and open to the public\, though seating is limited. \n\n\n\nClick here to register.
URL:https://metroatlantaexchange.org/event/connect-to-work-ga-the-workforce-reset-real-solutions-real-jobs-real-impact/
LOCATION:Metro Atlanta Chamber
CATEGORIES:Employer,In-Person Event,Workforce Developer
GEO:33.7590348;-84.386686
END:VEVENT
END:VCALENDAR