BEGIN:VCALENDAR
VERSION:2.0
PRODID:-//MAX - ECPv6.15.17.1//NONSGML v1.0//EN
CALSCALE:GREGORIAN
METHOD:PUBLISH
X-ORIGINAL-URL:https://metroatlantaexchange.org
X-WR-CALDESC:Events for MAX
REFRESH-INTERVAL;VALUE=DURATION:PT1H
X-Robots-Tag:noindex
X-PUBLISHED-TTL:PT1H
BEGIN:VTIMEZONE
TZID:America/New_York
BEGIN:DAYLIGHT
TZOFFSETFROM:-0500
TZOFFSETTO:-0400
TZNAME:EDT
DTSTART:20250309T070000
END:DAYLIGHT
BEGIN:STANDARD
TZOFFSETFROM:-0400
TZOFFSETTO:-0500
TZNAME:EST
DTSTART:20251102T060000
END:STANDARD
BEGIN:DAYLIGHT
TZOFFSETFROM:-0500
TZOFFSETTO:-0400
TZNAME:EDT
DTSTART:20260308T070000
END:DAYLIGHT
BEGIN:STANDARD
TZOFFSETFROM:-0400
TZOFFSETTO:-0500
TZNAME:EST
DTSTART:20261101T060000
END:STANDARD
BEGIN:DAYLIGHT
TZOFFSETFROM:-0500
TZOFFSETTO:-0400
TZNAME:EDT
DTSTART:20270314T070000
END:DAYLIGHT
BEGIN:STANDARD
TZOFFSETFROM:-0400
TZOFFSETTO:-0500
TZNAME:EST
DTSTART:20271107T060000
END:STANDARD
END:VTIMEZONE
BEGIN:VEVENT
DTSTART;TZID=America/New_York:20260512T150000
DTEND;TZID=America/New_York:20260514T220000
DTSTAMP:20260422T212648
CREATED:20251203T202137Z
LAST-MODIFIED:20251203T202137Z
UID:10035763-1778598000-1778796000@metroatlantaexchange.org
SUMMARY:Manufacturing Institute: 2026 FAME National Conference
DESCRIPTION:The Manufacturing Institute is hosting its 2026 FAME National Conference starting Tuesday\, May 12th through Thursday\, May 14th\, starting at 3:00 PM\, at the Marriott Jacksonville Downtown. \nThe FAME National Conference offers a myriad of opportunities for professional growth and peer engagement. Attendees will benefit from dynamic sessions led by leaders from across the FAME network\, invaluable networking\, robust supports for educators\, and of course\, the sharing of best practices across chapters. The event truly serves as the springboard for innovation\, fostering collaboration and knowledge exchange among professionals in the advanced manufacturing industry as we all collaborate through the FAME model of skills training. \nClick here to learn more and register.
URL:https://metroatlantaexchange.org/event/manufacturing-institute-2026-fame-national-conference/
LOCATION:Marriot Jacksonville Downtown\, 245 Water Street\, Jacksonville\, FL\, 32202\, United States
CATEGORIES:Conferences,In-Person Event,Workforce Developer
END:VEVENT
END:VCALENDAR