BEGIN:VCALENDAR
VERSION:2.0
PRODID:-//MAX - ECPv6.15.17.1//NONSGML v1.0//EN
CALSCALE:GREGORIAN
METHOD:PUBLISH
X-WR-CALNAME:MAX
X-ORIGINAL-URL:https://metroatlantaexchange.org
X-WR-CALDESC:Events for MAX
REFRESH-INTERVAL;VALUE=DURATION:PT1H
X-Robots-Tag:noindex
X-PUBLISHED-TTL:PT1H
BEGIN:VTIMEZONE
TZID:America/New_York
BEGIN:DAYLIGHT
TZOFFSETFROM:-0500
TZOFFSETTO:-0400
TZNAME:EDT
DTSTART:20250309T070000
END:DAYLIGHT
BEGIN:STANDARD
TZOFFSETFROM:-0400
TZOFFSETTO:-0500
TZNAME:EST
DTSTART:20251102T060000
END:STANDARD
BEGIN:DAYLIGHT
TZOFFSETFROM:-0500
TZOFFSETTO:-0400
TZNAME:EDT
DTSTART:20260308T070000
END:DAYLIGHT
BEGIN:STANDARD
TZOFFSETFROM:-0400
TZOFFSETTO:-0500
TZNAME:EST
DTSTART:20261101T060000
END:STANDARD
BEGIN:DAYLIGHT
TZOFFSETFROM:-0500
TZOFFSETTO:-0400
TZNAME:EDT
DTSTART:20270314T070000
END:DAYLIGHT
BEGIN:STANDARD
TZOFFSETFROM:-0400
TZOFFSETTO:-0500
TZNAME:EST
DTSTART:20271107T060000
END:STANDARD
END:VTIMEZONE
BEGIN:VEVENT
DTSTART;TZID=America/New_York:20260624T080000
DTEND;TZID=America/New_York:20260626T170000
DTSTAMP:20260422T231520
CREATED:20251203T202449Z
LAST-MODIFIED:20251203T202449Z
UID:10035765-1782288000-1782493200@metroatlantaexchange.org
SUMMARY:National League of Cities (NLC): Women in Municipal Government (WIMG) 2026 Summer Conference
DESCRIPTION:The National League of Cities (NLC) is hosting the Women in Municipal Government (WIMG) 2026 Summer Conference starting Wednesday\, June 24th through Friday\, June 26th\, in Broken Arrow\, OK. \nThis dynamic annual event brings together women leaders from across the country to connect\, collaborate and advance the future of local government. Attendees will have the opportunity to learn about local policy issues\, engage in meaningful discussions\, expand your network and strengthen your governance skills. Stay tuned for exciting updates on this year’s conference theme\, speakers\, session titles and more. \nClick here to learn more and save the date!
URL:https://metroatlantaexchange.org/event/national-league-of-cities-nlc-women-in-municipal-government-wimg-2026-summer-conference/
LOCATION:GA
CATEGORIES:Conferences,In-Person Event,Workforce Developer
ORGANIZER;CN="National League of Cities":MAILTO:info@nlc.org
END:VEVENT
BEGIN:VEVENT
DTSTART;TZID=America/New_York:20260624T090000
DTEND;TZID=America/New_York:20260624T100000
DTSTAMP:20260422T231520
CREATED:20250902T220734Z
LAST-MODIFIED:20250902T220734Z
UID:10035289-1782291600-1782295200@metroatlantaexchange.org
SUMMARY:Goodwill of North Georgia: NorthStar Testing Session
DESCRIPTION:Goodwill of North Georgia is hosting a NorthStar Testing Session every Wednesday\, from 9:00 AM to 10:00 AM\, at the Woodstock Career Center. \nFor more information\, call 770-874-0901. \nClick here to learn more and register.
URL:https://metroatlantaexchange.org/event/goodwill-of-north-georgia-northstar-testing-session/2026-06-24/
LOCATION:Goodwill of North Georgia – Woodstock Career Center\, 9425 Highway 92\, Woodstock\, GA\, 30188\, United States
CATEGORIES:Career Development,In-Person Event,Job Seeker
GEO:34.0872637;-84.5325399
X-APPLE-STRUCTURED-LOCATION;VALUE=URI;X-ADDRESS=Goodwill of North Georgia – Woodstock Career Center 9425 Highway 92 Woodstock GA 30188 United States;X-APPLE-RADIUS=500;X-TITLE=9425 Highway 92:geo:-84.5325399,34.0872637
END:VEVENT
END:VCALENDAR