BEGIN:VCALENDAR
VERSION:2.0
PRODID:-//MAX - ECPv6.15.17.1//NONSGML v1.0//EN
CALSCALE:GREGORIAN
METHOD:PUBLISH
X-ORIGINAL-URL:https://metroatlantaexchange.org
X-WR-CALDESC:Events for MAX
REFRESH-INTERVAL;VALUE=DURATION:PT1H
X-Robots-Tag:noindex
X-PUBLISHED-TTL:PT1H
BEGIN:VTIMEZONE
TZID:America/New_York
BEGIN:DAYLIGHT
TZOFFSETFROM:-0500
TZOFFSETTO:-0400
TZNAME:EDT
DTSTART:20250309T070000
END:DAYLIGHT
BEGIN:STANDARD
TZOFFSETFROM:-0400
TZOFFSETTO:-0500
TZNAME:EST
DTSTART:20251102T060000
END:STANDARD
BEGIN:DAYLIGHT
TZOFFSETFROM:-0500
TZOFFSETTO:-0400
TZNAME:EDT
DTSTART:20260308T070000
END:DAYLIGHT
BEGIN:STANDARD
TZOFFSETFROM:-0400
TZOFFSETTO:-0500
TZNAME:EST
DTSTART:20261101T060000
END:STANDARD
BEGIN:DAYLIGHT
TZOFFSETFROM:-0500
TZOFFSETTO:-0400
TZNAME:EDT
DTSTART:20270314T070000
END:DAYLIGHT
BEGIN:STANDARD
TZOFFSETFROM:-0400
TZOFFSETTO:-0500
TZNAME:EST
DTSTART:20271107T060000
END:STANDARD
END:VTIMEZONE
BEGIN:VEVENT
DTSTART;TZID=America/New_York:20260422T090000
DTEND;TZID=America/New_York:20260422T100000
DTSTAMP:20260422T174725
CREATED:20250902T220734Z
LAST-MODIFIED:20250902T220734Z
UID:10035280-1776848400-1776852000@metroatlantaexchange.org
SUMMARY:Goodwill of North Georgia: NorthStar Testing Session
DESCRIPTION:Goodwill of North Georgia is hosting a NorthStar Testing Session every Wednesday\, from 9:00 AM to 10:00 AM\, at the Woodstock Career Center. \nFor more information\, call 770-874-0901. \nClick here to learn more and register.
URL:https://metroatlantaexchange.org/event/goodwill-of-north-georgia-northstar-testing-session/2026-04-22/
LOCATION:Goodwill of North Georgia – Woodstock Career Center\, 9425 Highway 92\, Woodstock\, GA\, 30188\, United States
CATEGORIES:Career Development,In-Person Event,Job Seeker
GEO:34.0872637;-84.5325399
X-APPLE-STRUCTURED-LOCATION;VALUE=URI;X-ADDRESS=Goodwill of North Georgia – Woodstock Career Center 9425 Highway 92 Woodstock GA 30188 United States;X-APPLE-RADIUS=500;X-TITLE=9425 Highway 92:geo:-84.5325399,34.0872637
END:VEVENT
BEGIN:VEVENT
DTSTART;TZID=America/New_York:20260422T093000
DTEND;TZID=America/New_York:20260422T120000
DTSTAMP:20260422T174725
CREATED:20260406T185743Z
LAST-MODIFIED:20260406T185743Z
UID:10036120-1776850200-1776859200@metroatlantaexchange.org
SUMMARY:DeKalb County Public Library: GED Study Time
DESCRIPTION:The DeKalb County Public Library hosts GED Study Time every Monday and Wednesday\, from 10:00 AM to 1:00 PM\, at the Stonecrest Library. \nThe library will have a dedicated study space for those wishing to study for the GED. Chromebooks will be available during all sessions as well as an in-person tutor from Georgia Piedmont College. \nClick here to learn more.
URL:https://metroatlantaexchange.org/event/dekalb-county-public-library-ged-study-time/2026-04-22/
LOCATION:Stonecrest Public Library\, 3123 Klondike Road\, Lithonia\, GA\, 30038\, United States
CATEGORIES:Career Development,In-Person Event
GEO:33.694361;-84.1097277
X-APPLE-STRUCTURED-LOCATION;VALUE=URI;X-ADDRESS=Stonecrest Public Library 3123 Klondike Road Lithonia GA 30038 United States;X-APPLE-RADIUS=500;X-TITLE=3123 Klondike Road:geo:-84.1097277,33.694361
END:VEVENT
BEGIN:VEVENT
DTSTART;TZID=America/New_York:20260422T103000
DTEND;TZID=America/New_York:20260422T110000
DTSTAMP:20260422T174725
CREATED:20260406T193002Z
LAST-MODIFIED:20260406T193002Z
UID:10036148-1776853800-1776855600@metroatlantaexchange.org
SUMMARY:Clayton County Library System: One-on-One Tech Class
DESCRIPTION:The Clayton County Library System hosts One-on-One Tech classes on Wednesdays\, from 10:30 AM to 11:00 AM\, at the Riverdale Branch. \nWork one-on-one with a librarian to explore your Pines account\, access online databases\, and use Microsoft Word. Bring your device for personalized help. \nClick here to register.
URL:https://metroatlantaexchange.org/event/clayton-county-library-system-one-on-one-tech-class/2026-04-22/
LOCATION:Clayton County Public Library – Riverdale\, 420 Valley Hill Road\, Riverdale\, GA\, 30274\, United States
CATEGORIES:Career Development,In-Person Event,Job Seeker
GEO:33.5701123;-84.4039771
X-APPLE-STRUCTURED-LOCATION;VALUE=URI;X-ADDRESS=Clayton County Public Library – Riverdale 420 Valley Hill Road Riverdale GA 30274 United States;X-APPLE-RADIUS=500;X-TITLE=420 Valley Hill Road:geo:-84.4039771,33.5701123
END:VEVENT
BEGIN:VEVENT
DTSTART;TZID=America/New_York:20260422T103000
DTEND;TZID=America/New_York:20260422T113000
DTSTAMP:20260422T174725
CREATED:20260406T193423Z
LAST-MODIFIED:20260406T193552Z
UID:10036156-1776853800-1776857400@metroatlantaexchange.org
SUMMARY:Goodwill of North Georgia: In-Person Interview Lab
DESCRIPTION:Goodwill of North Georgia\, in partnership with the @Promise Center\, is hosting an In-Person Interview Lab on Wednesdays\, from 10:30 AM to 11:30 AM\, at the @Promise Center. \nThis class is geared towards participants ages 16 to 24 years old. You must be registered with @promise to attend. \nClick here to register.
URL:https://metroatlantaexchange.org/event/goodwill-of-north-georgia-in-person-interview-lab/2026-04-22/
LOCATION:@Promise Center (MLK)\, 2175 Martin Luther King Jr. SW\, Atlanta\, 30310\, United States
CATEGORIES:Career Development,In-Person Event,Job Seeker
END:VEVENT
BEGIN:VEVENT
DTSTART;TZID=America/New_York:20260423T090000
DTEND;TZID=America/New_York:20260423T140000
DTSTAMP:20260422T174725
CREATED:20260408T204913Z
LAST-MODIFIED:20260408T204913Z
UID:10036214-1776934800-1776952800@metroatlantaexchange.org
SUMMARY:Goodwill of North Georgia: Welding Skills Orientation
DESCRIPTION:Goodwill of North Georgia is hosting a Welding Skills Orientation on Thursday\, April 23rd and Friday\, April 24th\, from 9:00 AM to 2:00 PM\, at the Cornelia Career Center. \nFor more information\, call 706-894-4905. \nClick here to learn more and register.
URL:https://metroatlantaexchange.org/event/goodwill-of-north-georgia-welding-skills-orientation-3/2026-04-23/
LOCATION:Goodwill of North Georgia – Cornelia Career Center\, 308 Habersham Hills Circle\, Cornelia\, GA\, 30531\, United States
CATEGORIES:Career Development,In-Person Event,Job Seeker
END:VEVENT
BEGIN:VEVENT
DTSTART;TZID=America/New_York:20260423T090000
DTEND;TZID=America/New_York:20260423T160000
DTSTAMP:20260422T174725
CREATED:20260408T204715Z
LAST-MODIFIED:20260408T204715Z
UID:10036212-1776934800-1776960000@metroatlantaexchange.org
SUMMARY:Goodwill of North Georgia: EVS Skills Orientation
DESCRIPTION:Goodwill of North Georgia is hosting an EVS Skills Orientation on Thursday\, April 23rd and Friday\, April 24th\, from 9:00 AM to 4:00 PM\, at the Smyrna Career Center. \nFor more information\, call 678-766-8173. \nClick here to learn more and register.
URL:https://metroatlantaexchange.org/event/goodwill-of-north-georgia-evs-skills-orientation/2026-04-23/
LOCATION:Goodwill of North Georgia – Smyrna Career Center\, 3205 South Cobb Drive\, Smyrna\, GA\, 30080\, United States
CATEGORIES:Career Development,In-Person Event,Job Seeker
GEO:33.8769374;-84.5289443
X-APPLE-STRUCTURED-LOCATION;VALUE=URI;X-ADDRESS=Goodwill of North Georgia – Smyrna Career Center 3205 South Cobb Drive Smyrna GA 30080 United States;X-APPLE-RADIUS=500;X-TITLE=3205 South Cobb Drive:geo:-84.5289443,33.8769374
END:VEVENT
BEGIN:VEVENT
DTSTART;TZID=America/New_York:20260423T103000
DTEND;TZID=America/New_York:20260423T113000
DTSTAMP:20260422T174725
CREATED:20260406T194503Z
LAST-MODIFIED:20260406T194503Z
UID:10036169-1776940200-1776943800@metroatlantaexchange.org
SUMMARY:Goodwill of North Georgia: Typing Thursdays
DESCRIPTION:Goodwill of North Georgia is hosting Typing Thursdays every Thursday\, from 10:30 AM to 11:30 AM\, at the Rome Career Center. \nFor more information\, call 706-292-3304. \nClick here to learn more and register.
URL:https://metroatlantaexchange.org/event/goodwill-of-north-georgia-typing-thursdays/2026-04-23/
LOCATION:Goodwill of North Georgia – Rome Career Center\, 154 Hicks Drive\, Rome\, 30161
CATEGORIES:Career Development,In-Person Event,Job Seeker
END:VEVENT
BEGIN:VEVENT
DTSTART;TZID=America/New_York:20260424T090000
DTEND;TZID=America/New_York:20260424T140000
DTSTAMP:20260422T174725
CREATED:20260408T204913Z
LAST-MODIFIED:20260408T204913Z
UID:10036215-1777021200-1777039200@metroatlantaexchange.org
SUMMARY:Goodwill of North Georgia: Welding Skills Orientation
DESCRIPTION:Goodwill of North Georgia is hosting a Welding Skills Orientation on Thursday\, April 23rd and Friday\, April 24th\, from 9:00 AM to 2:00 PM\, at the Cornelia Career Center. \nFor more information\, call 706-894-4905. \nClick here to learn more and register.
URL:https://metroatlantaexchange.org/event/goodwill-of-north-georgia-welding-skills-orientation-3/2026-04-24/
LOCATION:Goodwill of North Georgia – Cornelia Career Center\, 308 Habersham Hills Circle\, Cornelia\, GA\, 30531\, United States
CATEGORIES:Career Development,In-Person Event,Job Seeker
END:VEVENT
BEGIN:VEVENT
DTSTART;TZID=America/New_York:20260424T090000
DTEND;TZID=America/New_York:20260424T160000
DTSTAMP:20260422T174725
CREATED:20260408T204715Z
LAST-MODIFIED:20260408T204715Z
UID:10036213-1777021200-1777046400@metroatlantaexchange.org
SUMMARY:Goodwill of North Georgia: EVS Skills Orientation
DESCRIPTION:Goodwill of North Georgia is hosting an EVS Skills Orientation on Thursday\, April 23rd and Friday\, April 24th\, from 9:00 AM to 4:00 PM\, at the Smyrna Career Center. \nFor more information\, call 678-766-8173. \nClick here to learn more and register.
URL:https://metroatlantaexchange.org/event/goodwill-of-north-georgia-evs-skills-orientation/2026-04-24/
LOCATION:Goodwill of North Georgia – Smyrna Career Center\, 3205 South Cobb Drive\, Smyrna\, GA\, 30080\, United States
CATEGORIES:Career Development,In-Person Event,Job Seeker
GEO:33.8769374;-84.5289443
X-APPLE-STRUCTURED-LOCATION;VALUE=URI;X-ADDRESS=Goodwill of North Georgia – Smyrna Career Center 3205 South Cobb Drive Smyrna GA 30080 United States;X-APPLE-RADIUS=500;X-TITLE=3205 South Cobb Drive:geo:-84.5289443,33.8769374
END:VEVENT
BEGIN:VEVENT
DTSTART;TZID=America/New_York:20260424T093000
DTEND;TZID=America/New_York:20260424T163000
DTSTAMP:20260422T174725
CREATED:20260406T195758Z
LAST-MODIFIED:20260406T195758Z
UID:10036177-1777023000-1777048200@metroatlantaexchange.org
SUMMARY:Goodwill of North Georgia: Google AI Essential Workshop
DESCRIPTION:Goodwill of North Georgia\, in partnership with the @Promise Center\, is hosting a Google AI Essentials Workshop every Friday\, from 9:30 AM to 4:30 PM\, at the @Promise Center. \nThis class is geared towards participants ages 16 to 24 years old. You must be registered with @promise to attend. \nClick here to register.
URL:https://metroatlantaexchange.org/event/goodwill-of-north-georgia-google-ai-essential-workshop/2026-04-24/
LOCATION:@Promise Center (MLK)\, 2175 Martin Luther King Jr. SW\, Atlanta\, 30310\, United States
CATEGORIES:Career Development,In-Person Event,Job Seeker
END:VEVENT
BEGIN:VEVENT
DTSTART;TZID=America/New_York:20260424T100000
DTEND;TZID=America/New_York:20260424T110000
DTSTAMP:20260422T174725
CREATED:20260408T205411Z
LAST-MODIFIED:20260408T205411Z
UID:10036218-1777024800-1777028400@metroatlantaexchange.org
SUMMARY:Goodwill of North Georgia: On-Site Resume Workshop
DESCRIPTION:Goodwill of North Georgia is hosting an On-Site Resume Workshop on Friday\, April 24th\, from 10:00 AM to 11:00 AM\, at the Woodstock Career Center. \nFor more information\, call 770-874-0901. \nClick here to learn more and register.
URL:https://metroatlantaexchange.org/event/goodwill-of-north-georgia-on-site-resume-workshop-3/
LOCATION:Goodwill of North Georgia – Woodstock Career Center\, 9425 Highway 92\, Woodstock\, GA\, 30188\, United States
CATEGORIES:Career Development,In-Person Event,Job Seeker
GEO:34.0872637;-84.5325399
X-APPLE-STRUCTURED-LOCATION;VALUE=URI;X-ADDRESS=Goodwill of North Georgia – Woodstock Career Center 9425 Highway 92 Woodstock GA 30188 United States;X-APPLE-RADIUS=500;X-TITLE=9425 Highway 92:geo:-84.5325399,34.0872637
END:VEVENT
BEGIN:VEVENT
DTSTART;TZID=America/New_York:20260427T093000
DTEND;TZID=America/New_York:20260427T120000
DTSTAMP:20260422T174725
CREATED:20260406T185743Z
LAST-MODIFIED:20260406T185743Z
UID:10036121-1777282200-1777291200@metroatlantaexchange.org
SUMMARY:DeKalb County Public Library: GED Study Time
DESCRIPTION:The DeKalb County Public Library hosts GED Study Time every Monday and Wednesday\, from 10:00 AM to 1:00 PM\, at the Stonecrest Library. \nThe library will have a dedicated study space for those wishing to study for the GED. Chromebooks will be available during all sessions as well as an in-person tutor from Georgia Piedmont College. \nClick here to learn more.
URL:https://metroatlantaexchange.org/event/dekalb-county-public-library-ged-study-time/2026-04-27/
LOCATION:Stonecrest Public Library\, 3123 Klondike Road\, Lithonia\, GA\, 30038\, United States
CATEGORIES:Career Development,In-Person Event
GEO:33.694361;-84.1097277
X-APPLE-STRUCTURED-LOCATION;VALUE=URI;X-ADDRESS=Stonecrest Public Library 3123 Klondike Road Lithonia GA 30038 United States;X-APPLE-RADIUS=500;X-TITLE=3123 Klondike Road:geo:-84.1097277,33.694361
END:VEVENT
BEGIN:VEVENT
DTSTART;TZID=America/New_York:20260427T183000
DTEND;TZID=America/New_York:20260427T203000
DTSTAMP:20260422T174725
CREATED:20260408T210023Z
LAST-MODIFIED:20260408T210023Z
UID:10036221-1777314600-1777321800@metroatlantaexchange.org
SUMMARY:National Black MBA Association (Atlanta Chapter): Chapter Meeting - AI & Digital Transformation
DESCRIPTION:The National Black MBA Association – Atlanta Chapter is hosting a Chapter Meeting: AI & Digital Transformation on Monday\, April 27th\, from 6:30 PM to 8:30 PM\, at Microsoft. \nExplore how AI & digital transformation are reshaping leadership\, careers\, & today’s leaders need to know to stay future-ready. This chapter meeting will explore how artificial intelligence and emerging digital tools are reshaping industries\, decision-making\, and the future of work. Attendees will gain high-level insights into trends\, opportunities\, and considerations leaders should understand to stay competitive\, adaptable\, and informed in a rapidly evolving digital landscape. \nClick here to learn more and register.
URL:https://metroatlantaexchange.org/event/national-black-mba-association-atlanta-chapter-chapter-meeting-ai-digital-transformation/
LOCATION:Microsoft\, 200 17th Street\, NW\, Atlanta\, 30363\, United States
CATEGORIES:Career Development,In-Person Event,Job Seeker
END:VEVENT
BEGIN:VEVENT
DTSTART;TZID=America/New_York:20260428T110000
DTEND;TZID=America/New_York:20260428T120000
DTSTAMP:20260422T174725
CREATED:20260408T211214Z
LAST-MODIFIED:20260408T211214Z
UID:10036222-1777374000-1777377600@metroatlantaexchange.org
SUMMARY:Fulton County Library System: Word for Beginners
DESCRIPTION:The Fulton County Library System is hosting a Word for Beginners class on Tuesday\, April 28th\, from 11:00 AM to 12:00 PM\, at the Central Library. \nLearn to edit templates and create original documents for personal and professional use at Central Library’s Microsoft Word Classes. Participants must have basic computer skills. No registration required for this class. \nClick here to learn more and register.
URL:https://metroatlantaexchange.org/event/fulton-county-library-system-word-for-beginners/
LOCATION:Central Library\, 1 Margaret Mitchell Square\, Atlanta\, GA\, 30303\, United States
CATEGORIES:Career Development,In-Person Event,Job Seeker
END:VEVENT
BEGIN:VEVENT
DTSTART;TZID=America/New_York:20260428T163000
DTEND;TZID=America/New_York:20260428T173000
DTSTAMP:20260422T174725
CREATED:20260406T191925Z
LAST-MODIFIED:20260406T191925Z
UID:10036129-1777393800-1777397400@metroatlantaexchange.org
SUMMARY:Fulton County Library System: Professional Resume and Cover Letter Class
DESCRIPTION:The Fulton County Library System hosts a Professional Resume and Cover Letter class on Tuesdays\, from 4:30 PM to 5:30 PM\, at the Dogwood Branch. \nThis event will provide tips and strategies for creating a standout resume and cover letter and it is free and open to the public. \nClick here for a flyer.
URL:https://metroatlantaexchange.org/event/fulton-county-library-system-professional-resume-and-cover-letter-class/2026-04-28/
LOCATION:Dogwood Branch\, 1838 Donald Lee Hollowell Parkway\, NW\, Atlanta\, GA\, 30318\, United States
CATEGORIES:Career Development,In-Person Event,Job Seeker
END:VEVENT
BEGIN:VEVENT
DTSTART;TZID=America/New_York:20260428T180000
DTEND;TZID=America/New_York:20260428T190000
DTSTAMP:20260422T174725
CREATED:20260406T192331Z
LAST-MODIFIED:20260406T192331Z
UID:10036138-1777399200-1777402800@metroatlantaexchange.org
SUMMARY:Fulton County Library System: Computer Class
DESCRIPTION:The Fulton County Library System is hosting a Computer Class every Tuesday\, from 6:00 PM to 7:00 PM\, at the Gladys S. Dennard Library. \nJoin an exciting session designed to boost your digital skills! Whether you’re looking to master your computer\, navigate the internet\, or make the most of your mobile devices and e-readers. \nClick here to learn more and register.
URL:https://metroatlantaexchange.org/event/fulton-county-library-system-computer-class-3/2026-04-28/
LOCATION:Gladys S. Dennard Library\, 4055 Flat Shoals Road\, Union City\, GA\, 30291\, United States
CATEGORIES:Career Development,In-Person Event,Job Seeker
END:VEVENT
BEGIN:VEVENT
DTSTART;TZID=America/New_York:20260429T090000
DTEND;TZID=America/New_York:20260429T100000
DTSTAMP:20260422T174725
CREATED:20250902T220734Z
LAST-MODIFIED:20250902T220734Z
UID:10035281-1777453200-1777456800@metroatlantaexchange.org
SUMMARY:Goodwill of North Georgia: NorthStar Testing Session
DESCRIPTION:Goodwill of North Georgia is hosting a NorthStar Testing Session every Wednesday\, from 9:00 AM to 10:00 AM\, at the Woodstock Career Center. \nFor more information\, call 770-874-0901. \nClick here to learn more and register.
URL:https://metroatlantaexchange.org/event/goodwill-of-north-georgia-northstar-testing-session/2026-04-29/
LOCATION:Goodwill of North Georgia – Woodstock Career Center\, 9425 Highway 92\, Woodstock\, GA\, 30188\, United States
CATEGORIES:Career Development,In-Person Event,Job Seeker
GEO:34.0872637;-84.5325399
X-APPLE-STRUCTURED-LOCATION;VALUE=URI;X-ADDRESS=Goodwill of North Georgia – Woodstock Career Center 9425 Highway 92 Woodstock GA 30188 United States;X-APPLE-RADIUS=500;X-TITLE=9425 Highway 92:geo:-84.5325399,34.0872637
END:VEVENT
BEGIN:VEVENT
DTSTART;TZID=America/New_York:20260429T093000
DTEND;TZID=America/New_York:20260429T120000
DTSTAMP:20260422T174725
CREATED:20260406T185743Z
LAST-MODIFIED:20260406T185743Z
UID:10036122-1777455000-1777464000@metroatlantaexchange.org
SUMMARY:DeKalb County Public Library: GED Study Time
DESCRIPTION:The DeKalb County Public Library hosts GED Study Time every Monday and Wednesday\, from 10:00 AM to 1:00 PM\, at the Stonecrest Library. \nThe library will have a dedicated study space for those wishing to study for the GED. Chromebooks will be available during all sessions as well as an in-person tutor from Georgia Piedmont College. \nClick here to learn more.
URL:https://metroatlantaexchange.org/event/dekalb-county-public-library-ged-study-time/2026-04-29/
LOCATION:Stonecrest Public Library\, 3123 Klondike Road\, Lithonia\, GA\, 30038\, United States
CATEGORIES:Career Development,In-Person Event
GEO:33.694361;-84.1097277
X-APPLE-STRUCTURED-LOCATION;VALUE=URI;X-ADDRESS=Stonecrest Public Library 3123 Klondike Road Lithonia GA 30038 United States;X-APPLE-RADIUS=500;X-TITLE=3123 Klondike Road:geo:-84.1097277,33.694361
END:VEVENT
BEGIN:VEVENT
DTSTART;TZID=America/New_York:20260429T103000
DTEND;TZID=America/New_York:20260429T110000
DTSTAMP:20260422T174725
CREATED:20260406T193002Z
LAST-MODIFIED:20260406T193002Z
UID:10036149-1777458600-1777460400@metroatlantaexchange.org
SUMMARY:Clayton County Library System: One-on-One Tech Class
DESCRIPTION:The Clayton County Library System hosts One-on-One Tech classes on Wednesdays\, from 10:30 AM to 11:00 AM\, at the Riverdale Branch. \nWork one-on-one with a librarian to explore your Pines account\, access online databases\, and use Microsoft Word. Bring your device for personalized help. \nClick here to register.
URL:https://metroatlantaexchange.org/event/clayton-county-library-system-one-on-one-tech-class/2026-04-29/
LOCATION:Clayton County Public Library – Riverdale\, 420 Valley Hill Road\, Riverdale\, GA\, 30274\, United States
CATEGORIES:Career Development,In-Person Event,Job Seeker
GEO:33.5701123;-84.4039771
X-APPLE-STRUCTURED-LOCATION;VALUE=URI;X-ADDRESS=Clayton County Public Library – Riverdale 420 Valley Hill Road Riverdale GA 30274 United States;X-APPLE-RADIUS=500;X-TITLE=420 Valley Hill Road:geo:-84.4039771,33.5701123
END:VEVENT
BEGIN:VEVENT
DTSTART;TZID=America/New_York:20260429T103000
DTEND;TZID=America/New_York:20260429T113000
DTSTAMP:20260422T174725
CREATED:20260406T193423Z
LAST-MODIFIED:20260406T193552Z
UID:10036157-1777458600-1777462200@metroatlantaexchange.org
SUMMARY:Goodwill of North Georgia: In-Person Interview Lab
DESCRIPTION:Goodwill of North Georgia\, in partnership with the @Promise Center\, is hosting an In-Person Interview Lab on Wednesdays\, from 10:30 AM to 11:30 AM\, at the @Promise Center. \nThis class is geared towards participants ages 16 to 24 years old. You must be registered with @promise to attend. \nClick here to register.
URL:https://metroatlantaexchange.org/event/goodwill-of-north-georgia-in-person-interview-lab/2026-04-29/
LOCATION:@Promise Center (MLK)\, 2175 Martin Luther King Jr. SW\, Atlanta\, 30310\, United States
CATEGORIES:Career Development,In-Person Event,Job Seeker
END:VEVENT
BEGIN:VEVENT
DTSTART;TZID=America/New_York:20260429T160000
DTEND;TZID=America/New_York:20260429T200000
DTSTAMP:20260422T174725
CREATED:20260408T212005Z
LAST-MODIFIED:20260408T212005Z
UID:10036227-1777478400-1777492800@metroatlantaexchange.org
SUMMARY:Women in Technology (WIT): WIT Connect
DESCRIPTION:Women in Technology (WIT) is hosting a WIT Connect event on Wednesday\, April 29th\, from 4:00 PM to 8:00 PM\, at Topgolf in Midtown. \nJoin leaders and professionals from across the tech industry to support WIT programming and community-building at WIT Connect\, an annual fundraising event. It’s a fun and powerful way to show your support for women and girls in technology\, and you won’t want to miss it! If you don’t want to play golf\, there’s still plenty to enjoy! Food and drinks will be provided in a casual setting to meet other tech professionals and make new friends in the WIT community. \nClick here to learn more and register.
URL:https://metroatlantaexchange.org/event/women-in-technology-wit-wit-connect/
LOCATION:TopGolf- Atlanta\, 1600 Ellsworth Industrial Boulevard\, NW\, Atlanta\, GA\, 30318\, United States
CATEGORIES:Career Development,In-Person Event,Job Seeker
END:VEVENT
BEGIN:VEVENT
DTSTART;TZID=America/New_York:20260430T103000
DTEND;TZID=America/New_York:20260430T113000
DTSTAMP:20260422T174725
CREATED:20260406T194503Z
LAST-MODIFIED:20260406T194503Z
UID:10036170-1777545000-1777548600@metroatlantaexchange.org
SUMMARY:Goodwill of North Georgia: Typing Thursdays
DESCRIPTION:Goodwill of North Georgia is hosting Typing Thursdays every Thursday\, from 10:30 AM to 11:30 AM\, at the Rome Career Center. \nFor more information\, call 706-292-3304. \nClick here to learn more and register.
URL:https://metroatlantaexchange.org/event/goodwill-of-north-georgia-typing-thursdays/2026-04-30/
LOCATION:Goodwill of North Georgia – Rome Career Center\, 154 Hicks Drive\, Rome\, 30161
CATEGORIES:Career Development,In-Person Event,Job Seeker
END:VEVENT
END:VCALENDAR