BEGIN:VCALENDAR
VERSION:2.0
PRODID:-//MAX - ECPv6.15.17.1//NONSGML v1.0//EN
CALSCALE:GREGORIAN
METHOD:PUBLISH
X-ORIGINAL-URL:https://metroatlantaexchange.org
X-WR-CALDESC:Events for MAX
REFRESH-INTERVAL;VALUE=DURATION:PT1H
X-Robots-Tag:noindex
X-PUBLISHED-TTL:PT1H
BEGIN:VTIMEZONE
TZID:America/New_York
BEGIN:DAYLIGHT
TZOFFSETFROM:-0500
TZOFFSETTO:-0400
TZNAME:EDT
DTSTART:20250309T070000
END:DAYLIGHT
BEGIN:STANDARD
TZOFFSETFROM:-0400
TZOFFSETTO:-0500
TZNAME:EST
DTSTART:20251102T060000
END:STANDARD
BEGIN:DAYLIGHT
TZOFFSETFROM:-0500
TZOFFSETTO:-0400
TZNAME:EDT
DTSTART:20260308T070000
END:DAYLIGHT
BEGIN:STANDARD
TZOFFSETFROM:-0400
TZOFFSETTO:-0500
TZNAME:EST
DTSTART:20261101T060000
END:STANDARD
BEGIN:DAYLIGHT
TZOFFSETFROM:-0500
TZOFFSETTO:-0400
TZNAME:EDT
DTSTART:20270314T070000
END:DAYLIGHT
BEGIN:STANDARD
TZOFFSETFROM:-0400
TZOFFSETTO:-0500
TZNAME:EST
DTSTART:20271107T060000
END:STANDARD
END:VTIMEZONE
BEGIN:VEVENT
DTSTART;TZID=America/New_York:20260418T080000
DTEND;TZID=America/New_York:20260424T170000
DTSTAMP:20260422T174703
CREATED:20251203T201931Z
LAST-MODIFIED:20251203T201931Z
UID:10035762-1776499200-1777050000@metroatlantaexchange.org
SUMMARY:Aspen Institute:Aspen Executive Seminar on Leadership\, Values\, and the Good Society
DESCRIPTION:The Aspen Institute is hosting the Aspen Executive Seminar on Leadership\, Values\, and the Good Society starting Saturday\, April 18th through Friday\, April 24th\, at the Aspen Meadows Resort. \nThe Aspen Executive Seminar on Leadership\, Values\, and the Good Society challenges experienced leaders to engage with the ideas and ideals that have shaped our world. Through a small cohort\, the Aspen Executive Seminar creates space for conversations that stretch thinking\, challenge assumptions\, and invite participants to consider not just what they believe\, but how those beliefs motivate their actions in the world\, shaping how they lead. \nClick here to learn more and register.
URL:https://metroatlantaexchange.org/event/aspen-instituteaspen-executive-seminar-on-leadership-values-and-the-good-society/
LOCATION:Aspen Meadows Resort\, 845 Meadows Road\, Aspen\, CO\, 81611\, United States
CATEGORIES:Conferences,In-Person Event,Workforce Developer
END:VEVENT
BEGIN:VEVENT
DTSTART;TZID=America/New_York:20260422T081500
DTEND;TZID=America/New_York:20260423T173000
DTSTAMP:20260422T174703
CREATED:20260408T214249Z
LAST-MODIFIED:20260408T214249Z
UID:10036240-1776845700-1776965400@metroatlantaexchange.org
SUMMARY:Society for Human Resource Management (SHRM) – Atlanta: SOAHR 2026
DESCRIPTION:The Society for Human Resource Management (SHRM) – Atlanta is hosting SOAHR 2026 on Wednesday\, April 22nd and Thursday\, April 23rd\, starting at 8:15 AM\, at the Gas South Convention Center. \nSHRM-Atlanta’s 36th annual conference will expand your capacity to meet current challenges and succeed in the future. You and your organization will benefit from the two days you spend immersed in learning from thought leaders and peer practitioners. SOAHR will benefit anyone who manages people or considers themselves part of the HR community. \nThe conference brings together students\, professionals\, and executives to exchange ideas\, hear from experts\, and learn more about the products and services that will enable people like you to accomplish their goals. \nClick here to learn more and register. \n 
URL:https://metroatlantaexchange.org/event/society-for-human-resource-management-shrm-atlanta-soahr-2026-2/
LOCATION:Gas South Arena\, 6400 Sugarloaf Parkway\, Duluth\, GA\, 30097\, United States
CATEGORIES:Conferences,In-Person Event,Workforce Developer
ORGANIZER;CN="The Society for Human Resource Management":MAILTO:info@shrmatlanta.org
END:VEVENT
BEGIN:VEVENT
DTSTART;TZID=America/New_York:20260423T080000
DTEND;TZID=America/New_York:20260423T170000
DTSTAMP:20260422T174703
CREATED:20251109T020929Z
LAST-MODIFIED:20251109T020929Z
UID:10035533-1776931200-1776963600@metroatlantaexchange.org
SUMMARY:Society for Human Resource Management (SHRM) – Atlanta: SOAHR 2026
DESCRIPTION:The Society for Human Resource Management (SHRM) – Atlanta is hosting SOAHR 2026 on Wednesday\, April 22nd and Thursday\, April 2023rd\, at the Gas South Convention Center. \nSHRM-Atlanta’s 36th annual conference will expand your capacity to meet current challenges and succeed in the future. You and your organization will benefit from the two days you spend immersed in learning from thought leaders and peer practitioners. SOAHR will benefit anyone who manages people or considers themselves part of the HR community. The conference brings together students\, professionals\, and executives to exchange ideas\, hear from experts\, and learn more about the products and services that will enable people like you to accomplish their goals. \nClick here to learn more and register.
URL:https://metroatlantaexchange.org/event/society-for-human-resource-management-shrm-atlanta-soahr-2026/
LOCATION:Gas South Arena\, 6400 Sugarloaf Parkway\, Duluth\, GA\, 30097\, United States
CATEGORIES:Conferences,In-Person Event,Workforce Developer
ORGANIZER;CN="The Society for Human Resource Management":MAILTO:info@shrmatlanta.org
END:VEVENT
END:VCALENDAR