BEGIN:VCALENDAR
VERSION:2.0
PRODID:-//MAX - ECPv6.15.17.1//NONSGML v1.0//EN
CALSCALE:GREGORIAN
METHOD:PUBLISH
X-WR-CALNAME:MAX
X-ORIGINAL-URL:https://metroatlantaexchange.org
X-WR-CALDESC:Events for MAX
REFRESH-INTERVAL;VALUE=DURATION:PT1H
X-Robots-Tag:noindex
X-PUBLISHED-TTL:PT1H
BEGIN:VTIMEZONE
TZID:America/New_York
BEGIN:DAYLIGHT
TZOFFSETFROM:-0500
TZOFFSETTO:-0400
TZNAME:EDT
DTSTART:20240310T070000
END:DAYLIGHT
BEGIN:STANDARD
TZOFFSETFROM:-0400
TZOFFSETTO:-0500
TZNAME:EST
DTSTART:20241103T060000
END:STANDARD
BEGIN:DAYLIGHT
TZOFFSETFROM:-0500
TZOFFSETTO:-0400
TZNAME:EDT
DTSTART:20250309T070000
END:DAYLIGHT
BEGIN:STANDARD
TZOFFSETFROM:-0400
TZOFFSETTO:-0500
TZNAME:EST
DTSTART:20251102T060000
END:STANDARD
BEGIN:DAYLIGHT
TZOFFSETFROM:-0500
TZOFFSETTO:-0400
TZNAME:EDT
DTSTART:20260308T070000
END:DAYLIGHT
BEGIN:STANDARD
TZOFFSETFROM:-0400
TZOFFSETTO:-0500
TZNAME:EST
DTSTART:20261101T060000
END:STANDARD
END:VTIMEZONE
BEGIN:VEVENT
DTSTART;TZID=America/New_York:20250804T123000
DTEND;TZID=America/New_York:20250804T133000
DTSTAMP:20260422T104734
CREATED:20250726T210113Z
LAST-MODIFIED:20250726T210113Z
UID:10034266-1754310600-1754314200@metroatlantaexchange.org
SUMMARY:Manufacturing Institute: Heroes MAKE America SkillBridge Information Session
DESCRIPTION:The Manufacturing Institute is hosting a virtual Heroes Make America Skillbridge Information Session on Monday\, August 4th\, from 12:30 PM to 1:00 PM. \nThis is an overview of the Heroes MAKE America initiative. It will provide an insight into diverse career opportunities in manufacturing. It is an overview for transitioning service members\, veterans\, military spouses\, Guard members and reservists to learn how to participate. \nClick here to learn more and to register.
URL:https://metroatlantaexchange.org/event/manufacturing-institute-heroes-make-america-skillbridge-information-session-5/
LOCATION:GA
CATEGORIES:Career Development,Job Seeker,Veterans/Military,Virtual Event
END:VEVENT
BEGIN:VEVENT
DTSTART;TZID=America/New_York:20250805T110000
DTEND;TZID=America/New_York:20250805T130000
DTSTAMP:20260422T104734
CREATED:20250802T130648Z
LAST-MODIFIED:20250802T130648Z
UID:10034689-1754391600-1754398800@metroatlantaexchange.org
SUMMARY:Goodwill of North Georgia: Veteran Securing Hiring Event
DESCRIPTION:Goodwill of North Georgia is hosting a Veteran Securing Hiring Event on Tuesday\, August 5th\, from 11:00 AM to 1:00 PM\, at the Woodstock Career Center. \nFor more information\, call 770-874-0901. \nClick here to learn more and register.
URL:https://metroatlantaexchange.org/event/goodwill-of-north-georgia-veteran-securing-hiring-event/
LOCATION:Goodwill of North Georgia – Woodstock Career Center\, 9425 Highway 92\, Woodstock\, GA\, 30188\, United States
CATEGORIES:In-Person Event,Job Seeker,Veterans/Military
GEO:34.0872637;-84.5325399
X-APPLE-STRUCTURED-LOCATION;VALUE=URI;X-ADDRESS=Goodwill of North Georgia – Woodstock Career Center 9425 Highway 92 Woodstock GA 30188 United States;X-APPLE-RADIUS=500;X-TITLE=9425 Highway 92:geo:-84.5325399,34.0872637
END:VEVENT
BEGIN:VEVENT
DTSTART;TZID=America/New_York:20250805T110000
DTEND;TZID=America/New_York:20250805T150000
DTSTAMP:20260422T104734
CREATED:20250622T195824Z
LAST-MODIFIED:20250622T195824Z
UID:10034021-1754391600-1754406000@metroatlantaexchange.org
SUMMARY:RecruitMilitary: Transitioning Service Member and Spouse Virtual Career Fair
DESCRIPTION:RecruitMilitary is hosting a Transitioning Service Member and Spouse Virtual Career Fair on Tuesday\, August 5th\, from 11:00 AM to 3:00 PM. \nThis event is where job seekers with military experience can meet with recruiters from local and national companies. These events are free for U.S veterans\, military spouses\, transitioning military\, and members of the Guard and Reserve. This career fair offers you a direct online connection to employers\, career opportunities\, and educational options. Prepare by completing your profiles\, uploading your resume and researching attending companies. \nClick here to learn more and register.
URL:https://metroatlantaexchange.org/event/recruitmilitary-transitioning-service-member-and-spouse-virtual-career-fair/
LOCATION:GA
CATEGORIES:Job Seeker,Veterans/Military,Virtual Event
END:VEVENT
BEGIN:VEVENT
DTSTART;TZID=America/New_York:20250806T120000
DTEND;TZID=America/New_York:20250807T180000
DTSTAMP:20260422T104734
CREATED:20250726T210649Z
LAST-MODIFIED:20250726T210649Z
UID:10034269-1754481600-1754589600@metroatlantaexchange.org
SUMMARY:Hiring Our Heroes: Virtual Amplify
DESCRIPTION:  \nHiring Our Heroes is hosting a Virtual Amplify starting Wednesday\, August 6th through Thursday\, August 7th\, from 12:00 PM to 6:00 PM. \nRegister now for this two-day virtual event for military spouses focused on career development.Event content includes professional development on topics such as resume building\, interviewing skills\, LinkedIn\, compensation negotiation\, strategic networking\, and more. Engage with employers and military organizations\, gain access to nationwide resources\, learn about volunteer and employment opportunities\, get information regarding upcoming events\, and network with fellow military spouses. \nClick here to learn more and register.
URL:https://metroatlantaexchange.org/event/hiring-our-heroes-virtual-amplify-4/
LOCATION:GA
CATEGORIES:Career Development,Job Seeker,Veterans/Military,Virtual Event
END:VEVENT
BEGIN:VEVENT
DTSTART;TZID=America/New_York:20250806T150000
DTEND;TZID=America/New_York:20250806T160000
DTSTAMP:20260422T104734
CREATED:20250726T210751Z
LAST-MODIFIED:20250726T210751Z
UID:10034270-1754492400-1754496000@metroatlantaexchange.org
SUMMARY:Hiring Our Heroes: Military Spouse Fellowships Virtual Information Session
DESCRIPTION:Hiring Our Heroes is hosting a Military Spouse Fellowships Virtual Information Session on Wednesday\, August 6th\, starting at 3:00 PM. \nThese fellowships provide military spouses access to professional training\, valuable networking opportunities\, and hands-on experience in the civilian workforce. Participants benefit from direct engagement with local employers\, enabling them to build strong professional networks and gain meaningful\, localized job experience. \nClick here to learn more and register.
URL:https://metroatlantaexchange.org/event/hiring-our-heroes-military-spouse-fellowships-virtual-information-session-2/
LOCATION:GA
CATEGORIES:Career Development,Job Seeker,Veterans/Military,Virtual Event
END:VEVENT
BEGIN:VEVENT
DTSTART;TZID=America/New_York:20250806T150000
DTEND;TZID=America/New_York:20250806T160000
DTSTAMP:20260422T104734
CREATED:20250726T210914Z
LAST-MODIFIED:20250726T210914Z
UID:10034271-1754492400-1754496000@metroatlantaexchange.org
SUMMARY:Manufacturing Institute: Atlas Copco Group Virtual Event
DESCRIPTION:The Manufacturing Institute is hosting an Atlas Copco Group Virtual Event on Wednesday\, August 6th\, from 3:00 PM to 4:00 PM. \nHave you ever thought what AI\, quantum science\, hydrogen vehicles\, renewable energy\, portable power solutions and life-saving medical treatment all have in common? The answer is Atlas Copco Group. Every day\, across the United States and around the world\, Atlas Copco Group products are working to produce just about everything we need and consume. Solutions include compressors\, vacuum pumps\, industrial tooling\, and portable power equipment. This event will allow participants to connect with company leaders about their operations\, locations\, Veteran-friendly culture and learn about current career opportunities. \nClick here to learn more and register via Zoom.
URL:https://metroatlantaexchange.org/event/manufacturing-institute-atlas-copco-group-virtual-event/
LOCATION:GA
CATEGORIES:Career Development,Job Seeker,Veterans/Military,Virtual Event
END:VEVENT
BEGIN:VEVENT
DTSTART;TZID=America/New_York:20250807T150000
DTEND;TZID=America/New_York:20250807T160000
DTSTAMP:20260422T104734
CREATED:20250726T211023Z
LAST-MODIFIED:20250726T211023Z
UID:10034272-1754578800-1754582400@metroatlantaexchange.org
SUMMARY:Hiring Our Heroes: Salesforce Fellowship Program Information Session
DESCRIPTION:Hiring Our Heroes is hosting a Salesforce Fellowship Program Information Session on Thursday\, August 7th\, starting at 3:00 PM. \nThe Hiring Our Heroes Salesforce Fellowship allows transitioning service members and currently serving military spouses to participate in paid 12-week fellowships\, gaining targeted experience as a certified Salesforce professional. The program highlights include remote/hybrid and portable roles; $90\,170 average salary; and 95% job offer rate. \nClick here to learn more and register.
URL:https://metroatlantaexchange.org/event/hiring-our-heroes-salesforce-fellowship-program-information-session/
LOCATION:GA
CATEGORIES:Career Development,Job Seeker,Veterans/Military,Virtual Event
END:VEVENT
BEGIN:VEVENT
DTSTART;TZID=America/New_York:20250812T190000
DTEND;TZID=America/New_York:20250812T200000
DTSTAMP:20260422T104734
CREATED:20250726T213625Z
LAST-MODIFIED:20250726T213625Z
UID:10034280-1755025200-1755028800@metroatlantaexchange.org
SUMMARY:Hiring Our Heroes: Corporate Fellowship Program Information Session
DESCRIPTION:Hiring Our Heroes is hosting a Corporate Fellowship Program Information Session on Tuesday\, August 12th\, starting at 7:00 PM. \nWe invite transitioning service members to learn more about our SkillBridge fellowships\, which provide professional training and hands-on experience in the civilian workforce. These fellowships are designed to prepare you for a smooth transition into meaningful civilian careers. \nClick here to learn more and register.
URL:https://metroatlantaexchange.org/event/hiring-our-heroes-corporate-fellowship-program-information-session-5/
LOCATION:GA
CATEGORIES:Career Development,Job Seeker,Veterans/Military,Virtual Event
END:VEVENT
BEGIN:VEVENT
DTSTART;TZID=America/New_York:20250813T150000
DTEND;TZID=America/New_York:20250813T153000
DTSTAMP:20260422T104734
CREATED:20250802T180905Z
LAST-MODIFIED:20250802T180905Z
UID:10034903-1755097200-1755099000@metroatlantaexchange.org
SUMMARY:Hiring Our Heroes: Career Forward Virtual Information Session
DESCRIPTION:Hiring Our Heroes is hosting a Career Forward Virtual Information Session on Wednesday\, August 13th\, from 3:00 PM to 3:30 PM. \nThis online chat will connect you directly with organizations from the comfort of your home\, office\, smartphone or tablet. Our online\, cloud-based platform makes it easy and fun for you to participate. After signing up\, you’ll be able to explore the available information and opportunities and participate in 1-on-1 text-based chats with representatives from participating organizations. Share your background and experience and get all your questions answered. \nClick here to register via Zoom.
URL:https://metroatlantaexchange.org/event/hiring-our-heroes-career-forward-virtual-information-session-2/
LOCATION:GA
CATEGORIES:Career Development,Job Seeker,Veterans/Military,Virtual Event
END:VEVENT
BEGIN:VEVENT
DTSTART;TZID=America/New_York:20250814T120000
DTEND;TZID=America/New_York:20250814T130000
DTSTAMP:20260422T104734
CREATED:20250726T215029Z
LAST-MODIFIED:20250726T215029Z
UID:10034285-1755172800-1755176400@metroatlantaexchange.org
SUMMARY:G.I Jobs: Veteran Get Hired Virtual Workshop
DESCRIPTION:G.I Jobs is hosting a Veteran Get Hired Virtual Workshop on Thursday\, August 14th\, from 12:00 PM to 1:00 PM. \nThere will be a panel discussion with insider tips on getting noticed and getting hired from today’s biggest brands during this free live Zoom event. Recruiter secrets will be revealed\, so don’t miss this opportunity! \nClick here to learn more and register.
URL:https://metroatlantaexchange.org/event/g-i-jobs-veteran-get-hired-virtual-workshop/
LOCATION:GA
CATEGORIES:Career Development,Job Seeker,Veterans/Military,Virtual Event
END:VEVENT
BEGIN:VEVENT
DTSTART;TZID=America/New_York:20250819T140000
DTEND;TZID=America/New_York:20250819T153000
DTSTAMP:20260422T104734
CREATED:20250726T215705Z
LAST-MODIFIED:20250726T215705Z
UID:10034288-1755612000-1755617400@metroatlantaexchange.org
SUMMARY:Office of the Chief Human Capital Officer: VA Federal Application Webinar
DESCRIPTION:The Office of the Chief Human Capital Officer is hosting a VA Federal Application Webinar on Tuesday\, August 19th\, from 2:00 PM to 3:30 PM. \nDuring this virtual session\, Veteran and Military Spouse Talent Engagement Program’s (VMSTEP) personnel will present on how to write a federal government resume\, set up a user account and navigate USAJOBS. Get ready to learn insider tips and tricks for crafting a standout federal application that will get you noticed by top federal employers. You will learn the difference between a private sector and federal resume and tips to enhance describing your experience. \nClick here to learn more and register.
URL:https://metroatlantaexchange.org/event/office-of-the-chief-human-capital-officer-va-federal-application-webinar-3/
LOCATION:GA
CATEGORIES:Career Development,Job Seeker,Veterans/Military,Virtual Event
END:VEVENT
BEGIN:VEVENT
DTSTART;TZID=America/New_York:20250820T090000
DTEND;TZID=America/New_York:20250820T130000
DTSTAMP:20260422T104734
CREATED:20250802T184851Z
LAST-MODIFIED:20250802T184851Z
UID:10034914-1755680400-1755694800@metroatlantaexchange.org
SUMMARY:Hiring Our Heroes: Virtual Amplify - Career Preparation and Professional Development Virtual Event
DESCRIPTION:Hiring Our Heroes is hosting a Virtual Amplify – Career Preparation and Professional Development Virtual Event on Wednesday\, August 20th\, from 9:00 AM to 1:00 PM. \nParticipants will be given the opportunity to engage in professional workshops and interactive sessions designed to support transitions to the private sector. Topics will include branding\, resume support\, interview techniques and networking. Amplify attendees will leave with valuable tools\, resource and an expanded network to facilitate their career growth. This event is open to transitioning service members\, veterans\, military spouses\, and military caregivers. \nClick here to register.
URL:https://metroatlantaexchange.org/event/hiring-our-heroes-virtual-amplify-career-preparation-and-professional-development-virtual-event/
LOCATION:GA
CATEGORIES:Career Development,Job Seeker,Veterans/Military,Virtual Event
END:VEVENT
BEGIN:VEVENT
DTSTART;TZID=America/New_York:20250820T110000
DTEND;TZID=America/New_York:20250820T150000
DTSTAMP:20260422T104734
CREATED:20250802T144121Z
LAST-MODIFIED:20250802T144121Z
UID:10034725-1755687600-1755702000@metroatlantaexchange.org
SUMMARY:Corporate Gray: Virtual Job Fair
DESCRIPTION:Corporate Gray is hosting a Virtual Job Fair on Wednesday\, August 20th\, from 11:00 AM to 2:00 PM. \nThis military-friendly online job fair will provide military-experienced job seekers the opportunity to interview with employers nationwide via text chat and video. This event is open to transitioning service members\, veterans\, and military spouses. \nClick here to learn more and register.
URL:https://metroatlantaexchange.org/event/corporate-gray-virtual-job-fair-4/
LOCATION:GA
CATEGORIES:Job Seeker,Veterans/Military,Virtual Event
END:VEVENT
BEGIN:VEVENT
DTSTART;TZID=America/New_York:20250820T130000
DTEND;TZID=America/New_York:20250820T160000
DTSTAMP:20260422T104734
CREATED:20250802T144504Z
LAST-MODIFIED:20250802T144504Z
UID:10034727-1755694800-1755705600@metroatlantaexchange.org
SUMMARY:Hiring Our Heroes: Virtual Hiring Fair - Southern U.S. Region
DESCRIPTION:Hiring Our Heroes is hosting a Virtual Hiring Fair: Southern U.S. Region on Wednesday\, August 20th\, from 1:00 PM to 4:00 PM. \nJoin Hiring Our Heroes and representatives from organizations hiring for a variety of roles in the Southern U.S. region for a virtual hiring fair. This event is open to transitioning service members\, veterans\, military spouses\, and military caregivers\, and will connect you directly with organizations from the comfort of your home\, office\, smartphone\, or tablet. Our online\, cloud-based platform makes it easy and fun for you to participate. After signing up\, you will be able to explore the available information and opportunities and participate in 1-on-1 text-based chats with representatives from participating organizations. Share your background and experience and get all your questions answered. \nClick here to learn more and register.
URL:https://metroatlantaexchange.org/event/hiring-our-heroes-virtual-hiring-fair-southern-u-s-region/
LOCATION:GA
CATEGORIES:Job Seeker,Veterans/Military,Virtual Event
END:VEVENT
BEGIN:VEVENT
DTSTART;TZID=America/New_York:20250820T190000
DTEND;TZID=America/New_York:20250820T200000
DTSTAMP:20260422T104734
CREATED:20250726T220318Z
LAST-MODIFIED:20250726T220318Z
UID:10034291-1755716400-1755720000@metroatlantaexchange.org
SUMMARY:Hiring Our Heroes: Military Spouse Fellowships Information Session
DESCRIPTION:Hiring Our Heroes is hosting a Military Spouse Fellowships Information Session on Wednesday\, August 20th\, starting at 7:00 PM. \nThese fellowships provide military spouses access to professional training\, valuable networking opportunities\, and hands-on experience in the civilian workforce. Participants benefit from direct engagement with local employers\, enabling them to build strong professional networks and gain meaningful\, localized job experience. \nClick here to learn more and register.
URL:https://metroatlantaexchange.org/event/hiring-our-heroes-military-spouse-fellowships-information-session-5/
LOCATION:GA
CATEGORIES:Career Development,Job Seeker,Veterans/Military,Virtual Event
END:VEVENT
BEGIN:VEVENT
DTSTART;TZID=America/New_York:20250822T110000
DTEND;TZID=America/New_York:20250822T140000
DTSTAMP:20260422T104734
CREATED:20250802T161637Z
LAST-MODIFIED:20250802T161637Z
UID:10034736-1755860400-1755871200@metroatlantaexchange.org
SUMMARY:Manufacturing Institute: Military to Manufacturing Virtual Career Fair
DESCRIPTION:The Manufacturing Institute is hosting a Military to Manufacturing Virtual Career Fair on Friday\, August 22nd\, from 11:00 AM to 2:00 PM. \nPlease join the Manufacturing Institute’s Heroes MAKE America program for a virtual career fair focused on connecting members of the military community with national and regional manufacturing and supply chain companies who are hiring today. These companies have positions in a variety of occupational fields to include production\, maintenance\, logistics/supply chain\, procurement\, operations\, engineering\, human resources\, sales\, accounting\, and so much more. All different types of team members from entry level to supervisory are required to operate successfully! Transitioning service members\, Guard\, Reservists\, veterans and military spouses have the extraordinary qualities\, skills\, and experiences that make them ideal candidates for these industries. \nClick here to learn more and register.
URL:https://metroatlantaexchange.org/event/manufacturing-institute-military-to-manufacturing-virtual-career-fair-2/
LOCATION:GA
CATEGORIES:Job Seeker,Veterans/Military,Virtual Event
END:VEVENT
BEGIN:VEVENT
DTSTART;TZID=America/New_York:20250825T100000
DTEND;TZID=America/New_York:20250825T140000
DTSTAMP:20260422T104734
CREATED:20250802T185822Z
LAST-MODIFIED:20250802T185822Z
UID:10034917-1756116000-1756130400@metroatlantaexchange.org
SUMMARY:Syracuse University's IVMF - Bunker Labs ATL: VETSFEST 2025
DESCRIPTION:Syracuse University’s IVMF – Bunker Labs ATL is hosting VETSFEST 2025 on Monday\, August 25th\, from 10:00 AM to 2:00 PM\, at the Georgia Aquarium. \nJoin us for VETSFEST 2025\, a powerful day of unity\, recognition\, and celebration honoring our nation’s Veterans\, Military Spouses\, and their families. Event features include inspiring guest speakers\, veteran-led business showcases\, resource & career fair\, complimentary refreshments\, giveaways and more. Whether you’re a Veteran\, military-connected family member\, entrepreneur\, or community supporter—VETSFEST 2025 is for you. \nClick here to learn more and register.
URL:https://metroatlantaexchange.org/event/syracuse-universitys-ivmf-bunker-labs-atl-vetsfest-2025/
LOCATION:Georgia Aquarium\, 225 Baker Street\, NW\, Atlanta\, GA\, 30303\, United States
CATEGORIES:Career Development,In-Person Event,Job Seeker,Veterans/Military
END:VEVENT
BEGIN:VEVENT
DTSTART;TZID=America/New_York:20250826T120000
DTEND;TZID=America/New_York:20250826T160000
DTSTAMP:20260422T104734
CREATED:20250802T162406Z
LAST-MODIFIED:20250802T162406Z
UID:10034741-1756209600-1756224000@metroatlantaexchange.org
SUMMARY:RecruitMilitary: National Virtual Career Fair for Veterans
DESCRIPTION:RecruitMilitary is hosting a National Virtual Career Fair for Veterans on Tuesday\, August 26th\, from 12:00 PM to 4:00 PM. \nThis event is where job seekers with military experience can meet with recruiters from local and national companies. The event is free for U.S veterans\, military spouses\, transitioning military\, and members of the Guard and Reserve. Our virtual career fair will offer you a direct online connection to employers\, career opportunities\, and educational options. Prepare by completing your profiles\, uploading your resume and researching attending companies. \nClick here to learn more and register.
URL:https://metroatlantaexchange.org/event/recruitmilitary-national-virtual-career-fair-for-veterans/
LOCATION:GA
CATEGORIES:Job Seeker,Veterans/Military,Virtual Event
END:VEVENT
BEGIN:VEVENT
DTSTART;TZID=America/New_York:20250828T120000
DTEND;TZID=America/New_York:20250828T160000
DTSTAMP:20260422T104734
CREATED:20250802T163747Z
LAST-MODIFIED:20250802T163747Z
UID:10034748-1756382400-1756396800@metroatlantaexchange.org
SUMMARY:G.I. Jobs: Virtual Job Fair
DESCRIPTION:G.I. Jobs is hosting a Virtual Job Fair on Thursday\, August 28th\, from 12:00 PM to 4:00 PM. \nExplore hot jobs while you chat with recruiters and military friendly employers. You will be able to talk with company recruiters who know the value veterans bring to their organization and connect with them one on one. \nClick here to learn more and register.
URL:https://metroatlantaexchange.org/event/g-i-jobs-virtual-job-fair-2/
LOCATION:GA
CATEGORIES:Job Seeker,Veterans/Military,Virtual Event
END:VEVENT
END:VCALENDAR