BEGIN:VCALENDAR
VERSION:2.0
PRODID:-//MAX - ECPv6.15.17.1//NONSGML v1.0//EN
CALSCALE:GREGORIAN
METHOD:PUBLISH
X-WR-CALNAME:MAX
X-ORIGINAL-URL:https://metroatlantaexchange.org
X-WR-CALDESC:Events for MAX
REFRESH-INTERVAL;VALUE=DURATION:PT1H
X-Robots-Tag:noindex
X-PUBLISHED-TTL:PT1H
BEGIN:VTIMEZONE
TZID:America/New_York
BEGIN:DAYLIGHT
TZOFFSETFROM:-0500
TZOFFSETTO:-0400
TZNAME:EDT
DTSTART:20240310T070000
END:DAYLIGHT
BEGIN:STANDARD
TZOFFSETFROM:-0400
TZOFFSETTO:-0500
TZNAME:EST
DTSTART:20241103T060000
END:STANDARD
BEGIN:DAYLIGHT
TZOFFSETFROM:-0500
TZOFFSETTO:-0400
TZNAME:EDT
DTSTART:20250309T070000
END:DAYLIGHT
BEGIN:STANDARD
TZOFFSETFROM:-0400
TZOFFSETTO:-0500
TZNAME:EST
DTSTART:20251102T060000
END:STANDARD
BEGIN:DAYLIGHT
TZOFFSETFROM:-0500
TZOFFSETTO:-0400
TZNAME:EDT
DTSTART:20260308T070000
END:DAYLIGHT
BEGIN:STANDARD
TZOFFSETFROM:-0400
TZOFFSETTO:-0500
TZNAME:EST
DTSTART:20261101T060000
END:STANDARD
END:VTIMEZONE
BEGIN:VEVENT
DTSTART;TZID=America/New_York:20251008T080000
DTEND;TZID=America/New_York:20251010T170000
DTSTAMP:20260422T123721
CREATED:20250802T191417Z
LAST-MODIFIED:20250802T191610Z
UID:10034924-1759910400-1760115600@metroatlantaexchange.org
SUMMARY:American Nurses Credentialing Center: Magnet and Pathway 2025 Conference
DESCRIPTION:The American Nurses Credentialing Center is hosting the Magnet and Pathway 2025 Conference starting Wednesday\, October 8th through Friday\, October 10th\, at the Georgia World Congress Center. \nExperience a rich program of keynote speeches\, interactive workshops\, and networking opportunities designed to inspire professional growth\, enhance patient care\, and foster cultures of excellence. Don’t miss this unmatched chance to connect with peers\, learn best practices\, and explore innovative strategies in the nursing profession. You will also be able to meet in-person with employers hiring such as Emory Healthcare and explore different career opportunities. \nClick here to learn more and register.
URL:https://metroatlantaexchange.org/event/american-nurses-credentialing-center-magnet-and-pathway-2025-conference/
LOCATION:Georgia World Congress Center\, 285 Andrew Young International Boulevard\, NW\, Atlanta\, 30313\, United States
CATEGORIES:Career Development,Conferences,In-Person Event,Job Seeker
GEO:33.7492699;-84.4048168
X-APPLE-STRUCTURED-LOCATION;VALUE=URI;X-ADDRESS=Georgia World Congress Center 285 Andrew Young International Boulevard NW Atlanta 30313 United States;X-APPLE-RADIUS=500;X-TITLE=285 Andrew Young International Boulevard\, NW:geo:-84.4048168,33.7492699
END:VEVENT
BEGIN:VEVENT
DTSTART;TZID=America/New_York:20251018T180000
DTEND;TZID=America/New_York:20251018T220000
DTSTAMP:20260422T123721
CREATED:20250824T182942Z
LAST-MODIFIED:20250824T182942Z
UID:10035084-1760810400-1760824800@metroatlantaexchange.org
SUMMARY:Wise Construction Group: 2nd Annual Wise Business Conference
DESCRIPTION:The Wise Construction Group is hosting its 2nd Annual Wise Business Conference on Saturday\, October 18th\, from 6:00 PM to 10:00 PM\, at the Wise Construction Group. \nThis isn’t your average conference— real talk\, real connections\, and real opportunities. Get ready for inspiring talks\, open panel discussions\, interactive games\, historical insights\, power networking and more. Whether you’re a seasoned entrepreneur or just starting your journey\, this event is about gaining knowledge\, building connections\, and leveling up. \nClick here to learn more and register.
URL:https://metroatlantaexchange.org/event/wise-construction-group-2nd-annual-wise-business-conference/
LOCATION:Wise Construction Group\, 3024-B Martin Luther King Jr. Drive\, SW\, Atlanta\, GA\, 30311\, United States
CATEGORIES:Career Development,Conferences,In-Person Event,Job Seeker
END:VEVENT
END:VCALENDAR