BEGIN:VCALENDAR
VERSION:2.0
PRODID:-//MAX - ECPv6.15.17.1//NONSGML v1.0//EN
CALSCALE:GREGORIAN
METHOD:PUBLISH
X-WR-CALNAME:MAX
X-ORIGINAL-URL:https://metroatlantaexchange.org
X-WR-CALDESC:Events for MAX
REFRESH-INTERVAL;VALUE=DURATION:PT1H
X-Robots-Tag:noindex
X-PUBLISHED-TTL:PT1H
BEGIN:VTIMEZONE
TZID:America/New_York
BEGIN:DAYLIGHT
TZOFFSETFROM:-0500
TZOFFSETTO:-0400
TZNAME:EDT
DTSTART:20240310T070000
END:DAYLIGHT
BEGIN:STANDARD
TZOFFSETFROM:-0400
TZOFFSETTO:-0500
TZNAME:EST
DTSTART:20241103T060000
END:STANDARD
BEGIN:DAYLIGHT
TZOFFSETFROM:-0500
TZOFFSETTO:-0400
TZNAME:EDT
DTSTART:20250309T070000
END:DAYLIGHT
BEGIN:STANDARD
TZOFFSETFROM:-0400
TZOFFSETTO:-0500
TZNAME:EST
DTSTART:20251102T060000
END:STANDARD
BEGIN:DAYLIGHT
TZOFFSETFROM:-0500
TZOFFSETTO:-0400
TZNAME:EDT
DTSTART:20260308T070000
END:DAYLIGHT
BEGIN:STANDARD
TZOFFSETFROM:-0400
TZOFFSETTO:-0500
TZNAME:EST
DTSTART:20261101T060000
END:STANDARD
END:VTIMEZONE
BEGIN:VEVENT
DTSTART;TZID=America/New_York:20250930T110000
DTEND;TZID=America/New_York:20251002T150000
DTSTAMP:20260422T135808
CREATED:20250802T171528Z
LAST-MODIFIED:20250802T171528Z
UID:10034767-1759230000-1759417200@metroatlantaexchange.org
SUMMARY:Kennesaw State University: STEM Job\, Co-op and Internship Fair
DESCRIPTION: Kennesaw State University is hosting a STEM Job\, Co-op and Internship Fair on Tuesday\, September 30th through Thursday\, October 2nd\, from 11:00 AM to 3:00 PM\, at the Marietta Gymnasium/Event Center. \nStudents will be presented with opportunities to meet with numerous employers seeking to fill internship\, co-op\, full and part-time positions. This event is open to students from all majors\, but the focus will be on students from STEM and other related disciplines. \nClick here to learn more and register.
URL:https://metroatlantaexchange.org/event/kennesaw-state-university-stem-job-co-op-and-internship-fair/
LOCATION:Marietta Gymnasium/Event Center\, 635 Walter Kelly Road\, Marietta\, 30060
CATEGORIES:In-Person Event,Job Seeker,Student
END:VEVENT
BEGIN:VEVENT
DTSTART;TZID=America/New_York:20251030T110000
DTEND;TZID=America/New_York:20251030T150000
DTSTAMP:20260422T135808
CREATED:20250802T172112Z
LAST-MODIFIED:20250802T172112Z
UID:10034770-1761822000-1761836400@metroatlantaexchange.org
SUMMARY:Kennesaw State University: Fall Government and Non-Profit Fair
DESCRIPTION:Kennesaw State University is hosting a Fall Government and Non-Profit Fair on Thursday\, October 30th\, from 11:00 AM to 3:00 PM\, at the Siegel Recreation and Activities Center. \nPublic service\, government and non-profit entities will be able to connect with students for opportunities in the humanities\, social sciences\, liberal arts and more. \nClick here to learn more and register.
URL:https://metroatlantaexchange.org/event/kennesaw-state-university-fall-government-and-non-profit-fair/
LOCATION:Kennesaw State University – Siegel Recreation and Activities Center\, 290 Kennesaw State University Road\, NW\, Kennesaw\, Georgia\, 30144
CATEGORIES:In-Person Event,Job Seeker,Student
END:VEVENT
END:VCALENDAR