BEGIN:VCALENDAR
VERSION:2.0
PRODID:-//MAX - ECPv6.15.17.1//NONSGML v1.0//EN
CALSCALE:GREGORIAN
METHOD:PUBLISH
X-ORIGINAL-URL:https://metroatlantaexchange.org
X-WR-CALDESC:Events for MAX
REFRESH-INTERVAL;VALUE=DURATION:PT1H
X-Robots-Tag:noindex
X-PUBLISHED-TTL:PT1H
BEGIN:VTIMEZONE
TZID:America/New_York
BEGIN:DAYLIGHT
TZOFFSETFROM:-0500
TZOFFSETTO:-0400
TZNAME:EDT
DTSTART:20240310T070000
END:DAYLIGHT
BEGIN:STANDARD
TZOFFSETFROM:-0400
TZOFFSETTO:-0500
TZNAME:EST
DTSTART:20241103T060000
END:STANDARD
BEGIN:DAYLIGHT
TZOFFSETFROM:-0500
TZOFFSETTO:-0400
TZNAME:EDT
DTSTART:20250309T070000
END:DAYLIGHT
BEGIN:STANDARD
TZOFFSETFROM:-0400
TZOFFSETTO:-0500
TZNAME:EST
DTSTART:20251102T060000
END:STANDARD
BEGIN:DAYLIGHT
TZOFFSETFROM:-0500
TZOFFSETTO:-0400
TZNAME:EDT
DTSTART:20260308T070000
END:DAYLIGHT
BEGIN:STANDARD
TZOFFSETFROM:-0400
TZOFFSETTO:-0500
TZNAME:EST
DTSTART:20261101T060000
END:STANDARD
END:VTIMEZONE
BEGIN:VEVENT
DTSTART;TZID=America/New_York:20251108T000000
DTEND;TZID=America/New_York:20251108T000000
DTSTAMP:20260422T155614
CREATED:20251108T203126Z
LAST-MODIFIED:20251108T203126Z
UID:10035429-1762560000-1762560000@metroatlantaexchange.org
SUMMARY:Georgia Institute of Technology: AI Career Fair
DESCRIPTION:The Georgia Institute of Technology is hosting an AI Career Fair on Monday\, November 17th\, from 9:00 AM to 1:00 PM\, at the Exhibition Hall – Midtown Room. \nGeorgia Tech students interested in artificial intelligence (AI) are invited to attend the Tech AI Career Fair. The event offers a valuable opportunity to connect with leading companies\, explore career paths\, and showcase research. A student research poster session may also be included. Tech AI’s AI Career Fair offers a chance to gain industry insights\, build your network and take the next step in your AI career. \nClick here to learn more and register.
URL:https://metroatlantaexchange.org/event/georgia-institute-of-technology-ai-career-fair/
LOCATION:Georgia Tech Exhibition Hall\, 460 Fourth Street\, NW\, Atlanta\, GA\, 30332\, United States
CATEGORIES:In-Person Event,Job Seeker,Student
END:VEVENT
BEGIN:VEVENT
DTSTART;TZID=America/New_York:20251112T100000
DTEND;TZID=America/New_York:20251112T150000
DTSTAMP:20260422T155614
CREATED:20251108T190818Z
LAST-MODIFIED:20251108T190818Z
UID:10035390-1762941600-1762959600@metroatlantaexchange.org
SUMMARY:CareerEco: SEC and ACC Virtual Career Fair
DESCRIPTION:CareerEco is hosting an SEC and ACC Virtual Career Fair on Wednesday\, November 12th\, from 10:00 AM to 3:00 PM. \nStudents and alumni will have the opportunity to meet with employers live online from the comfort of their own home. \nClick here to learn more and register.
URL:https://metroatlantaexchange.org/event/careereco-sec-and-acc-virtual-career-fair-2/
LOCATION:GA
CATEGORIES:Job Seeker,Student,Virtual Event
ORGANIZER;CN="CareerEco":MAILTO:Events@CareerEco.com
END:VEVENT
BEGIN:VEVENT
DTSTART;TZID=America/New_York:20251112T110000
DTEND;TZID=America/New_York:20251112T160000
DTSTAMP:20260422T155614
CREATED:20251108T191450Z
LAST-MODIFIED:20251108T191450Z
UID:10035394-1762945200-1762963200@metroatlantaexchange.org
SUMMARY:Georgia Piedmont Technical College: Career Fair
DESCRIPTION:Georgia Piedmont Technical College is hosting a Career Fair on Wednesday\, November 12th\, from 11:00 AM to 4:00 PM\, at the DeKalb Conference Center. \nThis exciting event will connect students with employers offering full-time\, part-time\, and internship opportunities across a range of industries. \nClick here to learn more and register.
URL:https://metroatlantaexchange.org/event/georgia-piedmont-technical-college-career-fair/
LOCATION:DeKalb Campus Conference Center\, 495 North Indian Creek Drive\, Clarkston\, GA\, 30021\, United States
CATEGORIES:In-Person Event,Job Seeker,Student
END:VEVENT
BEGIN:VEVENT
DTSTART;TZID=America/New_York:20251112T130000
DTEND;TZID=America/New_York:20251112T160000
DTSTAMP:20260422T155614
CREATED:20251108T191914Z
LAST-MODIFIED:20251108T191914Z
UID:10035396-1762952400-1762963200@metroatlantaexchange.org
SUMMARY:Hiring Our Heroes: Virtual Hiring Fair: Healthcare
DESCRIPTION:Hiring Our Heroes is hosting a Virtual Hiring Fair: Healthcare on Wednesday\, November 12th\, from 1:00 PM to 4:00 PM. \nRegister now to connect with employers offering hundreds of open positions in the healthcare industry looking for talent from the military community! This event is open to transitioning service members\, veterans\, military spouses\, and military caregivers. \nClick here to register.
URL:https://metroatlantaexchange.org/event/hiring-our-heroes-virtual-hiring-fair-healthcare-3/
LOCATION:GA
CATEGORIES:Job Seeker,Student,Veterans/Military
END:VEVENT
BEGIN:VEVENT
DTSTART;TZID=America/New_York:20251113T110000
DTEND;TZID=America/New_York:20251113T150000
DTSTAMP:20260422T155614
CREATED:20251108T193508Z
LAST-MODIFIED:20251108T193508Z
UID:10035404-1763031600-1763046000@metroatlantaexchange.org
SUMMARY:CareerEco: Inclusion and Opportunity Virtual Career and Grad School Fair
DESCRIPTION:CareerEco is hosting an Inclusion and Opportunity Virtual Career and Grad School Fair on Thursday\, November 13th\, from 11:00 AM to 3:00 PM. \nWhether you’re a student exploring possibilities\, a graduate ready to launch your career\, or a professional seeking your next step\, this virtual fair is your gateway to opportunity. \nClick here to learn more and register.
URL:https://metroatlantaexchange.org/event/careereco-inclusion-and-opportunity-virtual-career-and-grad-school-fair/
LOCATION:GA
CATEGORIES:Job Seeker,Student,Virtual Event
ORGANIZER;CN="CareerEco":MAILTO:Events@CareerEco.com
END:VEVENT
BEGIN:VEVENT
DTSTART;TZID=America/New_York:20251113T110000
DTEND;TZID=America/New_York:20251113T150000
DTSTAMP:20260422T155614
CREATED:20251108T193716Z
LAST-MODIFIED:20251108T193716Z
UID:10035405-1763031600-1763046000@metroatlantaexchange.org
SUMMARY:CareerEco: Student Athlete Virtual Career Fair
DESCRIPTION:CareerEco is hosting a Student Athlete Virtual Career Fair on Thursday\, November 13th\, from 11:00 AM to 3:00 PM. \nThis virtual career fair is designed specifically for current and former athletes ready to channel their discipline\, leadership\, and team spirit into meaningful careers beyond the game. Whether you’re exploring new fields or leveling up in your current path\, this event connects you with employers who recognize and value the unique strengths of athletes. \nClick here to register.
URL:https://metroatlantaexchange.org/event/careereco-student-athlete-virtual-career-fair/
LOCATION:GA
CATEGORIES:Job Seeker,Student,Virtual Event
ORGANIZER;CN="CareerEco":MAILTO:Events@CareerEco.com
END:VEVENT
BEGIN:VEVENT
DTSTART;TZID=America/New_York:20251118T110000
DTEND;TZID=America/New_York:20251118T150000
DTSTAMP:20260422T155614
CREATED:20251108T204516Z
LAST-MODIFIED:20251108T204516Z
UID:10035439-1763463600-1763478000@metroatlantaexchange.org
SUMMARY:CareerEco: STEM Career and Graduate Virtual Fair
DESCRIPTION:CareerEco is hosting a STEM Career and Graduate Virtual Fair on Tuesday\, November 18th\, from 11:00 AM to 3:00 PM. \nCandidates interested in pursing a career or furthering their education in STEM are invited to attend this online event. \nClick here to learn more and register.
URL:https://metroatlantaexchange.org/event/careereco-stem-career-and-graduate-virtual-fair-2/
LOCATION:GA
CATEGORIES:Job Seeker,Student,Virtual Event
ORGANIZER;CN="CareerEco":MAILTO:Events@CareerEco.com
END:VEVENT
BEGIN:VEVENT
DTSTART;TZID=America/New_York:20251119T110000
DTEND;TZID=America/New_York:20251119T150000
DTSTAMP:20260422T155614
CREATED:20251108T205119Z
LAST-MODIFIED:20251108T205119Z
UID:10035443-1763550000-1763564400@metroatlantaexchange.org
SUMMARY:CareerEco: AI and Automation Virtual Career and Grad Summit
DESCRIPTION:CareerEco is hosting an AI and Automation Virtual Career and Grad Summit on Wednesday\, November 19th\, from 11:00 AM to 3:00 PM. \nExplore full-time roles\, internships and advanced degree opportunities in one of the fastest-growing tech sectors. \nClick here to learn more and register.
URL:https://metroatlantaexchange.org/event/careereco-ai-and-automation-virtual-career-and-grad-summit/
LOCATION:GA
CATEGORIES:In-Person Event,Job Seeker,Student
ORGANIZER;CN="CareerEco":MAILTO:Events@CareerEco.com
END:VEVENT
END:VCALENDAR