BEGIN:VCALENDAR
VERSION:2.0
PRODID:-//MAX - ECPv6.15.17.1//NONSGML v1.0//EN
CALSCALE:GREGORIAN
METHOD:PUBLISH
X-WR-CALNAME:MAX
X-ORIGINAL-URL:https://metroatlantaexchange.org
X-WR-CALDESC:Events for MAX
REFRESH-INTERVAL;VALUE=DURATION:PT1H
X-Robots-Tag:noindex
X-PUBLISHED-TTL:PT1H
BEGIN:VTIMEZONE
TZID:America/New_York
BEGIN:DAYLIGHT
TZOFFSETFROM:-0500
TZOFFSETTO:-0400
TZNAME:EDT
DTSTART:20240310T070000
END:DAYLIGHT
BEGIN:STANDARD
TZOFFSETFROM:-0400
TZOFFSETTO:-0500
TZNAME:EST
DTSTART:20241103T060000
END:STANDARD
BEGIN:DAYLIGHT
TZOFFSETFROM:-0500
TZOFFSETTO:-0400
TZNAME:EDT
DTSTART:20250309T070000
END:DAYLIGHT
BEGIN:STANDARD
TZOFFSETFROM:-0400
TZOFFSETTO:-0500
TZNAME:EST
DTSTART:20251102T060000
END:STANDARD
BEGIN:DAYLIGHT
TZOFFSETFROM:-0500
TZOFFSETTO:-0400
TZNAME:EDT
DTSTART:20260308T070000
END:DAYLIGHT
BEGIN:STANDARD
TZOFFSETFROM:-0400
TZOFFSETTO:-0500
TZNAME:EST
DTSTART:20261101T060000
END:STANDARD
END:VTIMEZONE
BEGIN:VEVENT
DTSTART;TZID=America/New_York:20251105T150000
DTEND;TZID=America/New_York:20251105T160000
DTSTAMP:20260422T141724
CREATED:20250824T183930Z
LAST-MODIFIED:20250824T183930Z
UID:10035086-1762354800-1762358400@metroatlantaexchange.org
SUMMARY:Hiring Our Heroes: Heroes Connect - Textron Aviation
DESCRIPTION:Hiring Our Heroes is hosting a Heroes Connect: Textron Aviation on Wednesday\, November 5th\, from 3:00 PM to 4:00 PM. \nTextron Aviation has been inspiring the journey of flight for more than nine decades and continues to be the global leader in the aviation industry. We are passionate advocates of aviation\, providing aircraft that save time and empower people with the freedom of flight. This virtual event will connect talent from the military-connected community with manufacturers who are hiring today. \nClick here to learn more and register.
URL:https://metroatlantaexchange.org/event/hiring-our-heroes-heroes-connect-textron-aviation/
LOCATION:GA
CATEGORIES:Career Development,Job Seeker,Veterans/Military,Virtual Event
END:VEVENT
BEGIN:VEVENT
DTSTART;TZID=America/New_York:20251112T090000
DTEND;TZID=America/New_York:20251112T130000
DTSTAMP:20260422T141724
CREATED:20251109T001353Z
LAST-MODIFIED:20251109T001353Z
UID:10035484-1762938000-1762952400@metroatlantaexchange.org
SUMMARY:Hiring Our Heroes: Virtual Amplify - Career Readiness and Hiring Event Preparation
DESCRIPTION:Hiring Our Heroes is hosting a Virtual Amplify: Career Readiness and Hiring Event Preparation on Wednesday\, November 12th\, from 9:00 AM to 1:00 PM. \nEngage in professional development workshops and interactive sessions designed to prepare you for a virtual hiring fair. Topics include professional branding\, resume support\, interview techniques\, and networking. Amplify attendees will leave with valuable tools\, resources\, and an expanded network to facilitate their career growth. This event is open to transitioning service members\, veterans\, military spouses\, and military caregivers. \nClick here to learn more and register.
URL:https://metroatlantaexchange.org/event/hiring-our-heroes-virtual-amplify-career-readiness-and-hiring-event-preparation-2/
LOCATION:GA
CATEGORIES:Career Development,Job Seeker,Veterans/Military,Virtual Event
END:VEVENT
BEGIN:VEVENT
DTSTART;TZID=America/New_York:20251112T130000
DTEND;TZID=America/New_York:20251112T160000
DTSTAMP:20260422T141724
CREATED:20251108T191914Z
LAST-MODIFIED:20251108T191914Z
UID:10035396-1762952400-1762963200@metroatlantaexchange.org
SUMMARY:Hiring Our Heroes: Virtual Hiring Fair: Healthcare
DESCRIPTION:Hiring Our Heroes is hosting a Virtual Hiring Fair: Healthcare on Wednesday\, November 12th\, from 1:00 PM to 4:00 PM. \nRegister now to connect with employers offering hundreds of open positions in the healthcare industry looking for talent from the military community! This event is open to transitioning service members\, veterans\, military spouses\, and military caregivers. \nClick here to register.
URL:https://metroatlantaexchange.org/event/hiring-our-heroes-virtual-hiring-fair-healthcare-3/
LOCATION:GA
CATEGORIES:Job Seeker,Student,Veterans/Military
END:VEVENT
BEGIN:VEVENT
DTSTART;TZID=America/New_York:20251112T150000
DTEND;TZID=America/New_York:20251112T153000
DTSTAMP:20260422T141724
CREATED:20251109T002152Z
LAST-MODIFIED:20251109T002152Z
UID:10035488-1762959600-1762961400@metroatlantaexchange.org
SUMMARY:Hiring Our Heroes: Career Forward Virtual Information Session
DESCRIPTION:Hiring Our Heroes is hosting a Career Forward Virtual Information Session on Wednesday\, November 12th\, from 3:00 PM to 3:30 PM. \nTransitioning service members\, veterans\, military spouses\, and military caregivers; learn how you can earn a Google Career Certificate and level up your career with Career Forward. Prior to joining the information session\, please click here to watch the Career Forward program overview. \nClick here to register via Zoom.
URL:https://metroatlantaexchange.org/event/hiring-our-heroes-career-forward-virtual-information-session-5/
LOCATION:GA
CATEGORIES:Career Development,Job Seeker,Veterans/Military,Virtual Event
END:VEVENT
BEGIN:VEVENT
DTSTART;TZID=America/New_York:20251113T100000
DTEND;TZID=America/New_York:20251113T110000
DTSTAMP:20260422T141724
CREATED:20251109T002403Z
LAST-MODIFIED:20251109T002403Z
UID:10035489-1763028000-1763031600@metroatlantaexchange.org
SUMMARY:RecruitMilitary: Federal Resume Webinar
DESCRIPTION:RecruitMilitary is hosting a Federal Resume Webinar on Thursday\, November 13th\, from 10:00 AM to 11:00 AM. \nJoin this live and interactive webinar where you’ll have the opportunity to connect with a subject-matter expert. Receive personalized advice on refining or creating your federal resume\, alongside valuable insights\, and best practices to elevate your resume’s visibility to federal agencies! \nClick here to learn more and register.
URL:https://metroatlantaexchange.org/event/recruitmilitary-federal-resume-webinar/
LOCATION:GA
CATEGORIES:Career Development,Job Seeker,Veterans/Military,Virtual Event
END:VEVENT
BEGIN:VEVENT
DTSTART;TZID=America/New_York:20251113T120000
DTEND;TZID=America/New_York:20251113T130000
DTSTAMP:20260422T141724
CREATED:20251109T002958Z
LAST-MODIFIED:20251109T002958Z
UID:10035491-1763035200-1763038800@metroatlantaexchange.org
SUMMARY:G.I Jobs: Get Hired Virtual Workshop
DESCRIPTION:G.I Jobs is hosting a Get Hired Virtual Workshop on Thursday\, November 13th\, from 12:00 PM to 1:00 PM. \nDon’t miss this exciting panel discussion that will feature insider tips on getting noticed and getting hired from today’s biggest brands. \nClick here to learn more and register.
URL:https://metroatlantaexchange.org/event/g-i-jobs-get-hired-virtual-workshop/
LOCATION:GA
CATEGORIES:Career Development,Job Seeker,Veterans/Military,Virtual Event
END:VEVENT
BEGIN:VEVENT
DTSTART;TZID=America/New_York:20251114T110000
DTEND;TZID=America/New_York:20251114T150000
DTSTAMP:20260422T141724
CREATED:20251108T195535Z
LAST-MODIFIED:20251108T195535Z
UID:10035424-1763118000-1763132400@metroatlantaexchange.org
SUMMARY:JobFairX: Atlanta Veteran Virtual Job Fair
DESCRIPTION:JobFairX is hosting an Atlanta Veteran Virtual Job Fair on Friday\, November 14th\, from 11:00 AM to 3:00 PM. \nAt JobFairX\, job seekers are matched with employers who have registered for the virtual job fair. When you sign up and create a profile\, you provide information about your qualifications\, skills\, and preferences. JobFairX’s advanced matching algorithm analyzes this data to identify suitable job opportunities. If your qualifications align with a job\, you’ll receive an email invitation to schedule an interview with the employer during the fair. JobFairX’s streamlined process saves you time on your job search. \nClick here to register.
URL:https://metroatlantaexchange.org/event/jobfairx-atlanta-veteran-virtual-job-fair-4/
LOCATION:GA
CATEGORIES:Job Seeker,Veterans/Military,Virtual Event
END:VEVENT
BEGIN:VEVENT
DTSTART;TZID=America/New_York:20251118T140000
DTEND;TZID=America/New_York:20251118T150000
DTSTAMP:20260422T141724
CREATED:20251109T005635Z
LAST-MODIFIED:20251109T005635Z
UID:10035503-1763474400-1763478000@metroatlantaexchange.org
SUMMARY:RecruitMilitary: Understanding and Utilizing USAJobs
DESCRIPTION:RecruitMilitary is hosting a webinar on Understanding and Utilizing USAJobs on Tuesday\, November 18th\, from 2:00 PM to 3:00 PM. \nJoin RecruitMilitary’s Certified Federal Job Search Trainer® and Certified Federal Career Coach® to unpack the latest USAJobs updates. Learn how to identify keywords and core competencies in job postings\, and ensure your resume includes the right content to stand out in the federal hiring process. \nClick here to learn more and register.
URL:https://metroatlantaexchange.org/event/recruitmilitary-understanding-and-utilizing-usajobs/
LOCATION:GA
CATEGORIES:Career Development,Job Seeker,Veterans/Military,Virtual Event
END:VEVENT
BEGIN:VEVENT
DTSTART;TZID=America/New_York:20251119T110000
DTEND;TZID=America/New_York:20251119T140000
DTSTAMP:20260422T141724
CREATED:20251108T205214Z
LAST-MODIFIED:20251108T205214Z
UID:10035444-1763550000-1763560800@metroatlantaexchange.org
SUMMARY:Corporate Gray: Virtual Job Fair
DESCRIPTION:Corporate Gray is hosting a Virtual Job Fair on Wednesday\, November 19th\, from 11:00 AM to 2:00 PM. \nThis military-friendly online job fair will provide military-experienced job seekers the opportunity to interview with employers nationwide via text chat and video. This event is open to transitioning service members\, veterans\, and military spouses. \nClick here to learn more and register.
URL:https://metroatlantaexchange.org/event/corporate-gray-virtual-job-fair-7/
LOCATION:GA
CATEGORIES:Job Seeker,Veterans/Military,Virtual Event
END:VEVENT
BEGIN:VEVENT
DTSTART;TZID=America/New_York:20251120T120000
DTEND;TZID=America/New_York:20251120T160000
DTSTAMP:20260422T141724
CREATED:20251108T214612Z
LAST-MODIFIED:20251108T214612Z
UID:10035450-1763640000-1763654400@metroatlantaexchange.org
SUMMARY:G.I Jobs: Virtual Job Fair
DESCRIPTION:G.I Jobs is hosting a Virtual Job Fair on Thursday\, November 20th\, from 12:00 PM to 4:00 PM. \nExplore hot jobs while you chat with recruiters and military friendly employers. Don’t miss your chance to talk with company recruiters who know the value veterans bring to their organization and connect with them one-on-one. \nClick here to learn more and register.
URL:https://metroatlantaexchange.org/event/g-i-jobs-virtual-job-fair-3/
LOCATION:GA
CATEGORIES:Job Seeker,Veterans/Military,Virtual Event
END:VEVENT
BEGIN:VEVENT
DTSTART;TZID=America/New_York:20251125T120000
DTEND;TZID=America/New_York:20251125T160000
DTSTAMP:20260422T141724
CREATED:20251108T215617Z
LAST-MODIFIED:20251108T215617Z
UID:10035456-1764072000-1764086400@metroatlantaexchange.org
SUMMARY:RecruitMilitary: National Virtual Career Fair for Veterans
DESCRIPTION:RecruitMilitary is hosting a National Virtual Career Fair for Veterans on Tuesday\, November 25th\, from 12:00 PM to 4:00 PM. \nThis event is where job seekers with military experience can meet with recruiters from local and national companies. These events are free for U.S veterans\, military spouses\, transitioning military\, and members of the Guard and Reserve. This fair will allow you to take a deep dive into an organization’s culture\, benefits\, and open roles. Learn about specific positions\, meet hiring managers\, and connect with organizations in a relaxed\, pressure-free environment. \nClick here to learn more and register.
URL:https://metroatlantaexchange.org/event/recruitmilitary-national-virtual-career-fair-for-veterans-2/
LOCATION:GA
CATEGORIES:Job Seeker,Veterans/Military,Virtual Event
END:VEVENT
END:VCALENDAR