BEGIN:VCALENDAR
VERSION:2.0
PRODID:-//MAX - ECPv6.15.17.1//NONSGML v1.0//EN
CALSCALE:GREGORIAN
METHOD:PUBLISH
X-WR-CALNAME:MAX
X-ORIGINAL-URL:https://metroatlantaexchange.org
X-WR-CALDESC:Events for MAX
REFRESH-INTERVAL;VALUE=DURATION:PT1H
X-Robots-Tag:noindex
X-PUBLISHED-TTL:PT1H
BEGIN:VTIMEZONE
TZID:America/New_York
BEGIN:DAYLIGHT
TZOFFSETFROM:-0500
TZOFFSETTO:-0400
TZNAME:EDT
DTSTART:20240310T070000
END:DAYLIGHT
BEGIN:STANDARD
TZOFFSETFROM:-0400
TZOFFSETTO:-0500
TZNAME:EST
DTSTART:20241103T060000
END:STANDARD
BEGIN:DAYLIGHT
TZOFFSETFROM:-0500
TZOFFSETTO:-0400
TZNAME:EDT
DTSTART:20250309T070000
END:DAYLIGHT
BEGIN:STANDARD
TZOFFSETFROM:-0400
TZOFFSETTO:-0500
TZNAME:EST
DTSTART:20251102T060000
END:STANDARD
BEGIN:DAYLIGHT
TZOFFSETFROM:-0500
TZOFFSETTO:-0400
TZNAME:EDT
DTSTART:20260308T070000
END:DAYLIGHT
BEGIN:STANDARD
TZOFFSETFROM:-0400
TZOFFSETTO:-0500
TZNAME:EST
DTSTART:20261101T060000
END:STANDARD
END:VTIMEZONE
BEGIN:VEVENT
DTSTART;TZID=America/New_York:20251202T090000
DTEND;TZID=America/New_York:20251202T140000
DTSTAMP:20260422T175840
CREATED:20251109T013252Z
LAST-MODIFIED:20251109T013252Z
UID:10035517-1764666000-1764684000@metroatlantaexchange.org
SUMMARY:Hiring Our Heroes: Virtual Amplify - Career Preparation and Professional Development
DESCRIPTION:Hiring Our Heroes is hosting a Virtual Amplify: Career Preparation and Professional Development event on Tuesday\, December 2nd\, from 9:00 AM to 2:00 PM. \nRegister now for this one-day virtual event for military spouses focused on career development. Event content includes professional development on topics such as resume building\, interviewing skills\, LinkedIn\, compensation negotiation\, strategic networking\, and more.  Engage with employers and military organizations\, gain access to nationwide resources\, learn about volunteer and employment opportunities\, get information regarding upcoming events\, and network with fellow military spouses. \nClick here to learn more and register.
URL:https://metroatlantaexchange.org/event/hiring-our-heroes-virtual-amplify-career-preparation-and-professional-development-2/
LOCATION:GA
CATEGORIES:Career Development,Job Seeker,Veterans/Military,Virtual Event
END:VEVENT
BEGIN:VEVENT
DTSTART;TZID=America/New_York:20251203T100000
DTEND;TZID=America/New_York:20251203T130000
DTSTAMP:20260422T175840
CREATED:20251201T152359Z
LAST-MODIFIED:20251201T152359Z
UID:10035556-1764756000-1764766800@metroatlantaexchange.org
SUMMARY:Goodwill of North Georgia: Veterans Career and Resource Fair
DESCRIPTION:Goodwill of North Georgia is hosting a Veterans Career and Resource Fair on Wednesday\, December 3rd\, from 10:00 AM to 12:00 PM\, at the Sequoyah Library. \nFor more information\, call 770-874-0901. \nClick here to learn more and register.
URL:https://metroatlantaexchange.org/event/goodwill-of-north-georgia-veterans-career-and-resource-fair/
LOCATION:Sequoyah Library\, 7735 Main Street\, Woodstock\, GA\, 30188\, United States
CATEGORIES:In-Person Event,Job Seeker,Veterans/Military
END:VEVENT
BEGIN:VEVENT
DTSTART;TZID=America/New_York:20251203T110000
DTEND;TZID=America/New_York:20251203T120000
DTSTAMP:20260422T175840
CREATED:20251109T013544Z
LAST-MODIFIED:20251109T013544Z
UID:10035518-1764759600-1764763200@metroatlantaexchange.org
SUMMARY:RecruitMilitary: Civilian Resume Webinar
DESCRIPTION:RecruitMilitary is hosting a Civilian Resume Webinar on Wednesday\, December 3rd\, from 11:00 AM to 12:00 PM. \nJoin this live and interactive webinar where you’ll have the opportunity to connect with a subject-matter expert. Receive personalized advice on refining or creating your resume\, alongside valuable insights\, and best practices to elevate your resume’s visibility to prospective employers! \nClick here to learn more and register.
URL:https://metroatlantaexchange.org/event/recruitmilitary-civilian-resume-webinar/
LOCATION:GA
CATEGORIES:Career Development,Job Seeker,Veterans/Military,Virtual Event
END:VEVENT
BEGIN:VEVENT
DTSTART;TZID=America/New_York:20251203T130000
DTEND;TZID=America/New_York:20251203T160000
DTSTAMP:20260422T175840
CREATED:20251108T220409Z
LAST-MODIFIED:20251108T220409Z
UID:10035461-1764766800-1764777600@metroatlantaexchange.org
SUMMARY:Hiring Our Heroes: Virtual Military Spouse Hiring Event
DESCRIPTION:Hiring Our Heroes is hosting a Virtual Military Spouse Hiring Event on Wednesday\, December 3rd\, from 1:00 PM to 4:00 PM. \nRegister now for this military spouse virtual hiring event focused on employment opportunities across a wide range of industries.  This virtual hiring event will connect you directly with organizations using our online\, cloud-based platform. After creating a profile you will be able to explore the available information and opportunities each employer has to offer\, as well as participate in one-on-one text-based chats with talent acquisition specialists. \nClick here to learn more and register.
URL:https://metroatlantaexchange.org/event/hiring-our-heroes-virtual-military-spouse-hiring-event-4/
LOCATION:GA
CATEGORIES:Job Seeker,Veterans/Military,Virtual Event
END:VEVENT
BEGIN:VEVENT
DTSTART;TZID=America/New_York:20251205T120000
DTEND;TZID=America/New_York:20251205T130000
DTSTAMP:20260422T175840
CREATED:20251202T154830Z
LAST-MODIFIED:20251202T154830Z
UID:10035681-1764936000-1764939600@metroatlantaexchange.org
SUMMARY:G.I. Jobs/Vetrepreneur Franchise Coaching: Virtual Information Session
DESCRIPTION:G.I. Jobs\, in partnership with Vetrepreneur Franchise Coaching\, is hosting a Virtual Information Session on Friday\, December 5th\, from 12:00 PM to 1:00 PM. \nCurious about becoming a franchise owner? This 1-hour virtual session is designed for veterans and military spouses ready to explore business ownership through franchising. Learn how our proven process helps you find the right franchise and confidently navigate the path to ownership. \nClick here to learn more and register.
URL:https://metroatlantaexchange.org/event/g-i-jobs-vetrepreneur-franchise-coaching-virtual-information-session/
LOCATION:GA
CATEGORIES:Career Development,Job Seeker,Veterans/Military,Virtual Event
END:VEVENT
BEGIN:VEVENT
DTSTART;TZID=America/New_York:20251209T160000
DTEND;TZID=America/New_York:20251209T173000
DTSTAMP:20260422T175840
CREATED:20251202T164709Z
LAST-MODIFIED:20251202T164709Z
UID:10035688-1765296000-1765301400@metroatlantaexchange.org
SUMMARY:Hiring Our Heroes: Exploring Careers in the Semiconductor Industry
DESCRIPTION:Hiring Our Heroes is hosting Exploring Careers in the Semiconductor Industry on Tuesday\, December 9th\, from 4:00 PM to 5:30 PM. \nDiscover how your military experience translates into high-demand careers in the semiconductor industry—including roles in engineering\, operations\, cybersecurity\, and more. The event kicks off with an industry employer panel discussing workforce needs\, hiring practices\, and career paths\, followed by breakout rooms for direct networking and deeper conversation with hiring teams. \nClick here to learn more and register via Zoom.
URL:https://metroatlantaexchange.org/event/hiring-our-heroes-exploring-careers-in-the-semiconductor-industry/
LOCATION:GA
CATEGORIES:Career Development,Job Seeker,Veterans/Military,Virtual Event
END:VEVENT
BEGIN:VEVENT
DTSTART;TZID=America/New_York:20251209T190000
DTEND;TZID=America/New_York:20251209T200000
DTSTAMP:20260422T175840
CREATED:20251202T164902Z
LAST-MODIFIED:20251202T164902Z
UID:10035689-1765306800-1765310400@metroatlantaexchange.org
SUMMARY:Hiring Our Heroes: SkillBridge Fellowships Information Session
DESCRIPTION:Hiring Our Heroes is hosting a SkillBridge Fellowships Information Session on Tuesday\, December 9th\, starting at 7:00 PM. \nHiring Our Heroes invites transitioning service members to learn more about SkillBridge fellowships\, which provide professional training and hands-on experience in the civilian workforce. These fellowships are designed to prepare you for a smooth transition into meaningful civilian careers. \nClick here to register via Zoom.
URL:https://metroatlantaexchange.org/event/hiring-our-heroes-skillbridge-fellowships-information-session-3/
LOCATION:GA
CATEGORIES:Career Development,Job Seeker,Veterans/Military,Virtual Event
END:VEVENT
BEGIN:VEVENT
DTSTART;TZID=America/New_York:20251210T090000
DTEND;TZID=America/New_York:20251210T100000
DTSTAMP:20260422T175840
CREATED:20251202T165050Z
LAST-MODIFIED:20251202T165050Z
UID:10035690-1765357200-1765360800@metroatlantaexchange.org
SUMMARY:Hiring Our Heroes: Virtual Amplify: Career Readiness and Hiring Event Preparation
DESCRIPTION:Hiring Our Heroes is hosting a Virtual Amplify: Career Readiness and Hiring Event Preparation on Wednesday\, December 10th\, from 9:00 AM to 10:00 AM. \nThis session is designed to support your career goals! Topics include professional branding\, resume support\, interview techniques\, and networking. Amplify attendees will leave the event feeling prepared and confident for the afternoon Virtual Hiring Fair. \nClick here to learn more and register.
URL:https://metroatlantaexchange.org/event/hiring-our-heroes-virtual-amplify-career-readiness-and-hiring-event-preparation-3/
LOCATION:GA
CATEGORIES:Career Development,Job Seeker,Veterans/Military,Virtual Event
END:VEVENT
BEGIN:VEVENT
DTSTART;TZID=America/New_York:20251210T130000
DTEND;TZID=America/New_York:20251210T160000
DTSTAMP:20260422T175840
CREATED:20251108T220701Z
LAST-MODIFIED:20251108T220701Z
UID:10035463-1765371600-1765382400@metroatlantaexchange.org
SUMMARY:Hiring Our Heroes: Virtual Career Summit
DESCRIPTION:Hiring Our Heroes is hosting a Virtual Career Summit on Wednesday\, December 10th\, from 1:00 PM to 4:00 PM. \nRegister now for this virtual hiring event featuring on-demand career preparation workshops and networking with dozens of employers across multiple industries! Employers are looking for talent from the military community and hiring now for thousands of open positions. Whether you’re looking for work now or exploring future possibilities\, representatives are ready to meet you and answer your questions. \nClick here to learn more and register.
URL:https://metroatlantaexchange.org/event/hiring-our-heroes-virtual-career-summit-5/
LOCATION:GA
CATEGORIES:Job Seeker,Veterans/Military,Virtual Event
END:VEVENT
BEGIN:VEVENT
DTSTART;TZID=America/New_York:20251211T100000
DTEND;TZID=America/New_York:20251211T110000
DTSTAMP:20260422T175840
CREATED:20251202T165748Z
LAST-MODIFIED:20251202T165748Z
UID:10035694-1765447200-1765450800@metroatlantaexchange.org
SUMMARY:RecruitMilitary: How to Maximize Your Veteran Benefits
DESCRIPTION:RecruitMilitary is hosting How to Maximize Your Veteran Benefits on Thursday\, December 11th\, from 10:00 AM to 11:00 AM\, at the Georgia International Convention Center. \nYou’ve earned benefits through military service or as a caregiver to a veteran. RecruitMilitary experts demystify how to unlock them. Put this information into action at the DAV RecruitMilitary Veterans Job Fair immediately following the event. \nClick here to learn more and register. \nClick here for more information on how to attend the Veterans Job Fair. The Job Fair registration is separate from the pre-event seminar.
URL:https://metroatlantaexchange.org/event/recruitmilitary-how-to-maximize-your-veteran-benefits-2/
LOCATION:Georgia International Convention Center\, 2000 Convention Center Concourse\,\, Atlanta\, GA\, 30337\, United States
CATEGORIES:Career Development,In-Person Event,Job Seeker,Veterans/Military
GEO:33.6456779;-84.4574981
X-APPLE-STRUCTURED-LOCATION;VALUE=URI;X-ADDRESS=Georgia International Convention Center 2000 Convention Center Concourse Atlanta GA 30337 United States;X-APPLE-RADIUS=500;X-TITLE=2000 Convention Center Concourse\,:geo:-84.4574981,33.6456779
END:VEVENT
BEGIN:VEVENT
DTSTART;TZID=America/New_York:20251211T100000
DTEND;TZID=America/New_York:20251211T113000
DTSTAMP:20260422T175840
CREATED:20251202T165601Z
LAST-MODIFIED:20251202T165601Z
UID:10035693-1765447200-1765452600@metroatlantaexchange.org
SUMMARY:RecruitMilitary: Federal Resume Webinar
DESCRIPTION:RecruitMilitary is hosting a Federal Resume Webinar on Thursday\, December 11th\, from 10:00 AM to 11:30 AM. \nJoin this live and interactive event where you’ll have the opportunity to connect with a subject-matter expert. Receive personalized advice on refining or creating your federal resume\, alongside valuable insights\, and best practices to elevate your resume’s visibility to federal agencies! \nClick here to learn more and register.
URL:https://metroatlantaexchange.org/event/recruitmilitary-federal-resume-webinar-2/
LOCATION:GA
CATEGORIES:Career Development,Job Seeker,Veterans/Military,Virtual Event
END:VEVENT
BEGIN:VEVENT
DTSTART;TZID=America/New_York:20251211T150000
DTEND;TZID=America/New_York:20251211T160000
DTSTAMP:20260422T175840
CREATED:20251202T170122Z
LAST-MODIFIED:20251202T170122Z
UID:10035697-1765465200-1765468800@metroatlantaexchange.org
SUMMARY:Hiring Our Heroes: Power Your Transition - Energy Careers for Veterans
DESCRIPTION:Hiring Our Heroes is hosting Power Your Transition: Energy Careers for Veterans on Thursday\, December 11th\, starting at 3:00 PM. \nJoin Hiring Our Heroes\, the Center for Energy Workforce Development\, and leading employers to explore career opportunities for veterans in the energy sector. With strong job demand and millions of roles expected to open\, veterans are well-positioned for careers in trades\, engineering\, IT\, cybersecurity\, and business. Already\, 11% of the energy workforce is made up of veterans—proof that energy is a great place to build your next career. \nClick here to learn more and register.
URL:https://metroatlantaexchange.org/event/hiring-our-heroes-power-your-transition-energy-careers-for-veterans/
LOCATION:GA
CATEGORIES:Career Development,Job Seeker,Veterans/Military,Virtual Event
END:VEVENT
BEGIN:VEVENT
DTSTART;TZID=America/New_York:20251215T140000
DTEND;TZID=America/New_York:20251215T160000
DTSTAMP:20260422T175840
CREATED:20251202T170635Z
LAST-MODIFIED:20251202T170635Z
UID:10035701-1765807200-1765814400@metroatlantaexchange.org
SUMMARY:RecruitMilitary: Ten Steps to a Federal Job Webinar
DESCRIPTION:RecruitMilitary is hosting Ten Steps to a Federal Job Webinar on Monday\, December 15th\, from 2:00 PM to 4:00 PM. \nJoin this live webinar for expert guidance on federal hiring and resume strategies. Gain actionable tips\, personalized feedback\, and connect with a specialist who will help you tailor your resume for government job opportunities. \nClick here to learn more and register.
URL:https://metroatlantaexchange.org/event/recruitmilitary-ten-steps-to-a-federal-job-webinar/
LOCATION:GA
CATEGORIES:Career Development,Job Seeker,Veterans/Military,Virtual Event
END:VEVENT
BEGIN:VEVENT
DTSTART;TZID=America/New_York:20251218T100000
DTEND;TZID=America/New_York:20251218T113000
DTSTAMP:20260422T175840
CREATED:20251202T171000Z
LAST-MODIFIED:20251202T171000Z
UID:10035703-1766052000-1766057400@metroatlantaexchange.org
SUMMARY:RecruitMilitary: Advanced Employment Virtual Workshop
DESCRIPTION:RecruitMilitary is hosting an Advanced Employment Virtual Workshop on Thursday\, December 18th\, from 10:00 AM to 11:30 AM. \nEmpower your job search journey with the Advanced Employment Workshop\, where you will be equipped with essential skills to excel and leave a lasting impression on your future employer! Topics include Skills Development\, Interview Techniques\, Salary Negotiations\, and Dress for Success. \nClick here to learn more and register.
URL:https://metroatlantaexchange.org/event/recruitmilitary-advanced-employment-virtual-workshop/
LOCATION:GA
CATEGORIES:Career Development,Job Seeker,Veterans/Military,Virtual Event
END:VEVENT
BEGIN:VEVENT
DTSTART;TZID=America/New_York:20251218T110000
DTEND;TZID=America/New_York:20251218T150000
DTSTAMP:20260422T175840
CREATED:20251202T135120Z
LAST-MODIFIED:20251202T135120Z
UID:10035608-1766055600-1766070000@metroatlantaexchange.org
SUMMARY:JobFairX: Atlanta Veteran Virtual Job Fair
DESCRIPTION:JobFairX is hosting an Atlanta Veteran Virtual Job Fair on Thursday\, December 18th\, from 11:00 AM to 3:00 PM. \nAt JobFairX\, job seekers are matched with employers who have registered for the virtual job fair. When you sign up and create a profile\, you provide information about your qualifications\, skills\, and preferences. JobFairX’s advanced matching algorithm analyzes this data to identify suitable job opportunities. If your qualifications align with a job\, you’ll receive an email invitation to schedule an interview with the employer during the fair. JobFairX’s streamlined process saves you time on your job search. \nClick here to register.
URL:https://metroatlantaexchange.org/event/jobfairx-atlanta-veteran-virtual-job-fair-6/
LOCATION:GA
CATEGORIES:Job Seeker,Veterans/Military,Virtual Event
END:VEVENT
BEGIN:VEVENT
DTSTART;TZID=America/New_York:20251218T120000
DTEND;TZID=America/New_York:20251218T130000
DTSTAMP:20260422T175840
CREATED:20251202T171155Z
LAST-MODIFIED:20251202T171155Z
UID:10035704-1766059200-1766062800@metroatlantaexchange.org
SUMMARY:Cybersecurity and Infrastructure Security Agency (CISA): Military-Affiliated Federal Application
DESCRIPTION:The Cybersecurity and Infrastructure Security Agency (CISA) is hosting a Military-Affiliated Federal Application webinar on Thursday\, December 18th\, from 12:00 PM to 2:00 PM. \nReady to launch your next career in federal service? Join CISA’s Military Programs Manager\, Keith Cassant\, for a powerful\, live webinar designed specifically for the military-affiliated community: Active Duty\, Guard\, Reserve\, Veterans\, and Military Spouses. Discover how to successfully navigate the federal hiring process and position yourself for success. Whether you’re transitioning out of the military\, supporting a spouse in their career journey\, or simply exploring new opportunities\, this session will arm you with insider knowledge and practical tools to stand out in the federal job market. \nClick here to learn more and register.
URL:https://metroatlantaexchange.org/event/cybersecurity-and-infrastructure-security-agency-cisa-military-affiliated-federal-application/
LOCATION:GA
CATEGORIES:Career Development,Job Seeker,Veterans/Military,Virtual Event
END:VEVENT
BEGIN:VEVENT
DTSTART;TZID=America/New_York:20251218T120000
DTEND;TZID=America/New_York:20251218T160000
DTSTAMP:20260422T175840
CREATED:20251202T135223Z
LAST-MODIFIED:20251202T135223Z
UID:10035609-1766059200-1766073600@metroatlantaexchange.org
SUMMARY:G.I. Jobs: Veteran and Military Spouse Virtual Job Fair
DESCRIPTION:G.I. Jobs is hosting a Veteran and Military Spouse Virtual Job Fair on Thursday\, December 18th\, from 12:00 PM to 4:00 PM. \nExplore hot jobs while you chat with recruiters live. Apply for positions with dozens of military-friendly employers during this exciting\, free event. \nClick here to learn more and register.
URL:https://metroatlantaexchange.org/event/g-i-jobs-veteran-and-military-spouse-virtual-job-fair-2/
LOCATION:GA
CATEGORIES:Job Seeker,Veterans/Military,Virtual Event
END:VEVENT
BEGIN:VEVENT
DTSTART;TZID=America/New_York:20251219T120000
DTEND;TZID=America/New_York:20251219T130000
DTSTAMP:20260422T175840
CREATED:20251202T171912Z
LAST-MODIFIED:20251202T171912Z
UID:10035709-1766145600-1766149200@metroatlantaexchange.org
SUMMARY:G.I Jobs/Vetreprenuer Franchise Coaching: Virtual Information Session
DESCRIPTION:G.I. Jobs\, in partnership with Vetrepreneur Franchise Coaching\, is hosting a Virtual Information Session on Friday\, December 19th\, from 12:00 PM to 1:00 PM. \nCurious about becoming a franchise owner? This 1-hour virtual session is designed for veterans and military spouses ready to explore business ownership through franchising. Learn how our proven process helps you find the right franchise and confidently navigate the path to ownership. \nClick here to learn more and register.
URL:https://metroatlantaexchange.org/event/g-i-jobs-vetreprenuer-franchise-coaching-virtual-information-session/
LOCATION:GA
CATEGORIES:Career Development,Job Seeker,Veterans/Military,Virtual Event
END:VEVENT
END:VCALENDAR