BEGIN:VCALENDAR
VERSION:2.0
PRODID:-//MAX - ECPv6.15.17.1//NONSGML v1.0//EN
CALSCALE:GREGORIAN
METHOD:PUBLISH
X-WR-CALNAME:MAX
X-ORIGINAL-URL:https://metroatlantaexchange.org
X-WR-CALDESC:Events for MAX
REFRESH-INTERVAL;VALUE=DURATION:PT1H
X-Robots-Tag:noindex
X-PUBLISHED-TTL:PT1H
BEGIN:VTIMEZONE
TZID:America/New_York
BEGIN:DAYLIGHT
TZOFFSETFROM:-0500
TZOFFSETTO:-0400
TZNAME:EDT
DTSTART:20240310T070000
END:DAYLIGHT
BEGIN:STANDARD
TZOFFSETFROM:-0400
TZOFFSETTO:-0500
TZNAME:EST
DTSTART:20241103T060000
END:STANDARD
BEGIN:DAYLIGHT
TZOFFSETFROM:-0500
TZOFFSETTO:-0400
TZNAME:EDT
DTSTART:20250309T070000
END:DAYLIGHT
BEGIN:STANDARD
TZOFFSETFROM:-0400
TZOFFSETTO:-0500
TZNAME:EST
DTSTART:20251102T060000
END:STANDARD
BEGIN:DAYLIGHT
TZOFFSETFROM:-0500
TZOFFSETTO:-0400
TZNAME:EDT
DTSTART:20260308T070000
END:DAYLIGHT
BEGIN:STANDARD
TZOFFSETFROM:-0400
TZOFFSETTO:-0500
TZNAME:EST
DTSTART:20261101T060000
END:STANDARD
END:VTIMEZONE
BEGIN:VEVENT
DTSTART;TZID=America/New_York:20250617T090000
DTEND;TZID=America/New_York:20250617T170000
DTSTAMP:20260423T010114
CREATED:20250524T173737Z
LAST-MODIFIED:20250524T173737Z
UID:10033870-1750150800-1750179600@metroatlantaexchange.org
SUMMARY:Wellstar: Acute Care Registered Nurse (RN) Hiring Event
DESCRIPTION:Wellstar us hosting an Acute Care Registered Nurse (RN) Hiring Event on Tuesday\, June 17th\, from 9:00 AM to 5:00 PM\, at the Wellstar Kennestone Cancer Center. \nWellstar Kennestone Regional Medical Center has it all to build a career full of advancement\, community and belonging. Join us for this one-day-only event and leave with a start date. Discover opportunities that offer the benefits and resources to help you live your best life. If you can’t make the in-person event\, we’re also offering an online event on the same day\, so you don’t miss out on this opportunity. \nClick here to learn more and register.
URL:https://metroatlantaexchange.org/event/wellstar-acute-care-registered-nurse-rn-hiring-event/
LOCATION:Wellstar Kennestone Cancer Center\, 340 Kennestone Hospital Boulevard\, Marietta\, 30060\, United States
CATEGORIES:In-Person Event,Job Seeker,Virtual Event
END:VEVENT
BEGIN:VEVENT
DTSTART;TZID=America/New_York:20250617T170000
DTEND;TZID=America/New_York:20250617T190000
DTSTAMP:20260423T010114
CREATED:20250512T203306Z
LAST-MODIFIED:20250512T203306Z
UID:10033804-1750179600-1750186800@metroatlantaexchange.org
SUMMARY:StartUp Fayette: From Idea to MVP - Lean StartUp Strategies
DESCRIPTION:StartUp Fayette is hosting From Idea to MVP: Lean Startup Strategies on Tuesday\, June 17th\, from 5:00 PM to 7:00 PM\, at StartUp Fayette. \nJoin Barry J. Falcon\, founder of Let’s Go Pickleball\, as he shares insights on validating business ideas\, building a Minimum Viable Product (MVP)\, and using feedback to iterate quickly. StartUp Fayette is a monthly program featuring entrepreneurs\, big thinkers and people that offer services that support new business. Join us at Startup Fayette and gain access to everything you need to start your small business. Get the best local training to help you build your startup and succeed in your entrepreneurial journey. \nClick here to learn more and register.
URL:https://metroatlantaexchange.org/event/startup-fayette-from-idea-to-mvp-lean-startup-strategies/
LOCATION:StartUp Fayette\, 250 South Peachtree Parkway\, Peachtree City\, GA\, 30269\, United States
CATEGORIES:Career Development,In-Person Event,Job Seeker
END:VEVENT
END:VCALENDAR