BEGIN:VCALENDAR
VERSION:2.0
PRODID:-//MAX - ECPv6.15.17.1//NONSGML v1.0//EN
CALSCALE:GREGORIAN
METHOD:PUBLISH
X-WR-CALNAME:MAX
X-ORIGINAL-URL:https://metroatlantaexchange.org
X-WR-CALDESC:Events for MAX
REFRESH-INTERVAL;VALUE=DURATION:PT1H
X-Robots-Tag:noindex
X-PUBLISHED-TTL:PT1H
BEGIN:VTIMEZONE
TZID:America/New_York
BEGIN:DAYLIGHT
TZOFFSETFROM:-0500
TZOFFSETTO:-0400
TZNAME:EDT
DTSTART:20240310T070000
END:DAYLIGHT
BEGIN:STANDARD
TZOFFSETFROM:-0400
TZOFFSETTO:-0500
TZNAME:EST
DTSTART:20241103T060000
END:STANDARD
BEGIN:DAYLIGHT
TZOFFSETFROM:-0500
TZOFFSETTO:-0400
TZNAME:EDT
DTSTART:20250309T070000
END:DAYLIGHT
BEGIN:STANDARD
TZOFFSETFROM:-0400
TZOFFSETTO:-0500
TZNAME:EST
DTSTART:20251102T060000
END:STANDARD
BEGIN:DAYLIGHT
TZOFFSETFROM:-0500
TZOFFSETTO:-0400
TZNAME:EDT
DTSTART:20260308T070000
END:DAYLIGHT
BEGIN:STANDARD
TZOFFSETFROM:-0400
TZOFFSETTO:-0500
TZNAME:EST
DTSTART:20261101T060000
END:STANDARD
END:VTIMEZONE
BEGIN:VEVENT
DTSTART;TZID=America/New_York:20250617T140000
DTEND;TZID=America/New_York:20250617T153000
DTSTAMP:20260423T010153
CREATED:20250524T191814Z
LAST-MODIFIED:20250524T191814Z
UID:10033902-1750168800-1750174200@metroatlantaexchange.org
SUMMARY:Office of the Chief Human Capital Officer: VA Federal Application Webinar
DESCRIPTION:The Office of the Chief Human Capital Officer is hosting a VA Federal Application Webinar on Tuesday\, June 17th\, from 2:00 PM to 3:30 PM. \nDuring this virtual session\, Veteran and Military Spouse Talent Engagement Program’s (VMSTEP) personnel will present on how to write a federal government resume\, set up a user account and navigate USAJOBS. Get ready to learn insider tips and tricks for crafting a standout federal application that will get you noticed by top federal employers. You will learn the difference between a private sector and federal resume and tips to enhance describing your experience. Veterans\, transitioning service members\, military spouses and individuals qualified under Schedule A (People with Disabilities/People with Targeted Disabilities) will leave this session armed with information on how to develop a competitive application and how to craft an effective resume for use in applying for positions with VA and other federal agencies. \nClick here to register.
URL:https://metroatlantaexchange.org/event/office-of-the-chief-human-capital-officer-va-federal-application-webinar-2/
LOCATION:GA
CATEGORIES:Career Development,Job Seeker,Veterans/Military,Virtual Event
END:VEVENT
END:VCALENDAR