BEGIN:VCALENDAR
VERSION:2.0
PRODID:-//MAX - ECPv6.15.17.1//NONSGML v1.0//EN
CALSCALE:GREGORIAN
METHOD:PUBLISH
X-ORIGINAL-URL:https://metroatlantaexchange.org
X-WR-CALDESC:Events for MAX
REFRESH-INTERVAL;VALUE=DURATION:PT1H
X-Robots-Tag:noindex
X-PUBLISHED-TTL:PT1H
BEGIN:VTIMEZONE
TZID:America/New_York
BEGIN:DAYLIGHT
TZOFFSETFROM:-0500
TZOFFSETTO:-0400
TZNAME:EDT
DTSTART:20240310T070000
END:DAYLIGHT
BEGIN:STANDARD
TZOFFSETFROM:-0400
TZOFFSETTO:-0500
TZNAME:EST
DTSTART:20241103T060000
END:STANDARD
BEGIN:DAYLIGHT
TZOFFSETFROM:-0500
TZOFFSETTO:-0400
TZNAME:EDT
DTSTART:20250309T070000
END:DAYLIGHT
BEGIN:STANDARD
TZOFFSETFROM:-0400
TZOFFSETTO:-0500
TZNAME:EST
DTSTART:20251102T060000
END:STANDARD
BEGIN:DAYLIGHT
TZOFFSETFROM:-0500
TZOFFSETTO:-0400
TZNAME:EDT
DTSTART:20260308T070000
END:DAYLIGHT
BEGIN:STANDARD
TZOFFSETFROM:-0400
TZOFFSETTO:-0500
TZNAME:EST
DTSTART:20261101T060000
END:STANDARD
END:VTIMEZONE
BEGIN:VEVENT
DTSTART;TZID=America/New_York:20250618T080000
DTEND;TZID=America/New_York:20250618T090000
DTSTAMP:20260423T010301
CREATED:20250512T203508Z
LAST-MODIFIED:20250512T203508Z
UID:10033805-1750233600-1750237200@metroatlantaexchange.org
SUMMARY:Women in Technology (WIT): June 2025 Virtual Forum - The Mid-Career Tech Exodus: Identifying the Why and How to Stay
DESCRIPTION:Women in Technology (WIT)\, in partnership with the Tier4 Group\, is hosting the June 2025 Virtual Forum: The Mid-Career Tech Exodus – Identifying the Why and How to Stay on Wednesday\, June 18th\, from 8:00 AM to 9:00 AM. \nWomen are leaving the tech workforce at alarming rates. According to recent research\, 58% of women in technology exit their positions by mid-career\, often due to burnout\, lack of advancement opportunities\, and workplace cultures that don’t evolve with them. This isn’t just a “women’s issue.” It’s a business crisis. At the June WIT Forum\, we’re going beyond the statistics. We’re digging into the “why” behind the mass mid-career tech exodus and exploring the “how” of keeping women in the game. Expect candid insights from panelists who understand what it takes to build cultures that retain and elevate women in technology careers. Whether you’re a leader building diverse teams\, a mid-career woman in tech charting your path\, or an ally looking to drive change\, this forum is for you. \nClick here to learn more and register via Zoom.
URL:https://metroatlantaexchange.org/event/women-in-technology-wit-june-2025-virtual-forum-the-mid-career-tech-exodus-identifying-the-why-and-how-to-stay/
LOCATION:GA
CATEGORIES:Career Development,Job Seeker,Virtual Event,Workforce Developer
END:VEVENT
BEGIN:VEVENT
DTSTART;TZID=America/New_York:20250618T100000
DTEND;TZID=America/New_York:20250618T110000
DTSTAMP:20260423T010301
CREATED:20250524T192023Z
LAST-MODIFIED:20250524T192023Z
UID:10033903-1750240800-1750244400@metroatlantaexchange.org
SUMMARY:Jewish Family and Career Services (JF&CS): Virtual Resume Workshop
DESCRIPTION:Jewish Family and Career Services (JF&CS) is hosting a Virtual Resume Workshop on Wednesday\, June 18th\, from 10:00 AM to 11:00 AM. \nLearn how to create an effective resume or improve the one you already have. Transform your resume into a powerful tool. This workshop will identify the different parts of a resume and their purpose\, create a master profile of core competences and accomplishments and provide a checklist of resume do’s and don’ts. It will also help you develop a cover letter to accompany your resume. \nClick here to register via Zoom.
URL:https://metroatlantaexchange.org/event/jewish-family-and-career-services-jfcs-virtual-resume-workshop/
LOCATION:GA
CATEGORIES:Career Development,Job Seeker,Virtual Event
ORGANIZER;CN="Jewish Family and Career Services":MAILTO:info@jfcsatl.org
END:VEVENT
BEGIN:VEVENT
DTSTART;TZID=America/New_York:20250618T100000
DTEND;TZID=America/New_York:20250618T113000
DTSTAMP:20260423T010301
CREATED:20250417T213321Z
LAST-MODIFIED:20250417T213321Z
UID:10033471-1750240800-1750246200@metroatlantaexchange.org
SUMMARY:NPursuit Career Partners: Microsoft Word & PowerPoint Class
DESCRIPTION:NPursuit Career Partners in partnership with the City of Refuge is hosting a Microsoft Word & PowerPoint Class on Wednesday\, June 18th\, from 10:00 AM to 11:30 AM\, at the City of Refuge. \nTransform your productivity with Word and PowerPoint basics! Gain the skills to create professional documents and engaging presentations that will enhance your ability to communicate effectively. Lunch will be provided. \nClick here for a flyer that offers more information as well as a QR code you can use to register.
URL:https://metroatlantaexchange.org/event/npursuit-career-partners-microsoft-word-powerpoint-class/
LOCATION:City of Refuge Workforce Innovation Hub\, 1300 Joseph E. Boone Blvd NW\, Atlanta\, GA\, 30314\, United States
CATEGORIES:Career Development,In-Person Event,Job Seeker
GEO:33.7623158;-84.4302296
X-APPLE-STRUCTURED-LOCATION;VALUE=URI;X-ADDRESS=City of Refuge Workforce Innovation Hub 1300 Joseph E. Boone Blvd NW Atlanta GA 30314 United States;X-APPLE-RADIUS=500;X-TITLE=1300 Joseph E. Boone Blvd NW:geo:-84.4302296,33.7623158
END:VEVENT
BEGIN:VEVENT
DTSTART;TZID=America/New_York:20250618T110000
DTEND;TZID=America/New_York:20250618T150000
DTSTAMP:20260423T010301
CREATED:20250524T173850Z
LAST-MODIFIED:20250524T173850Z
UID:10033871-1750244400-1750258800@metroatlantaexchange.org
SUMMARY:CareerEco: Nursing and Allied Health Virtual Career & Grad Fair
DESCRIPTION:CareerEco is hosting a Nursing and Allied Health Virtual Career and Grad Fair on Wednesday\, June 18th\, from 11:00 AM to 3:00 PM. \nNetwork with top employers\, graduate programs\, and healthcare organizations while you attend this exciting event. Whether you’re exploring career opportunities\, seeking internships\, or considering graduate education\, this event offers direct access to recruiters and admissions representatives who are ready to connect with you. \nClick here to learn more and register.
URL:https://metroatlantaexchange.org/event/careereco-nursing-and-allied-health-virtual-career-grad-fair/
LOCATION:GA
CATEGORIES:Job Seeker,Virtual Event
ORGANIZER;CN="CareerEco":MAILTO:Events@CareerEco.com
END:VEVENT
BEGIN:VEVENT
DTSTART;TZID=America/New_York:20250618T180000
DTEND;TZID=America/New_York:20250618T200000
DTSTAMP:20260423T010301
CREATED:20250524T174101Z
LAST-MODIFIED:20250524T174101Z
UID:10033872-1750269600-1750276800@metroatlantaexchange.org
SUMMARY:United Career Fairs: Atlanta Career Fair
DESCRIPTION:United Career Fairs is hosting an Atlanta Career Fair on Wednesday\, June 18th\, starting at 6:00 PM\, at the Doubletree Hotel – Perimeter Center. \nThis sales and management focused career fair connects job seekers with hiring managers from several companies in one location. This is not a “cattle call” career fair crowded with hundreds of other candidates and lines out the door. Candidates enjoy an intimate setting that begins with a short presentation from each hiring manager\, to help them know which specific opportunities are a good fit. The job fair spans professional level opportunities in several industries.  Hiring managers from multiple disciplines are available to accept your resume and begin the interview process.  Job seekers enjoy bypassing a phone interview and engage in a more personal interaction with the hiring managers and influencers. \nClick here to learn more and register.
URL:https://metroatlantaexchange.org/event/united-career-fairs-atlanta-career-fair-3/
LOCATION:DoubleTree By Hilton Atlanta Perimeter Dunwoody\, 4386 Chamblee Dunwoody Road\, Atlanta\, GA\, 30341\, United States
CATEGORIES:In-Person Event,Job Seeker
GEO:33.9193213;-84.3168602
X-APPLE-STRUCTURED-LOCATION;VALUE=URI;X-ADDRESS=DoubleTree By Hilton Atlanta Perimeter Dunwoody 4386 Chamblee Dunwoody Road Atlanta GA 30341 United States;X-APPLE-RADIUS=500;X-TITLE=4386 Chamblee Dunwoody Road:geo:-84.3168602,33.9193213
END:VEVENT
END:VCALENDAR