BEGIN:VCALENDAR
VERSION:2.0
PRODID:-//MAX - ECPv6.15.17.1//NONSGML v1.0//EN
CALSCALE:GREGORIAN
METHOD:PUBLISH
X-WR-CALNAME:MAX
X-ORIGINAL-URL:https://metroatlantaexchange.org
X-WR-CALDESC:Events for MAX
REFRESH-INTERVAL;VALUE=DURATION:PT1H
X-Robots-Tag:noindex
X-PUBLISHED-TTL:PT1H
BEGIN:VTIMEZONE
TZID:America/New_York
BEGIN:DAYLIGHT
TZOFFSETFROM:-0500
TZOFFSETTO:-0400
TZNAME:EDT
DTSTART:20240310T070000
END:DAYLIGHT
BEGIN:STANDARD
TZOFFSETFROM:-0400
TZOFFSETTO:-0500
TZNAME:EST
DTSTART:20241103T060000
END:STANDARD
BEGIN:DAYLIGHT
TZOFFSETFROM:-0500
TZOFFSETTO:-0400
TZNAME:EDT
DTSTART:20250309T070000
END:DAYLIGHT
BEGIN:STANDARD
TZOFFSETFROM:-0400
TZOFFSETTO:-0500
TZNAME:EST
DTSTART:20251102T060000
END:STANDARD
BEGIN:DAYLIGHT
TZOFFSETFROM:-0500
TZOFFSETTO:-0400
TZNAME:EDT
DTSTART:20260308T070000
END:DAYLIGHT
BEGIN:STANDARD
TZOFFSETFROM:-0400
TZOFFSETTO:-0500
TZNAME:EST
DTSTART:20261101T060000
END:STANDARD
END:VTIMEZONE
BEGIN:VEVENT
DTSTART;TZID=America/New_York:20250619T100000
DTEND;TZID=America/New_York:20250619T130000
DTSTAMP:20260423T010112
CREATED:20250524T174319Z
LAST-MODIFIED:20250524T174319Z
UID:10033873-1750327200-1750338000@metroatlantaexchange.org
SUMMARY:Atlanta Center for Self Sufficiency (ACSS): Job Opportunity Fair
DESCRIPTION:The Atlanta Center for Self Sufficiency (ACSS) is hosting a Job Opportunity Fair on Thursday\, June 19th\, from 10:00 AM to 1:00 PM\, at Family First. \nLooking for a new job or a career change? Join us at the ACSS Job Opportunity Fair\, where you can connect with top employers from various industries. This in-person event is designed to help job seekers network\, explore career opportunities\, and take the next step in their professional journey. Whether you’re an experienced professional seeking new opportunities or just starting\, this fair provides a great platform to meet hiring managers\, gain industry insights\, and showcase your skills. Please come dressed in business casual or interview attire and ready to make a great impression. \nClick here to learn more and register.
URL:https://metroatlantaexchange.org/event/atlanta-center-for-self-sufficiency-acss-job-opportunity-fair/
LOCATION:Families First\, 80 Joseph E. Lowery Boulevard\, NW\, Atlanta\, 30314\, United States
CATEGORIES:In-Person Event,Job Seeker
END:VEVENT
END:VCALENDAR