BEGIN:VCALENDAR
VERSION:2.0
PRODID:-//MAX - ECPv6.15.17.1//NONSGML v1.0//EN
CALSCALE:GREGORIAN
METHOD:PUBLISH
X-WR-CALNAME:MAX
X-ORIGINAL-URL:https://metroatlantaexchange.org
X-WR-CALDESC:Events for MAX
REFRESH-INTERVAL;VALUE=DURATION:PT1H
X-Robots-Tag:noindex
X-PUBLISHED-TTL:PT1H
BEGIN:VTIMEZONE
TZID:America/New_York
BEGIN:DAYLIGHT
TZOFFSETFROM:-0500
TZOFFSETTO:-0400
TZNAME:EDT
DTSTART:20240310T070000
END:DAYLIGHT
BEGIN:STANDARD
TZOFFSETFROM:-0400
TZOFFSETTO:-0500
TZNAME:EST
DTSTART:20241103T060000
END:STANDARD
BEGIN:DAYLIGHT
TZOFFSETFROM:-0500
TZOFFSETTO:-0400
TZNAME:EDT
DTSTART:20250309T070000
END:DAYLIGHT
BEGIN:STANDARD
TZOFFSETFROM:-0400
TZOFFSETTO:-0500
TZNAME:EST
DTSTART:20251102T060000
END:STANDARD
BEGIN:DAYLIGHT
TZOFFSETFROM:-0500
TZOFFSETTO:-0400
TZNAME:EDT
DTSTART:20260308T070000
END:DAYLIGHT
BEGIN:STANDARD
TZOFFSETFROM:-0400
TZOFFSETTO:-0500
TZNAME:EST
DTSTART:20261101T060000
END:STANDARD
END:VTIMEZONE
BEGIN:VEVENT
DTSTART;TZID=America/New_York:20250624T070000
DTEND;TZID=America/New_York:20250624T090000
DTSTAMP:20260423T010122
CREATED:20250524T174632Z
LAST-MODIFIED:20250524T174632Z
UID:10033875-1750748400-1750755600@metroatlantaexchange.org
SUMMARY:Georgia Driving Academy: Covenant Truck Driver Recruiter Event
DESCRIPTION:Georgia Driving Academy is hosting a Covenant Truck Driver Recruiter Event on Tuesday\, June 24th\, starting at 7:00 AM\, at the Conyers Campus. \nAttend a free\, no-obligation information session with a representative from Covenant Transport at our Conyers Campus. Learn more about our CDL training courses\, receive a campus tour\, and hear about the many job opportunities for recent graduates. Find out how Covenant is ready to jump-start your new trucking career with on-the-job training and support. \nClick here to learn more and register.
URL:https://metroatlantaexchange.org/event/georgia-driving-academy-covenant-truck-driver-recruiter-event/
LOCATION:Georgia Driving Academy\, 1035 Sigman Road\, NE\, Conyers\, GA\, 30012\, United States
CATEGORIES:In-Person Event,Job Seeker
END:VEVENT
BEGIN:VEVENT
DTSTART;TZID=America/New_York:20250624T100000
DTEND;TZID=America/New_York:20250624T120000
DTSTAMP:20260423T010122
CREATED:20250622T182121Z
LAST-MODIFIED:20250622T182121Z
UID:10033987-1750759200-1750766400@metroatlantaexchange.org
SUMMARY:Goodwill of North Georgia: Multi-Employer Job Fair
DESCRIPTION:Goodwill of North Georgia is hosting a Multi-Employer Job Fair on Tuesday\, June 24th\, from 10:00 AM to 12:00 PM\, at the Cartersville Career Center. \nFor more information\, call 770-276-7036. \nClick here to learn more and register.
URL:https://metroatlantaexchange.org/event/goodwill-of-north-georgia-multi-employer-job-fair-2/
LOCATION:Goodwill of North Georgia – Cartersville Career Center\, 929 Joe Frank Harris Parkway\, Cartersville\, GA\, 30120\, United States
CATEGORIES:In-Person Event,Job Seeker
GEO:34.1974793;-84.7941559
X-APPLE-STRUCTURED-LOCATION;VALUE=URI;X-ADDRESS=Goodwill of North Georgia – Cartersville Career Center 929 Joe Frank Harris Parkway Cartersville GA 30120 United States;X-APPLE-RADIUS=500;X-TITLE=929 Joe Frank Harris Parkway:geo:-84.7941559,34.1974793
END:VEVENT
BEGIN:VEVENT
DTSTART;TZID=America/New_York:20250624T100000
DTEND;TZID=America/New_York:20250624T120000
DTSTAMP:20260423T010122
CREATED:20250622T182312Z
LAST-MODIFIED:20250622T182312Z
UID:10033988-1750759200-1750766400@metroatlantaexchange.org
SUMMARY:Goodwill of North Georgia: Splash into Summer Job Event and Resource Fair
DESCRIPTION:Goodwill of North Georgia is hosting a Splash Into Summer Job Event and Resource Fair on Tuesday\, June 24h\, from 10:00 AM to 12:00 PM\, at the South DeKalb Career Center. \nFor more information\, call 404-728-8605. \nClick here to learn more and register.
URL:https://metroatlantaexchange.org/event/goodwill-of-north-georgia-splash-into-summer-job-event-and-resource-fair/
LOCATION:Goodwill of North Georgia – South DeKalb Career Center\, 1295 Columbia Drive\, Decatur\, GA\, 30032\, United States
CATEGORIES:In-Person Event,Job Seeker
GEO:33.7510576;-84.2656565
X-APPLE-STRUCTURED-LOCATION;VALUE=URI;X-ADDRESS=Goodwill of North Georgia – South DeKalb Career Center 1295 Columbia Drive Decatur GA 30032 United States;X-APPLE-RADIUS=500;X-TITLE=1295 Columbia Drive:geo:-84.2656565,33.7510576
END:VEVENT
BEGIN:VEVENT
DTSTART;TZID=America/New_York:20250624T100000
DTEND;TZID=America/New_York:20250624T130000
DTSTAMP:20260423T010122
CREATED:20250622T181858Z
LAST-MODIFIED:20250622T181858Z
UID:10033986-1750759200-1750770000@metroatlantaexchange.org
SUMMARY:Goodwill of North Georgia: Job Fair
DESCRIPTION:Goodwill of North Georgia is hosting a Job Fair on Tuesday\, June 24th\, from 10:00 AM to 1:00 PM\, at the Cornelia Career Center. \nFor more information\, call 706-894-4905. \nClick here to learn more and register.
URL:https://metroatlantaexchange.org/event/goodwill-of-north-georgia-job-fair/
LOCATION:Goodwill of North Georgia – Cornelia Career Center\, 308 Habersham Hills Circle\, Cornelia\, GA\, 30531\, United States
CATEGORIES:In-Person Event,Job Seeker
END:VEVENT
BEGIN:VEVENT
DTSTART;TZID=America/New_York:20250624T100000
DTEND;TZID=America/New_York:20250624T140000
DTSTAMP:20260423T010122
CREATED:20250622T182452Z
LAST-MODIFIED:20250622T182452Z
UID:10033989-1750759200-1750773600@metroatlantaexchange.org
SUMMARY:New Life Community Alliance: Summer Hiring Event
DESCRIPTION:New Life Community Alliance\, in partnership with Goodwill\, is hosting a Summer Hiring Event on Tuesday\, June 24th\, from 10:00 AM to 2:00 PM\, at New Life Community Alliance. \nCome join us at the Summer Hiring Fair hosted by New Life Community Alliance in partnership with Goodwill! This in-person event is your chance to connect with local employers who are actively hiring for various positions. Whether you’re looking for a new job or exploring career opportunities\, this fair is the perfect place to start. Don’t miss out on this exciting opportunity to network\, interview\, and potentially land your dream job. See you there! \nClick here to register.
URL:https://metroatlantaexchange.org/event/new-life-community-alliance-summer-hiring-event/
LOCATION:New Life Community Church\, 3592 Flat Shoals Road\, Decatur\, Georgia\, 30034
CATEGORIES:In-Person Event,Job Seeker
END:VEVENT
BEGIN:VEVENT
DTSTART;TZID=America/New_York:20250624T100000
DTEND;TZID=America/New_York:20250624T150000
DTSTAMP:20260423T010122
CREATED:20250622T181644Z
LAST-MODIFIED:20250622T181644Z
UID:10033985-1750759200-1750777200@metroatlantaexchange.org
SUMMARY:GoldOller Real Estate Investments: Hiring Event
DESCRIPTION:GoldOller Real Estate Investments is hosting a Hiring Event on Tuesday\, June 24th\, from 10:00 AM to 3:00 PM\, at Westhaven at Vinings Apartments – Clubhouse. \nGoldOller Real Estate Investments is a growing real estate investment company that acquires\, develops\, and operates multifamily communities throughout the country and is seeking Maintenance Technicians\, Make Ready Technicians\, Groundskeepers and Leasing Consultants. GoldOller believes in a healthy work-life balance and offers generous benefits to include two weeks paid time off\, “celebrate YOU days”\, comprehensive health insurance plans\, company matched 401(k) and more. Our commitment and strides to stand out\, think creatively and do things from our own perspective and expertise! If you are looking for a career path that includes growth and having a sense of purpose\, then this is your new “home”. Don’t forget to bring a resume and EPA license to the event. \nClick here to learn more and register.
URL:https://metroatlantaexchange.org/event/goldoller-real-estate-investments-hiring-event/
LOCATION:Westhaven at Vinings Apartments\, 3000 Paces Walk\, Atlanta\, GA\, 30339\, United States
CATEGORIES:In-Person Event,Job Seeker
END:VEVENT
BEGIN:VEVENT
DTSTART;TZID=America/New_York:20250624T110000
DTEND;TZID=America/New_York:20250624T150000
DTSTAMP:20260423T010122
CREATED:20250524T174456Z
LAST-MODIFIED:20250524T174456Z
UID:10033874-1750762800-1750777200@metroatlantaexchange.org
SUMMARY:CareerEco: Health Professions Job Fair for Underserved and Underrepresented Students
DESCRIPTION:CareerEco is hosting a Health Professions Job Fair for Underserved and Underrepresented Students on Tuesday\, June 24th\, from 11:00 AM to 3:00 PM. \nThis online event will allow underserved students to explore a wide range of health career paths\, learn about admissions processes and gain insight into overcoming barriers on the journey to becoming a healthcare professional. \nClick here to learn more and register.
URL:https://metroatlantaexchange.org/event/careereco-health-professions-job-fair-for-underserved-and-underrepresented-students/
LOCATION:GA
CATEGORIES:Job Seeker,Virtual Event
ORGANIZER;CN="CareerEco":MAILTO:Events@CareerEco.com
END:VEVENT
BEGIN:VEVENT
DTSTART;TZID=America/New_York:20250624T110000
DTEND;TZID=America/New_York:20250624T150000
DTSTAMP:20260423T010122
CREATED:20250622T182626Z
LAST-MODIFIED:20250622T182626Z
UID:10033990-1750762800-1750777200@metroatlantaexchange.org
SUMMARY:JobFairX: Atlanta Veteran Virtual Job Fair
DESCRIPTION:JobFairX is hosting an Atlanta Veteran Virtual Job Fair on Tuesday\, June 24th\, from 11:00 AM to 3:00 PM. \nAt JobFairX\, we match job seekers like you with employers who have registered for the virtual job fair. When you sign up and create a profile\, we collect information about your qualifications\, skills\, and preferences. Our advanced matching algorithm analyzes this data to identify suitable job opportunities. If your qualifications align with a job\, you’ll receive an email invitation to schedule an interview with the employer during the fair. Our streamlined process saves you time on your job search. \nClick here to register.
URL:https://metroatlantaexchange.org/event/jobfairx-atlanta-veteran-virtual-job-fair/
LOCATION:GA
CATEGORIES:Job Seeker,Virtual Event
END:VEVENT
END:VCALENDAR