BEGIN:VCALENDAR
VERSION:2.0
PRODID:-//MAX - ECPv6.15.17.1//NONSGML v1.0//EN
CALSCALE:GREGORIAN
METHOD:PUBLISH
X-WR-CALNAME:MAX
X-ORIGINAL-URL:https://metroatlantaexchange.org
X-WR-CALDESC:Events for MAX
REFRESH-INTERVAL;VALUE=DURATION:PT1H
X-Robots-Tag:noindex
X-PUBLISHED-TTL:PT1H
BEGIN:VTIMEZONE
TZID:America/New_York
BEGIN:DAYLIGHT
TZOFFSETFROM:-0500
TZOFFSETTO:-0400
TZNAME:EDT
DTSTART:20240310T070000
END:DAYLIGHT
BEGIN:STANDARD
TZOFFSETFROM:-0400
TZOFFSETTO:-0500
TZNAME:EST
DTSTART:20241103T060000
END:STANDARD
BEGIN:DAYLIGHT
TZOFFSETFROM:-0500
TZOFFSETTO:-0400
TZNAME:EDT
DTSTART:20250309T070000
END:DAYLIGHT
BEGIN:STANDARD
TZOFFSETFROM:-0400
TZOFFSETTO:-0500
TZNAME:EST
DTSTART:20251102T060000
END:STANDARD
BEGIN:DAYLIGHT
TZOFFSETFROM:-0500
TZOFFSETTO:-0400
TZNAME:EDT
DTSTART:20260308T070000
END:DAYLIGHT
BEGIN:STANDARD
TZOFFSETFROM:-0400
TZOFFSETTO:-0500
TZNAME:EST
DTSTART:20261101T060000
END:STANDARD
END:VTIMEZONE
BEGIN:VEVENT
DTSTART;TZID=America/New_York:20250626T110000
DTEND;TZID=America/New_York:20250626T150000
DTSTAMP:20260423T010116
CREATED:20250511T190146Z
LAST-MODIFIED:20250511T190146Z
UID:10033788-1750935600-1750950000@metroatlantaexchange.org
SUMMARY:CareerEco: Veterans Virtual Career Fair
DESCRIPTION:CareerEco is hosting a Veterans Virtual Career Fair on Thursday\, June 26th\, from 11:00 AM to 3:00 PM. \nThis event\, open to transitioning U.S. military service members\, veterans and military spouses will provide the opportunity for participants to connect live with employers nationwide. \nClick here to learn more and register.
URL:https://metroatlantaexchange.org/event/careereco-veterans-virtual-career-fair/
LOCATION:GA
CATEGORIES:Job Seeker,Veterans/Military,Virtual Event
ORGANIZER;CN="CareerEco":MAILTO:Events@CareerEco.com
END:VEVENT
END:VCALENDAR