BEGIN:VCALENDAR
VERSION:2.0
PRODID:-//MAX - ECPv6.15.17.1//NONSGML v1.0//EN
CALSCALE:GREGORIAN
METHOD:PUBLISH
X-ORIGINAL-URL:https://metroatlantaexchange.org
X-WR-CALDESC:Events for MAX
REFRESH-INTERVAL;VALUE=DURATION:PT1H
X-Robots-Tag:noindex
X-PUBLISHED-TTL:PT1H
BEGIN:VTIMEZONE
TZID:America/New_York
BEGIN:DAYLIGHT
TZOFFSETFROM:-0500
TZOFFSETTO:-0400
TZNAME:EDT
DTSTART:20240310T070000
END:DAYLIGHT
BEGIN:STANDARD
TZOFFSETFROM:-0400
TZOFFSETTO:-0500
TZNAME:EST
DTSTART:20241103T060000
END:STANDARD
BEGIN:DAYLIGHT
TZOFFSETFROM:-0500
TZOFFSETTO:-0400
TZNAME:EDT
DTSTART:20250309T070000
END:DAYLIGHT
BEGIN:STANDARD
TZOFFSETFROM:-0400
TZOFFSETTO:-0500
TZNAME:EST
DTSTART:20251102T060000
END:STANDARD
BEGIN:DAYLIGHT
TZOFFSETFROM:-0500
TZOFFSETTO:-0400
TZNAME:EDT
DTSTART:20260308T070000
END:DAYLIGHT
BEGIN:STANDARD
TZOFFSETFROM:-0400
TZOFFSETTO:-0500
TZNAME:EST
DTSTART:20261101T060000
END:STANDARD
END:VTIMEZONE
BEGIN:VEVENT
DTSTART;TZID=America/New_York:20250627T110000
DTEND;TZID=America/New_York:20250627T140000
DTSTAMP:20260423T003341
CREATED:20250622T185401Z
LAST-MODIFIED:20250622T185401Z
UID:10034002-1751022000-1751032800@metroatlantaexchange.org
SUMMARY:Goodwill of North Georgia: Department of Corrections Hiring Event for the Buford Area
DESCRIPTION:Goodwill of North Georgia is hosting a Department of Corrections Hiring Event for the Buford Area on Friday\, June 27th\, from 11:00 AM to 2:00 PM\, at the Stockbridge Career Center. \nFor more information\, call 678-514-0670. \nClick here to learn more and register.
URL:https://metroatlantaexchange.org/event/goodwill-of-north-georgia-department-of-corrections-hiring-event-for-the-buford-area/
LOCATION:GA
CATEGORIES:In-Person Event,Job Seeker
END:VEVENT
BEGIN:VEVENT
DTSTART;TZID=America/New_York:20250627T110000
DTEND;TZID=America/New_York:20250627T170000
DTSTAMP:20260423T003341
CREATED:20250622T184923Z
LAST-MODIFIED:20250622T184923Z
UID:10034000-1751022000-1751043600@metroatlantaexchange.org
SUMMARY:Emory Healthcare: New Graduate Registered Nurse (RN) In-Person Hiring Event
DESCRIPTION:Emory Healthcare is hosting a New Graduate Registered Nurse (RN) In-Person Hiring Event on Friday\, June 27th\, from 11:00 AM to 5:00 PM\, at Emory Healthcare. \nDon’t miss your chance to receive market-leading compensation\, student loan repayment\, flexible benefits and more. Please bring four copies of your resume to the event. \nhere to learn more and register.
URL:https://metroatlantaexchange.org/event/emory-healthcare-new-graduate-registered-nurse-rn-in-person-hiring-event/
LOCATION:Emory Healthcare (Upper Gate)\, 2015 Upper Gate Drive\, NE\, Atlanta\, GA\, 30322\, United States
CATEGORIES:In-Person Event,Job Seeker
END:VEVENT
BEGIN:VEVENT
DTSTART;TZID=America/New_York:20250627T124500
DTEND;TZID=America/New_York:20250627T150000
DTSTAMP:20260423T003341
CREATED:20250622T185135Z
LAST-MODIFIED:20250622T185135Z
UID:10034001-1751028300-1751036400@metroatlantaexchange.org
SUMMARY:Georgia Driving Academy: Stevens Truck Driver Recruiting Event
DESCRIPTION:Georgia Driving Academy is hosting a Stevens Truck Driver Recruiting Event on Friday\, June 27th\, starting at 12:45 PM\, at the Conyers Campus. \nAttend a free\, no-obligation information session with a representative from Stevens at our Conyers Campus. Learn more about our CDL training courses\, receive a campus tour\, and hear about the many job opportunities for recent graduates. Find out how Stevens is ready to jump-start your new trucking career with on-the-job training and support. \nClick here to learn more and register.
URL:https://metroatlantaexchange.org/event/georgia-driving-academy-stevens-truck-driver-recruiting-event-6/
LOCATION:Georgia Driving Academy\, 1035 Sigman Road\, NE\, Conyers\, GA\, 30012\, United States
CATEGORIES:In-Person Event,Job Seeker
END:VEVENT
END:VCALENDAR