BEGIN:VCALENDAR
VERSION:2.0
PRODID:-//MAX - ECPv6.15.17.1//NONSGML v1.0//EN
CALSCALE:GREGORIAN
METHOD:PUBLISH
X-WR-CALNAME:MAX
X-ORIGINAL-URL:https://metroatlantaexchange.org
X-WR-CALDESC:Events for MAX
REFRESH-INTERVAL;VALUE=DURATION:PT1H
X-Robots-Tag:noindex
X-PUBLISHED-TTL:PT1H
BEGIN:VTIMEZONE
TZID:America/New_York
BEGIN:DAYLIGHT
TZOFFSETFROM:-0500
TZOFFSETTO:-0400
TZNAME:EDT
DTSTART:20240310T070000
END:DAYLIGHT
BEGIN:STANDARD
TZOFFSETFROM:-0400
TZOFFSETTO:-0500
TZNAME:EST
DTSTART:20241103T060000
END:STANDARD
BEGIN:DAYLIGHT
TZOFFSETFROM:-0500
TZOFFSETTO:-0400
TZNAME:EDT
DTSTART:20250309T070000
END:DAYLIGHT
BEGIN:STANDARD
TZOFFSETFROM:-0400
TZOFFSETTO:-0500
TZNAME:EST
DTSTART:20251102T060000
END:STANDARD
BEGIN:DAYLIGHT
TZOFFSETFROM:-0500
TZOFFSETTO:-0400
TZNAME:EDT
DTSTART:20260308T070000
END:DAYLIGHT
BEGIN:STANDARD
TZOFFSETFROM:-0400
TZOFFSETTO:-0500
TZNAME:EST
DTSTART:20261101T060000
END:STANDARD
END:VTIMEZONE
BEGIN:VEVENT
DTSTART;TZID=America/New_York:20250704T110000
DTEND;TZID=America/New_York:20250704T140000
DTSTAMP:20260423T011904
CREATED:20250622T191430Z
LAST-MODIFIED:20250622T191430Z
UID:10034005-1751626800-1751637600@metroatlantaexchange.org
SUMMARY:CareerClub: First Friday Monthly Virtual Job Fair
DESCRIPTION:CareerClub is hosting a First Friday Monthly Virtual Job Fair on Friday\, July 4th\, from 11:00 AM to 2:00 PM. \nJoin us for a dynamic online event designed to connect job seekers with employers and service providers from around the globe. This is your opportunity to explore exciting remote career opportunities\, network with professionals\, and discover your next big career move. This self-managed\, unmoderated event allows you to take charge of your networking experience. \nClick here to learn more and register.
URL:https://metroatlantaexchange.org/event/careerclub-first-friday-monthly-virtual-job-fair/
LOCATION:GA
CATEGORIES:Job Seeker,Virtual Event
END:VEVENT
END:VCALENDAR