BEGIN:VCALENDAR
VERSION:2.0
PRODID:-//MAX - ECPv6.15.17.1//NONSGML v1.0//EN
CALSCALE:GREGORIAN
METHOD:PUBLISH
X-WR-CALNAME:MAX
X-ORIGINAL-URL:https://metroatlantaexchange.org
X-WR-CALDESC:Events for MAX
REFRESH-INTERVAL;VALUE=DURATION:PT1H
X-Robots-Tag:noindex
X-PUBLISHED-TTL:PT1H
BEGIN:VTIMEZONE
TZID:America/New_York
BEGIN:DAYLIGHT
TZOFFSETFROM:-0500
TZOFFSETTO:-0400
TZNAME:EDT
DTSTART:20240310T070000
END:DAYLIGHT
BEGIN:STANDARD
TZOFFSETFROM:-0400
TZOFFSETTO:-0500
TZNAME:EST
DTSTART:20241103T060000
END:STANDARD
BEGIN:DAYLIGHT
TZOFFSETFROM:-0500
TZOFFSETTO:-0400
TZNAME:EDT
DTSTART:20250309T070000
END:DAYLIGHT
BEGIN:STANDARD
TZOFFSETFROM:-0400
TZOFFSETTO:-0500
TZNAME:EST
DTSTART:20251102T060000
END:STANDARD
BEGIN:DAYLIGHT
TZOFFSETFROM:-0500
TZOFFSETTO:-0400
TZNAME:EDT
DTSTART:20260308T070000
END:DAYLIGHT
BEGIN:STANDARD
TZOFFSETFROM:-0400
TZOFFSETTO:-0500
TZNAME:EST
DTSTART:20261101T060000
END:STANDARD
END:VTIMEZONE
BEGIN:VEVENT
DTSTART;TZID=America/New_York:20250708T090000
DTEND;TZID=America/New_York:20250708T160000
DTSTAMP:20260422T212807
CREATED:20250706T194914Z
LAST-MODIFIED:20250706T194914Z
UID:10034060-1751965200-1751990400@metroatlantaexchange.org
SUMMARY:Goodwill of North Georgia:  GED Class
DESCRIPTION:Goodwill of North Georgia is hosting a GED Class every Tuesday\, from 9:00 AM to 4:00 PM\, at the Cornelia Career Center. \nFor more information\, call 706-894-4905. \nClick here to learn more and register.
URL:https://metroatlantaexchange.org/event/goodwill-of-north-georgia-ged-class/2025-07-08/
LOCATION:Goodwill of North Georgia – Cornelia Career Center\, 308 Habersham Hills Circle\, Cornelia\, GA\, 30531\, United States
CATEGORIES:Career Development,In-Person Event,Job Seeker
END:VEVENT
BEGIN:VEVENT
DTSTART;TZID=America/New_York:20250708T100000
DTEND;TZID=America/New_York:20250708T120000
DTSTAMP:20260422T212807
CREATED:20250705T190329Z
LAST-MODIFIED:20250705T190329Z
UID:10034034-1751968800-1751976000@metroatlantaexchange.org
SUMMARY:Silverline Windows
DESCRIPTION:Silverline Windows is hosting a Career Fair on Tuesday\, July 8th\, from 10:00 AM to 12:00 PM\, at Silverline Windows. \nStart your manufacturing career with industry leaders! Silverline Windows\, a part of Cornerstone Building Brands Family\, a trusted name in high-quality windows and doors\, is looking for motivated individuals to join our production team in Lithia Springs\, GA. If you thrive in a fast-paced\, hands-on environment and want to build a stable career with excellent benefits\, we want to meet you! Bring your resume and be prepared for an on-site interview. \nClick here to register. \nClick here to learn more about the career fair.
URL:https://metroatlantaexchange.org/event/silverline-windows/
LOCATION:Silverline Windows\, 1780 Westfork Drive\, Lithia Springs\, GA\, 30122\, United States
CATEGORIES:In-Person Event,Job Seeker
END:VEVENT
BEGIN:VEVENT
DTSTART;TZID=America/New_York:20250708T110000
DTEND;TZID=America/New_York:20250708T120000
DTSTAMP:20260422T212807
CREATED:20250706T195052Z
LAST-MODIFIED:20250706T195052Z
UID:10034064-1751972400-1751976000@metroatlantaexchange.org
SUMMARY:Goodwill of North Georgia: Goodwill Training Program Information Session
DESCRIPTION:Goodwill of North Georgia is hosting a Goodwill Training Program Information Session every Tuesday\, from 11:00 AM to 12:00 PM\, at the Rome Career Center. \nFor more information\, call 706-292-3304. \nClick here to learn more and register.
URL:https://metroatlantaexchange.org/event/goodwill-of-north-georgia-goodwill-training-program-information-session-8/2025-07-08/
LOCATION:Goodwill of North Georgia – Rome Career Center\, 154 Hicks Drive\, Rome\, 30161
CATEGORIES:Career Development,In-Person Event,Job Seeker
END:VEVENT
BEGIN:VEVENT
DTSTART;TZID=America/New_York:20250708T110000
DTEND;TZID=America/New_York:20250708T140000
DTSTAMP:20260422T212807
CREATED:20250705T185802Z
LAST-MODIFIED:20250705T185802Z
UID:10034032-1751972400-1751983200@metroatlantaexchange.org
SUMMARY:Connect to Work: Connect to Opportunity Warehouse and Logistics Job Fair
DESCRIPTION:Connect to Work is hosting a Connect to Opportunity Warehouse and Logistics Job Fair on Tuesday\, July 8th\, from 11:00 AM to 2:00 PM\, at the Gwinnett Technical College – Busbee Center. \nConnect to Work GA is not a staffing agency\, we’re a workforce initiative led by the Metro Atlanta Chamber\, focused on helping individuals like you connect directly with employers who are ready to hire. This event is your chance to take that next step. Carter’s\, one of the nation’s leading children’s apparel brands\, is actively hiring for warehouse roles—including Lift Truck Drivers and Warehouse Associates—at their Braselton Distribution Center. Job offers may be made on-site\, so be sure to bring your best and be ready to interview. By attending this job fair and completing your registration form\, you’re beginning what we call the “Last Mile” of your employment journey—connecting your skills to a real job opportunity. \nClick here to register. \nClick here for a flyer.
URL:https://metroatlantaexchange.org/event/connect-to-work-connect-to-opportunity-warehouse-and-logistics-job-fair/
LOCATION:Gwinnett Technical College\, 5150 Sugarloaf Parkway\, Lawrenceville\, GA\, 30043\, United States
CATEGORIES:In-Person Event,Job Seeker
GEO:33.9633632;-84.0675774
X-APPLE-STRUCTURED-LOCATION;VALUE=URI;X-ADDRESS=Gwinnett Technical College 5150 Sugarloaf Parkway Lawrenceville GA 30043 United States;X-APPLE-RADIUS=500;X-TITLE=5150 Sugarloaf Parkway:geo:-84.0675774,33.9633632
END:VEVENT
BEGIN:VEVENT
DTSTART;TZID=America/New_York:20250708T150000
DTEND;TZID=America/New_York:20250708T160000
DTSTAMP:20260422T212807
CREATED:20250706T195330Z
LAST-MODIFIED:20250706T195443Z
UID:10034068-1751986800-1751990400@metroatlantaexchange.org
SUMMARY:Goodwill of North Georgia: On-Site Resume Assistance Workshop
DESCRIPTION:Goodwill of North Georgia is hosting an On-Site Resume Assistance Workshop every Tuesday and Thursday\, from 3:00 PM to 4:00 PM\, at the Cartersville Career Center. \nFor more information\, call 770-276-7036. \nClick here to learn more and register.
URL:https://metroatlantaexchange.org/event/goodwill-of-north-georgia-on-site-resume-assistance-workshop/2025-07-08/
LOCATION:Goodwill of North Georgia – Cartersville Career Center\, 929 Joe Frank Harris Parkway\, Cartersville\, GA\, 30120\, United States
CATEGORIES:Career Development,In-Person Event,Job Seeker
GEO:34.1974793;-84.7941559
X-APPLE-STRUCTURED-LOCATION;VALUE=URI;X-ADDRESS=Goodwill of North Georgia – Cartersville Career Center 929 Joe Frank Harris Parkway Cartersville GA 30120 United States;X-APPLE-RADIUS=500;X-TITLE=929 Joe Frank Harris Parkway:geo:-84.7941559,34.1974793
END:VEVENT
BEGIN:VEVENT
DTSTART;TZID=America/New_York:20250708T150000
DTEND;TZID=America/New_York:20250708T173000
DTSTAMP:20260422T212807
CREATED:20250622T191803Z
LAST-MODIFIED:20250622T191803Z
UID:10034007-1751986800-1751995800@metroatlantaexchange.org
SUMMARY:Schneider: Truck Driver and Owner-Operator Recruiting Event
DESCRIPTION:Schneider is hosting a Truck Driver and Owner-Operator Recruiting Event on Tuesday\, July 8th\, from 3:00 PM to 5:30 PM\, at the Georgia Driving Academy. \nExperienced truck driver looking for a change? Recent driving school graduate or looking to get your CDL? Whatever your level of truck driving experience\, get a chance to have all your truck driving related questions answered at one of our casual truck driver and owner-operator recruiting events. Speak to one of our knowledgeable and personable recruiters about driving opportunities\, pay and benefits\, military programs\, requirements\, terminology clarification\, CDL questions and any other questions you may have. \nClick here to learn more and register.
URL:https://metroatlantaexchange.org/event/schneider-truck-driver-and-owner-operator-recruiting-event-9/
LOCATION:Georgia Driving Academy\, 1035 Sigman Road\, NE\, Conyers\, GA\, 30012\, United States
CATEGORIES:In-Person Event,Job Seeker
END:VEVENT
BEGIN:VEVENT
DTSTART;TZID=America/New_York:20250708T150000
DTEND;TZID=America/New_York:20250708T190000
DTSTAMP:20260422T212807
CREATED:20250705T190102Z
LAST-MODIFIED:20250705T190102Z
UID:10034033-1751986800-1752001200@metroatlantaexchange.org
SUMMARY:Emory Healthcare: Hiring Event
DESCRIPTION:Emory Healthcare is hosting a Hiring Event on Tuesday\, July 8th\, from 3:00 PM to 7:00 PM\, at Emory Healthcare. \nJoin us for an in-person hiring event\, and let’s see how you can grow your career with a clinical-empowered health care organization who offers lifesaving\, innovative care to medically complex patients. Our internal travel nursing team can be a flexible program\, allowing team members the ability to tailor work/life balance to fit their lifestyle. The location of the event will be communicated upon minimum qualification screen completion. \nEmory is seeking Internal Travel Team Surgical Techs\, Facility Float Registered Nurses (RN)\, Respiratory Care Practitioners and more. \nClick the position links above to learn more.
URL:https://metroatlantaexchange.org/event/emory-healthcare-hiring-event/
LOCATION:Emory Healthcare\, 4800 Briarcliff Road\, Atlanta\, 30345\, United States
CATEGORIES:In-Person Event,Job Seeker
END:VEVENT
BEGIN:VEVENT
DTSTART;TZID=America/New_York:20250708T190000
DTEND;TZID=America/New_York:20250708T200000
DTSTAMP:20260422T212807
CREATED:20250706T195636Z
LAST-MODIFIED:20250706T195636Z
UID:10034083-1752001200-1752004800@metroatlantaexchange.org
SUMMARY:Hiring Our Heroes: Corporate Fellowship Program Information Session
DESCRIPTION:Hiring Our Heroes is hosting a Corporate Fellowship Program Information Session on Tuesday\, July 8th\, starting at 7:00 PM. \nWe invite transitioning service members to learn more about our SkillBridge fellowships\, which provide professional training and hands-on experience in the civilian workforce. These fellowships are designed to prepare you for a smooth transition into meaningful civilian careers. \nClick here to learn more and register.
URL:https://metroatlantaexchange.org/event/hiring-our-heroes-corporate-fellowship-program-information-session-3/
LOCATION:GA
CATEGORIES:Career Development,Job Seeker,Veterans/Military,Virtual Event
END:VEVENT
END:VCALENDAR