BEGIN:VCALENDAR
VERSION:2.0
PRODID:-//MAX - ECPv6.15.17.1//NONSGML v1.0//EN
CALSCALE:GREGORIAN
METHOD:PUBLISH
X-ORIGINAL-URL:https://metroatlantaexchange.org
X-WR-CALDESC:Events for MAX
REFRESH-INTERVAL;VALUE=DURATION:PT1H
X-Robots-Tag:noindex
X-PUBLISHED-TTL:PT1H
BEGIN:VTIMEZONE
TZID:America/New_York
BEGIN:DAYLIGHT
TZOFFSETFROM:-0500
TZOFFSETTO:-0400
TZNAME:EDT
DTSTART:20240310T070000
END:DAYLIGHT
BEGIN:STANDARD
TZOFFSETFROM:-0400
TZOFFSETTO:-0500
TZNAME:EST
DTSTART:20241103T060000
END:STANDARD
BEGIN:DAYLIGHT
TZOFFSETFROM:-0500
TZOFFSETTO:-0400
TZNAME:EDT
DTSTART:20250309T070000
END:DAYLIGHT
BEGIN:STANDARD
TZOFFSETFROM:-0400
TZOFFSETTO:-0500
TZNAME:EST
DTSTART:20251102T060000
END:STANDARD
BEGIN:DAYLIGHT
TZOFFSETFROM:-0500
TZOFFSETTO:-0400
TZNAME:EDT
DTSTART:20260308T070000
END:DAYLIGHT
BEGIN:STANDARD
TZOFFSETFROM:-0400
TZOFFSETTO:-0500
TZNAME:EST
DTSTART:20261101T060000
END:STANDARD
END:VTIMEZONE
BEGIN:VEVENT
DTSTART;TZID=America/New_York:20250714T080000
DTEND;TZID=America/New_York:20250717T140000
DTSTAMP:20260422T211100
CREATED:20250417T213556Z
LAST-MODIFIED:20250417T213556Z
UID:10033472-1752480000-1752760800@metroatlantaexchange.org
SUMMARY:Women in Technology (WIT): Girls Job Shadow Week
DESCRIPTION:Women in Technology (WIT) is hosting a Girls Job Shadow Week starting Monday\, July 14th through Thursday\, July 17th\, from 8:00 AM to 2:00 PM. \nTeenage girls are provided with a glimpse of the day-to-day excitement of a career in technology. For one week in the summer\, high school girls are paired with various technology centered organizations to experience the possibilities of a career in a STEM field. Volunteers at these organizations share their education and career path with the girls\, giving them an idea of what it takes to succeed. \nClick here to learn more and register.
URL:https://metroatlantaexchange.org/event/women-in-technology-wit-girls-job-shadow-week/
LOCATION:GA
CATEGORIES:Career Development,In-Person Event,Job Seeker
END:VEVENT
BEGIN:VEVENT
DTSTART;TZID=America/New_York:20250714T090000
DTEND;TZID=America/New_York:20250714T120000
DTSTAMP:20260422T211100
CREATED:20250706T201956Z
LAST-MODIFIED:20250706T201956Z
UID:10034106-1752483600-1752494400@metroatlantaexchange.org
SUMMARY:City of Refuge: 4-Day Interactive Program
DESCRIPTION:The City of Refuge\, in partnership with NPursuit Career Partners\, is offering a 4-Day Interactive Program starting Monday\, July 14th\, from 9:00 AM to 12:00 PM. \nThis program allows job seekers to receive hands-on experience with AI-powered tools in order to streamline their job search.  Learn basic digital literacy skills\, professional resume and headshot\, intro to AI and job search tools\, one-on-one career coaching and mock interviewing\, LinkedIn and portfolio development and more! Participants will have the opportunity to earn a complimentary device from InspiredEDU. \nClick here to register. \nClick here for a flyer.
URL:https://metroatlantaexchange.org/event/city-of-refuge-4-day-interactive-program/
LOCATION:City of Refuge\, 1300 Joseph E. Boone Blvd NE Atlanta\, GA 30314\, Atlanta\, 30314
CATEGORIES:Career Development,In-Person Event,Job Seeker
END:VEVENT
BEGIN:VEVENT
DTSTART;TZID=America/New_York:20250714T130000
DTEND;TZID=America/New_York:20250714T140000
DTSTAMP:20260422T211100
CREATED:20250706T202131Z
LAST-MODIFIED:20250706T202131Z
UID:10034107-1752498000-1752501600@metroatlantaexchange.org
SUMMARY:Goodwill of North Georgia: Electric Vehicle Supply Equipment Training Program Information Session
DESCRIPTION:Goodwill of North Georgia is hosting an Electric Vehicle Supply Equipment Training Program Information Session every Monday\, starting July 14th\, from 1:00 PM to 2:00 PM\, at the Decatur Career Center. \nFor more information\, call 404-554-9600. \nClick here to learn more and register.
URL:https://metroatlantaexchange.org/event/goodwill-of-north-georgia-electric-vehicle-supply-equipment-training-program-information-session/2025-07-14/
LOCATION:Goodwill of North Georgia – Decatur Career Center\, 2201 Lawrenceville Highway\, Suite 200\, Decatur\, GA\, 30033\, United States
CATEGORIES:Career Development,In-Person Event,Job Seeker
GEO:33.8114213;-84.2699313
X-APPLE-STRUCTURED-LOCATION;VALUE=URI;X-ADDRESS=Goodwill of North Georgia – Decatur Career Center 2201 Lawrenceville Highway Suite 200 Decatur GA 30033 United States;X-APPLE-RADIUS=500;X-TITLE=2201 Lawrenceville Highway\, Suite 200:geo:-84.2699313,33.8114213
END:VEVENT
END:VCALENDAR