BEGIN:VCALENDAR
VERSION:2.0
PRODID:-//MAX - ECPv6.15.17.1//NONSGML v1.0//EN
CALSCALE:GREGORIAN
METHOD:PUBLISH
X-WR-CALNAME:MAX
X-ORIGINAL-URL:https://metroatlantaexchange.org
X-WR-CALDESC:Events for MAX
REFRESH-INTERVAL;VALUE=DURATION:PT1H
X-Robots-Tag:noindex
X-PUBLISHED-TTL:PT1H
BEGIN:VTIMEZONE
TZID:America/New_York
BEGIN:DAYLIGHT
TZOFFSETFROM:-0500
TZOFFSETTO:-0400
TZNAME:EDT
DTSTART:20240310T070000
END:DAYLIGHT
BEGIN:STANDARD
TZOFFSETFROM:-0400
TZOFFSETTO:-0500
TZNAME:EST
DTSTART:20241103T060000
END:STANDARD
BEGIN:DAYLIGHT
TZOFFSETFROM:-0500
TZOFFSETTO:-0400
TZNAME:EDT
DTSTART:20250309T070000
END:DAYLIGHT
BEGIN:STANDARD
TZOFFSETFROM:-0400
TZOFFSETTO:-0500
TZNAME:EST
DTSTART:20251102T060000
END:STANDARD
BEGIN:DAYLIGHT
TZOFFSETFROM:-0500
TZOFFSETTO:-0400
TZNAME:EDT
DTSTART:20260308T070000
END:DAYLIGHT
BEGIN:STANDARD
TZOFFSETFROM:-0400
TZOFFSETTO:-0500
TZNAME:EST
DTSTART:20261101T060000
END:STANDARD
END:VTIMEZONE
BEGIN:VEVENT
DTSTART;TZID=America/New_York:20250714T080000
DTEND;TZID=America/New_York:20250717T140000
DTSTAMP:20260422T175856
CREATED:20250417T213556Z
LAST-MODIFIED:20250417T213556Z
UID:10033472-1752480000-1752760800@metroatlantaexchange.org
SUMMARY:Women in Technology (WIT): Girls Job Shadow Week
DESCRIPTION:Women in Technology (WIT) is hosting a Girls Job Shadow Week starting Monday\, July 14th through Thursday\, July 17th\, from 8:00 AM to 2:00 PM. \nTeenage girls are provided with a glimpse of the day-to-day excitement of a career in technology. For one week in the summer\, high school girls are paired with various technology centered organizations to experience the possibilities of a career in a STEM field. Volunteers at these organizations share their education and career path with the girls\, giving them an idea of what it takes to succeed. \nClick here to learn more and register.
URL:https://metroatlantaexchange.org/event/women-in-technology-wit-girls-job-shadow-week/
LOCATION:GA
CATEGORIES:Career Development,In-Person Event,Job Seeker
END:VEVENT
BEGIN:VEVENT
DTSTART;TZID=America/New_York:20250715T090000
DTEND;TZID=America/New_York:20250715T160000
DTSTAMP:20260422T175856
CREATED:20250706T194914Z
LAST-MODIFIED:20250706T194914Z
UID:10034061-1752570000-1752595200@metroatlantaexchange.org
SUMMARY:Goodwill of North Georgia:  GED Class
DESCRIPTION:Goodwill of North Georgia is hosting a GED Class every Tuesday\, from 9:00 AM to 4:00 PM\, at the Cornelia Career Center. \nFor more information\, call 706-894-4905. \nClick here to learn more and register.
URL:https://metroatlantaexchange.org/event/goodwill-of-north-georgia-ged-class/2025-07-15/
LOCATION:Goodwill of North Georgia – Cornelia Career Center\, 308 Habersham Hills Circle\, Cornelia\, GA\, 30531\, United States
CATEGORIES:Career Development,In-Person Event,Job Seeker
END:VEVENT
BEGIN:VEVENT
DTSTART;TZID=America/New_York:20250715T100000
DTEND;TZID=America/New_York:20250715T110000
DTSTAMP:20260422T175856
CREATED:20250706T205233Z
LAST-MODIFIED:20250706T205233Z
UID:10034111-1752573600-1752577200@metroatlantaexchange.org
SUMMARY:Goodwill of North Georgia: Basic Computer Skills On-Site Workshop
DESCRIPTION:Goodwill of North Georgia is hosting a Basic Computer Skills On-Site Workshop on Tuesday\, July 15th\, from 10:00 AM to 11:00 AM\, at the Stockbridge Career Center. \nFor more information\, call 678-514-0670. \nClick here to learn more and register.
URL:https://metroatlantaexchange.org/event/goodwill-of-north-georgia-basic-computer-skills-on-site-workshop/
LOCATION:GA
CATEGORIES:Career Development,In-Person Event,Job Seeker
END:VEVENT
BEGIN:VEVENT
DTSTART;TZID=America/New_York:20250715T100000
DTEND;TZID=America/New_York:20250715T130000
DTSTAMP:20260422T175856
CREATED:20250705T205631Z
LAST-MODIFIED:20250705T205631Z
UID:10034045-1752573600-1752584400@metroatlantaexchange.org
SUMMARY:Goodwill of North Georgia: Connect\, Conquer and Configure - Your Next Job Starts Here Job Fair
DESCRIPTION:Goodwill of North Georgia is hosting a Connect\, Conquer and Configure: Your Next Job Starts Here Job Fair on Tuesday\, July 15th\, from 10:00 AM to 1:00 PM\, at the South DeKalb Career Center. \nFor more information\, call 404-728-8605. \nClick here to learn more and register.
URL:https://metroatlantaexchange.org/event/goodwill-of-north-georgia-connect-conquer-and-configure-your-next-job-starts-here-job-fair/
LOCATION:Goodwill of North Georgia – South DeKalb Career Center\, 1295 Columbia Drive\, Decatur\, GA\, 30032\, United States
CATEGORIES:In-Person Event,Job Seeker
GEO:33.7510576;-84.2656565
X-APPLE-STRUCTURED-LOCATION;VALUE=URI;X-ADDRESS=Goodwill of North Georgia – South DeKalb Career Center 1295 Columbia Drive Decatur GA 30032 United States;X-APPLE-RADIUS=500;X-TITLE=1295 Columbia Drive:geo:-84.2656565,33.7510576
END:VEVENT
BEGIN:VEVENT
DTSTART;TZID=America/New_York:20250715T100000
DTEND;TZID=America/New_York:20250715T140000
DTSTAMP:20260422T175856
CREATED:20250710T175220Z
LAST-MODIFIED:20250710T175220Z
UID:10034171-1752573600-1752588000@metroatlantaexchange.org
SUMMARY:The Georgia Department of Juvenile Justice (DJJ): Career Fair
DESCRIPTION:The Georgia Department of Juvenile Justice (DJJ) is hosting a Career Fair on Tuesday\, July 15th\, from 10:00 AM to 2:00 PM\, at the Metro Regional Youth Detention Center. \nDJJ is currently looking to hire Juvenile Correctional Officers\, Probation/Parole Specialists\, Teachers\, School Resource Officers\, Food Service Workers\, Trainers\, or Housekeepers. \nClick here to register and learn more.
URL:https://metroatlantaexchange.org/event/the-georgia-department-of-juvenile-justice-djj-career-fair/
LOCATION:Metro Regional Youth Detention Center\, 1300 Constitution Road\, SE\, Atlanta\, GA\, 30316\, United States
CATEGORIES:In-Person Event,Job Seeker
END:VEVENT
BEGIN:VEVENT
DTSTART;TZID=America/New_York:20250715T100000
DTEND;TZID=America/New_York:20250715T160000
DTSTAMP:20260422T175856
CREATED:20250622T192939Z
LAST-MODIFIED:20250622T192939Z
UID:10034011-1752573600-1752595200@metroatlantaexchange.org
SUMMARY:CareerEco: Georgia Tech All Majors Virtual Career Fair
DESCRIPTION:CareerEco is hosting a Georgia Tech All Majors Virtual Career Fair on Tuesday\, July 15th\, from 10:00 AM to 4:00 PM. \nNetwork with employers from the comfort of your own home. Open to all current students and alumni. \nClick here to register.
URL:https://metroatlantaexchange.org/event/careereco-georgia-tech-all-majors-virtual-career-fair-3/
LOCATION:GA
CATEGORIES:Job Seeker,Student,Virtual Event
ORGANIZER;CN="CareerEco":MAILTO:Events@CareerEco.com
END:VEVENT
BEGIN:VEVENT
DTSTART;TZID=America/New_York:20250715T100000
DTEND;TZID=America/New_York:20250715T180000
DTSTAMP:20260422T175856
CREATED:20250705T210112Z
LAST-MODIFIED:20250705T210112Z
UID:10034048-1752573600-1752602400@metroatlantaexchange.org
SUMMARY:Wellstar: Virtual Interview Day
DESCRIPTION:Wellstar is hosting a Virtual Interview Day on Tuesday\, July 15th\, from 10:00 AM to 6:00 PM. \nWellstar North Fulton Medical Center is seeking Registered Nurses and offering up to $30\,000 sign-on bonuses for acute care nurses. Offers will be made the same day as you meet with hiring leaders to discuss available roles in Med Surg\, Surgical/Ortho\, Neuro\, Inpatient Rehab and more. Enjoy tuition reimbursement\, student loan assistance\, employee concierge services\, career advancement programs and more. \nClick here to learn more and register.
URL:https://metroatlantaexchange.org/event/wellstar-virtual-interview-day/
LOCATION:GA
CATEGORIES:Job Seeker,Virtual Event
END:VEVENT
BEGIN:VEVENT
DTSTART;TZID=America/New_York:20250715T110000
DTEND;TZID=America/New_York:20250715T120000
DTSTAMP:20260422T175856
CREATED:20250706T195052Z
LAST-MODIFIED:20250706T195052Z
UID:10034065-1752577200-1752580800@metroatlantaexchange.org
SUMMARY:Goodwill of North Georgia: Goodwill Training Program Information Session
DESCRIPTION:Goodwill of North Georgia is hosting a Goodwill Training Program Information Session every Tuesday\, from 11:00 AM to 12:00 PM\, at the Rome Career Center. \nFor more information\, call 706-292-3304. \nClick here to learn more and register.
URL:https://metroatlantaexchange.org/event/goodwill-of-north-georgia-goodwill-training-program-information-session-8/2025-07-15/
LOCATION:Goodwill of North Georgia – Rome Career Center\, 154 Hicks Drive\, Rome\, 30161
CATEGORIES:Career Development,In-Person Event,Job Seeker
END:VEVENT
BEGIN:VEVENT
DTSTART;TZID=America/New_York:20250715T110000
DTEND;TZID=America/New_York:20250715T140000
DTSTAMP:20260422T175856
CREATED:20250705T205825Z
LAST-MODIFIED:20250705T205825Z
UID:10034046-1752577200-1752588000@metroatlantaexchange.org
SUMMARY:Goodwill of North Georgia: Phillips State Prison Hiring Event
DESCRIPTION:Goodwill of North Georgia is hosting a Phillips State Prison Hiring Event on Tuesday\, July 15th\, from 11:00 AM to 2:00 PM\, at the South DeKalb Career Center. \nFor more information\, call 404-728-8605. \nClick here to learn more and register.
URL:https://metroatlantaexchange.org/event/goodwill-of-north-georgia-phillips-state-prison-hiring-event-4/
LOCATION:Goodwill of North Georgia – South DeKalb Career Center\, 1295 Columbia Drive\, Decatur\, GA\, 30032\, United States
CATEGORIES:In-Person Event,Job Seeker
GEO:33.7510576;-84.2656565
X-APPLE-STRUCTURED-LOCATION;VALUE=URI;X-ADDRESS=Goodwill of North Georgia – South DeKalb Career Center 1295 Columbia Drive Decatur GA 30032 United States;X-APPLE-RADIUS=500;X-TITLE=1295 Columbia Drive:geo:-84.2656565,33.7510576
END:VEVENT
BEGIN:VEVENT
DTSTART;TZID=America/New_York:20250715T140000
DTEND;TZID=America/New_York:20250715T153000
DTSTAMP:20260422T175856
CREATED:20250706T205539Z
LAST-MODIFIED:20250706T205539Z
UID:10034113-1752588000-1752593400@metroatlantaexchange.org
SUMMARY:Office of Chief Human Capital Officer: VA Federal Application Webinar
DESCRIPTION:The Office of the Chief Human Capital Officer is hosting a VA Federal Application Webinar on Tuesday\, July 15th\, from 2:00 PM to 3:30 PM. \nDuring this virtual session\, Veteran and Military Spouse Talent Engagement Program’s (VMSTEP) personnel will present on how to write a federal government resume\, set up a user account and navigate USAJOBS. Get ready to learn insider tips and tricks for crafting a standout federal application that will get you noticed by top federal employers. You will learn the difference between a private sector and federal resume and tips to enhance describing your experience. Veterans\, transitioning service members\, military spouses and individuals qualified under Schedule A (People with Disabilities/People with Targeted Disabilities) will leave this session armed with information on how to develop a competitive application and how to craft an effective resume for use in applying for positions with VA and other federal agencies. \nClick here to learn more and register.
URL:https://metroatlantaexchange.org/event/office-of-chief-human-capital-officer-va-federal-application-webinar/
LOCATION:GA
CATEGORIES:Career Development,Job Seeker,Veterans/Military,Virtual Event
END:VEVENT
BEGIN:VEVENT
DTSTART;TZID=America/New_York:20250715T150000
DTEND;TZID=America/New_York:20250715T153000
DTSTAMP:20260422T175856
CREATED:20250706T205033Z
LAST-MODIFIED:20250706T205033Z
UID:10034110-1752591600-1752593400@metroatlantaexchange.org
SUMMARY:Career Agility System: Employee No More - How to Become a Profitable Solopreneur
DESCRIPTION:Career Agility System is hosting a webinar on Employee No More – How to Become a Profitable Solopreneur on Tuesday\, July 15th\, from 3:00 PM to 3:30 PM. \nAre you tired of the 9-5 grind and dreaming of being your own boss? Struggling to find a full-time job and need to consider a different approach to generating income? Join us for this online event where we will share tips and strategies on how to transition from being an employee to a successful solopreneur. Learn how to prepare\, find your niche\, market your business\, and operate your business like a pro. Don’t miss out on this opportunity to take control of and future-proof your career. \nClick here to learn more and register.
URL:https://metroatlantaexchange.org/event/career-agility-system-employee-no-more-how-to-become-a-profitable-solopreneur/
LOCATION:GA
CATEGORIES:Career Development,Job Seeker,Virtual Event
END:VEVENT
BEGIN:VEVENT
DTSTART;TZID=America/New_York:20250715T150000
DTEND;TZID=America/New_York:20250715T160000
DTSTAMP:20260422T175856
CREATED:20250706T195330Z
LAST-MODIFIED:20250706T195443Z
UID:10034077-1752591600-1752595200@metroatlantaexchange.org
SUMMARY:Goodwill of North Georgia: On-Site Resume Assistance Workshop
DESCRIPTION:Goodwill of North Georgia is hosting an On-Site Resume Assistance Workshop every Tuesday and Thursday\, from 3:00 PM to 4:00 PM\, at the Cartersville Career Center. \nFor more information\, call 770-276-7036. \nClick here to learn more and register.
URL:https://metroatlantaexchange.org/event/goodwill-of-north-georgia-on-site-resume-assistance-workshop/2025-07-15/
LOCATION:Goodwill of North Georgia – Cartersville Career Center\, 929 Joe Frank Harris Parkway\, Cartersville\, GA\, 30120\, United States
CATEGORIES:Career Development,In-Person Event,Job Seeker
GEO:34.1974793;-84.7941559
X-APPLE-STRUCTURED-LOCATION;VALUE=URI;X-ADDRESS=Goodwill of North Georgia – Cartersville Career Center 929 Joe Frank Harris Parkway Cartersville GA 30120 United States;X-APPLE-RADIUS=500;X-TITLE=929 Joe Frank Harris Parkway:geo:-84.7941559,34.1974793
END:VEVENT
BEGIN:VEVENT
DTSTART;TZID=America/New_York:20250715T160000
DTEND;TZID=America/New_York:20250715T170000
DTSTAMP:20260422T175856
CREATED:20250706T205408Z
LAST-MODIFIED:20250706T205408Z
UID:10034112-1752595200-1752598800@metroatlantaexchange.org
SUMMARY:Hiring Our Heroes: Exploring Careers in Tech and Cyber
DESCRIPTION:Hiring Our Heroes is hosting Exploring Careers in Tech and Cyber virtual event on Tuesday\, July 15th\, starting at 4:00 PM. \nJoin Hiring Our Heroes and representatives from multiple employers in the technology and cybersecurity industries to learn about in-demand skillsets\, available roles and career paths\, hiring processes\, resume and interview tips\, licensing and certification requirements\, how to be successful in a hiring fair\, and more. Bring your questions for a live Q&A! \nClick here to register.
URL:https://metroatlantaexchange.org/event/hiring-our-heroes-exploring-careers-in-tech-and-cyber/
LOCATION:GA
CATEGORIES:Career Development,Job Seeker,Veterans/Military,Virtual Event
END:VEVENT
BEGIN:VEVENT
DTSTART;TZID=America/New_York:20250715T160000
DTEND;TZID=America/New_York:20250715T180000
DTSTAMP:20260422T175856
CREATED:20250705T205442Z
LAST-MODIFIED:20250705T205442Z
UID:10034044-1752595200-1752602400@metroatlantaexchange.org
SUMMARY:CareerClub: HRConnect Global - Virtual Job and Career Networking Event
DESCRIPTION:CareerClub is hosting an HRConnect Global: Virtual Job and Career Networking Event on Tuesday\, July 15th\, from 4:00 PM to 6:00 PM. \nLevel up your HR career at HRConnect Global! Join our vibrant online community for HR specialists\, employers\, and service providers. This monthly virtual event is designed to foster connections\, share best practices\, and explore exciting career opportunities. Engage in meaningful conversations: Participate in group chats and enjoy private 1-on-1 video or text chats for deeper connections. This event is perfect for discovering new opportunities\, expanding your professional network\, and gaining valuable insights from fellow HR professionals worldwide. \nClick here to learn more and register.
URL:https://metroatlantaexchange.org/event/careerclub-hrconnect-global-virtual-job-and-career-networking-event/
LOCATION:GA
CATEGORIES:Career Development,Job Seeker,Virtual Event
END:VEVENT
END:VCALENDAR