BEGIN:VCALENDAR
VERSION:2.0
PRODID:-//MAX - ECPv6.15.17.1//NONSGML v1.0//EN
CALSCALE:GREGORIAN
METHOD:PUBLISH
X-ORIGINAL-URL:https://metroatlantaexchange.org
X-WR-CALDESC:Events for MAX
REFRESH-INTERVAL;VALUE=DURATION:PT1H
X-Robots-Tag:noindex
X-PUBLISHED-TTL:PT1H
BEGIN:VTIMEZONE
TZID:America/New_York
BEGIN:DAYLIGHT
TZOFFSETFROM:-0500
TZOFFSETTO:-0400
TZNAME:EDT
DTSTART:20240310T070000
END:DAYLIGHT
BEGIN:STANDARD
TZOFFSETFROM:-0400
TZOFFSETTO:-0500
TZNAME:EST
DTSTART:20241103T060000
END:STANDARD
BEGIN:DAYLIGHT
TZOFFSETFROM:-0500
TZOFFSETTO:-0400
TZNAME:EDT
DTSTART:20250309T070000
END:DAYLIGHT
BEGIN:STANDARD
TZOFFSETFROM:-0400
TZOFFSETTO:-0500
TZNAME:EST
DTSTART:20251102T060000
END:STANDARD
BEGIN:DAYLIGHT
TZOFFSETFROM:-0500
TZOFFSETTO:-0400
TZNAME:EDT
DTSTART:20260308T070000
END:DAYLIGHT
BEGIN:STANDARD
TZOFFSETFROM:-0400
TZOFFSETTO:-0500
TZNAME:EST
DTSTART:20261101T060000
END:STANDARD
END:VTIMEZONE
BEGIN:VEVENT
DTSTART;TZID=America/New_York:20250714T080000
DTEND;TZID=America/New_York:20250717T140000
DTSTAMP:20260422T211122
CREATED:20250417T213556Z
LAST-MODIFIED:20250417T213556Z
UID:10033472-1752480000-1752760800@metroatlantaexchange.org
SUMMARY:Women in Technology (WIT): Girls Job Shadow Week
DESCRIPTION:Women in Technology (WIT) is hosting a Girls Job Shadow Week starting Monday\, July 14th through Thursday\, July 17th\, from 8:00 AM to 2:00 PM. \nTeenage girls are provided with a glimpse of the day-to-day excitement of a career in technology. For one week in the summer\, high school girls are paired with various technology centered organizations to experience the possibilities of a career in a STEM field. Volunteers at these organizations share their education and career path with the girls\, giving them an idea of what it takes to succeed. \nClick here to learn more and register.
URL:https://metroatlantaexchange.org/event/women-in-technology-wit-girls-job-shadow-week/
LOCATION:GA
CATEGORIES:Career Development,In-Person Event,Job Seeker
END:VEVENT
BEGIN:VEVENT
DTSTART;TZID=America/New_York:20250717T100000
DTEND;TZID=America/New_York:20250717T140000
DTSTAMP:20260422T211122
CREATED:20250705T211545Z
LAST-MODIFIED:20250705T211545Z
UID:10034053-1752746400-1752760800@metroatlantaexchange.org
SUMMARY:Goodwill of North Georgia: Second Chance Job Fair
DESCRIPTION:Goodwill of North Georgia is hosting a Second Chance Job Fair on Thursday\, July 17th\, from 10:00 AM to 2:00 PM\, at the Cartersville Career Center. \nFor more information\, call 770-276-7036. \nClick here to learn more and register.
URL:https://metroatlantaexchange.org/event/goodwill-of-north-georgia-second-chance-job-fair/
LOCATION:Goodwill of North Georgia – Cartersville Career Center\, 929 Joe Frank Harris Parkway\, Cartersville\, GA\, 30120\, United States
CATEGORIES:In-Person Event,Job Seeker
GEO:34.1974793;-84.7941559
X-APPLE-STRUCTURED-LOCATION;VALUE=URI;X-ADDRESS=Goodwill of North Georgia – Cartersville Career Center 929 Joe Frank Harris Parkway Cartersville GA 30120 United States;X-APPLE-RADIUS=500;X-TITLE=929 Joe Frank Harris Parkway:geo:-84.7941559,34.1974793
END:VEVENT
BEGIN:VEVENT
DTSTART;TZID=America/New_York:20250717T100000
DTEND;TZID=America/New_York:20250717T150000
DTSTAMP:20260422T211122
CREATED:20250710T221136Z
LAST-MODIFIED:20250710T221136Z
UID:10034175-1752746400-1752764400@metroatlantaexchange.org
SUMMARY:Essential Staffing Solutions (ESS): Job Fair
DESCRIPTION:Essential Staffing Solutions (ESS) is hosting a Job Fair on Thursday\, July 17th\, from 10:00 AM to 3:00 PM\, at  Families First. \nESS is seeking candidates to fill Make Ready/Punch Technicians\, Service Technicians\, HVAC and EPA Certified Technicians\, Maintenance Supervisors\, Leasing Professionals\, Assistant Community Managers\, and Community Managers positions. This event is a fantastic opportunity to explore new career paths\, connect with industry professionals\, and learn more about the exciting opportunities we have to offer. Bring your resume and be ready discuss how you can contribute to our growing team. Whether you’re seeking a fresh start or looking to advance your career in the apartment community industry\, we’d love to meet you. \nClick here to learn more and register
URL:https://metroatlantaexchange.org/event/essential-staffing-solutions-ess-job-fair/
LOCATION:Families First\, 80 Joseph E. Lowery Boulevard\, NW\, Atlanta\, GA\, 30314\, United States
CATEGORIES:In-Person Event,Job Seeker
GEO:33.7570374;-84.4178949
X-APPLE-STRUCTURED-LOCATION;VALUE=URI;X-ADDRESS=Families First 80 Joseph E. Lowery Boulevard NW Atlanta GA 30314 United States;X-APPLE-RADIUS=500;X-TITLE=80 Joseph E. Lowery Boulevard\, NW:geo:-84.4178949,33.7570374
END:VEVENT
BEGIN:VEVENT
DTSTART;TZID=America/New_York:20250717T120000
DTEND;TZID=America/New_York:20250717T130000
DTSTAMP:20260422T211122
CREATED:20250706T212828Z
LAST-MODIFIED:20250706T212828Z
UID:10034122-1752753600-1752757200@metroatlantaexchange.org
SUMMARY:U.S. Federal Bureau of Prisons: Virtual Resume Workshop
DESCRIPTION:The U.S. Federal Bureau of Prisons is hosting a Virtual Resume Workshop on Thursday\, July 17th\, from 12:00 PM to 1:00 PM. \nAre you struggling with writing your federal resume? Do you want assistance learning what to put in your resume to qualify you for your dream federal job? If so\, this is the resume workshop for you. Our experienced recruitment specialists will walk you through the hiring process and show you best practices to landing your dream job. \nClick here to register.
URL:https://metroatlantaexchange.org/event/u-s-federal-bureau-of-prisons-virtual-resume-workshop/
LOCATION:GA
CATEGORIES:Career Development,Job Seeker,Virtual Event
END:VEVENT
BEGIN:VEVENT
DTSTART;TZID=America/New_York:20250717T140000
DTEND;TZID=America/New_York:20250717T160000
DTSTAMP:20260422T211122
CREATED:20250622T193441Z
LAST-MODIFIED:20250622T193441Z
UID:10034013-1752760800-1752768000@metroatlantaexchange.org
SUMMARY:U.S. Aviation Academy: Job Fair and Career Expo
DESCRIPTION:U.S. Aviation Academy is hosting a Job Fair and Career Expo on Thursday\, July 17th\, from 2:00 PM to 4:00 PM\, at U.S. Aviation Academy. \nJoin us for an exciting opportunity to connect industry-leading employers with the next generation of skilled aviation professionals. This event brings together aviation employers\, recruiters\, and career service providers with our talented students and graduates who are certified or pursuing their Airframe & Powerplant (A&P) licenses. Whether you’re looking to hire\, network\, or explore career pathways in aviation\, this expo is your runway to new opportunities. \nClick here to learn more and register.
URL:https://metroatlantaexchange.org/event/u-s-aviation-academy-job-fair-and-career-expo/
LOCATION:U.S. Aviation Academy\, 5559 Old Dixie Road\, Forest Park\, GA\, 30297\, United States
CATEGORIES:In-Person Event,Job Seeker
END:VEVENT
BEGIN:VEVENT
DTSTART;TZID=America/New_York:20250717T150000
DTEND;TZID=America/New_York:20250717T160000
DTSTAMP:20260422T211122
CREATED:20250706T195330Z
LAST-MODIFIED:20250706T195443Z
UID:10034078-1752764400-1752768000@metroatlantaexchange.org
SUMMARY:Goodwill of North Georgia: On-Site Resume Assistance Workshop
DESCRIPTION:Goodwill of North Georgia is hosting an On-Site Resume Assistance Workshop every Tuesday and Thursday\, from 3:00 PM to 4:00 PM\, at the Cartersville Career Center. \nFor more information\, call 770-276-7036. \nClick here to learn more and register.
URL:https://metroatlantaexchange.org/event/goodwill-of-north-georgia-on-site-resume-assistance-workshop/2025-07-17/
LOCATION:Goodwill of North Georgia – Cartersville Career Center\, 929 Joe Frank Harris Parkway\, Cartersville\, GA\, 30120\, United States
CATEGORIES:Career Development,In-Person Event,Job Seeker
GEO:34.1974793;-84.7941559
X-APPLE-STRUCTURED-LOCATION;VALUE=URI;X-ADDRESS=Goodwill of North Georgia – Cartersville Career Center 929 Joe Frank Harris Parkway Cartersville GA 30120 United States;X-APPLE-RADIUS=500;X-TITLE=929 Joe Frank Harris Parkway:geo:-84.7941559,34.1974793
END:VEVENT
BEGIN:VEVENT
DTSTART;TZID=America/New_York:20250717T160000
DTEND;TZID=America/New_York:20250717T180000
DTSTAMP:20260422T211122
CREATED:20250706T212423Z
LAST-MODIFIED:20250706T212423Z
UID:10034120-1752768000-1752775200@metroatlantaexchange.org
SUMMARY:CareerClub: Career Professional Networking Virtual Event - Atlanta
DESCRIPTION:CareerClub is hosting a Career Professional Networking Virtual Event – Atlanta on Thursday\, July 17th\, from 4:00 PM to 6:00 PM. \nThis event is designed to help you unlock new career opportunities\, build meaningful connections\, and develop the skills needed to thrive in today’s job market. From job search support and leadership workshops to career growth networking and professional development talks\, CareerClub events provide the tools and insights to help you bring your career growth home — faster and smarter. \nClick here to learn more and register.
URL:https://metroatlantaexchange.org/event/careerclub-career-professional-networking-virtual-event-atlanta/
LOCATION:GA
CATEGORIES:Career Development,Job Seeker,Virtual Event
END:VEVENT
BEGIN:VEVENT
DTSTART;TZID=America/New_York:20250717T171500
DTEND;TZID=America/New_York:20250717T190000
DTSTAMP:20260422T211122
CREATED:20250705T211348Z
LAST-MODIFIED:20250705T211348Z
UID:10034051-1752772500-1752778800@metroatlantaexchange.org
SUMMARY:Georgia Driving Academy: Swift Truck Driver Recruiting Event
DESCRIPTION:The Georgia Driving Academy is hosting a Swift Truck Driver Recruiting Event on Thursday\, July 17th\, starting at 5:15 PM\, at the Conyers Campus. \nAttend a free\, no-obligation information session with a representative from Swift at our Conyers Campus. Learn more about our CDL training courses\, receive a campus tour and hear about the many job opportunities for recent graduates. Find out how Swift is ready to jump-start your new trucking career with on-the-job training and support. \nClick here to learn more and register.
URL:https://metroatlantaexchange.org/event/georgia-driving-academy-swift-truck-driver-recruiting-event/
LOCATION:Georgia Driving Academy\, 1035 Sigman Road\, NE\, Conyers\, GA\, 30012\, United States
CATEGORIES:In-Person Event,Job Seeker
END:VEVENT
BEGIN:VEVENT
DTSTART;TZID=America/New_York:20250717T180000
DTEND;TZID=America/New_York:20250717T203000
DTSTAMP:20260422T211122
CREATED:20250706T212559Z
LAST-MODIFIED:20250706T212559Z
UID:10034121-1752775200-1752784200@metroatlantaexchange.org
SUMMARY:Commerce Club: Evening Exchange - Where Atlanta's Business Leaders Connect
DESCRIPTION:The Commerce Club Atlanta is hosting an Evening Exchange: Where Atlanta’s Business Leaders Connect on Thursday\, July 17th\, from 6:00 PM to 8:30 PM\, at the Commerce Club Atlanta. \nEvening Exchange at The Commerce Club is more than just a networking event — it’s a curated space for business titans\, entrepreneurs\, and influential leaders to engage in high-level conversations\, strategic networking\, and relationship building. This is where Atlanta’s business community does business. Because relationships drive business — and the right room can open doors that elevate your career or company. Evening Exchange is designed to connect Atlanta’s business elite in a space that inspires strategic partnerships and growth. If you’re a business owner\, decision-maker\, or ambitious professional looking to connect with Atlanta’s business leaders\, this event is designed for you. \nClick here to learn more and register.
URL:https://metroatlantaexchange.org/event/commerce-club-evening-exchange-where-atlantas-business-leaders-connect/
LOCATION:Commerce Club Atlanta\, 191 Peachtree Street\, Atlanta\, GA\, 30303\, United States
CATEGORIES:Career Development,In-Person Event,Job Seeker,Workforce Developer
END:VEVENT
END:VCALENDAR