BEGIN:VCALENDAR
VERSION:2.0
PRODID:-//MAX - ECPv6.15.17.1//NONSGML v1.0//EN
CALSCALE:GREGORIAN
METHOD:PUBLISH
X-WR-CALNAME:MAX
X-ORIGINAL-URL:https://metroatlantaexchange.org
X-WR-CALDESC:Events for MAX
REFRESH-INTERVAL;VALUE=DURATION:PT1H
X-Robots-Tag:noindex
X-PUBLISHED-TTL:PT1H
BEGIN:VTIMEZONE
TZID:America/New_York
BEGIN:DAYLIGHT
TZOFFSETFROM:-0500
TZOFFSETTO:-0400
TZNAME:EDT
DTSTART:20240310T070000
END:DAYLIGHT
BEGIN:STANDARD
TZOFFSETFROM:-0400
TZOFFSETTO:-0500
TZNAME:EST
DTSTART:20241103T060000
END:STANDARD
BEGIN:DAYLIGHT
TZOFFSETFROM:-0500
TZOFFSETTO:-0400
TZNAME:EDT
DTSTART:20250309T070000
END:DAYLIGHT
BEGIN:STANDARD
TZOFFSETFROM:-0400
TZOFFSETTO:-0500
TZNAME:EST
DTSTART:20251102T060000
END:STANDARD
BEGIN:DAYLIGHT
TZOFFSETFROM:-0500
TZOFFSETTO:-0400
TZNAME:EDT
DTSTART:20260308T070000
END:DAYLIGHT
BEGIN:STANDARD
TZOFFSETFROM:-0400
TZOFFSETTO:-0500
TZNAME:EST
DTSTART:20261101T060000
END:STANDARD
END:VTIMEZONE
BEGIN:VEVENT
DTSTART;TZID=America/New_York:20250721T093000
DTEND;TZID=America/New_York:20250721T123000
DTSTAMP:20260422T175022
CREATED:20250710T160409Z
LAST-MODIFIED:20250710T160409Z
UID:10034168-1753090200-1753101000@metroatlantaexchange.org
SUMMARY:Atlanta Center for Self Sufficiency (ACSS): CareerWorks
DESCRIPTION:The Atlanta Center for Self Sufficiency (ACSS) is hosting a CareerWorks Orientation on Monday\, July 21st\, from 9:30 AM to 12:30 PM\, at Families First. \nJoin us for an informative session to kickstart your career journey. Our orientation will outline services and resources designed to help you navigate the job market successfully. Whether you’re unemployed\, a recent graduate\, considering a career change\, or looking to enhance your skills… the CareerWorks Orientation is the perfect place to start. Don’t miss out on this chance to take the next step towards your dream job. \nClick here to learn more and register.
URL:https://metroatlantaexchange.org/event/atlanta-center-for-self-sufficiency-acss-careerworks/
LOCATION:Families First\, 80 Joseph E. Lowery Boulevard\, NW\, Atlanta\, 30314\, United States
CATEGORIES:Career Development,In-Person Event,Job Seeker
END:VEVENT
BEGIN:VEVENT
DTSTART;TZID=America/New_York:20250721T100000
DTEND;TZID=America/New_York:20250721T110000
DTSTAMP:20260422T175022
CREATED:20250706T212957Z
LAST-MODIFIED:20250706T212957Z
UID:10034123-1753092000-1753095600@metroatlantaexchange.org
SUMMARY:Jewish Family and Career Services: Virtual Interviewing Workshop
DESCRIPTION:Jewish Family and Career Services is hosting a Virtual Interviewing Workshop on Monday\, July 21st\, from 10:00 AM to 11:00 AM. \nLearn how to better prepare for an interview\, understand the different types of interviews and answer common interview questions. This workshop will address how to tackle difficult interviewing moments as well as help you gain strategies on the do’s and don’ts of salary negotiation. \nClick here to register via Zoom.
URL:https://metroatlantaexchange.org/event/jewish-family-and-career-services-virtual-interviewing-workshop-2/
LOCATION:GA
CATEGORIES:Career Development,Job Seeker,Virtual Event
ORGANIZER;CN="Jewish Family and Career Services":MAILTO:info@jfcsatl.org
END:VEVENT
BEGIN:VEVENT
DTSTART;TZID=America/New_York:20250721T130000
DTEND;TZID=America/New_York:20250721T140000
DTSTAMP:20260422T175022
CREATED:20250706T202131Z
LAST-MODIFIED:20250706T202131Z
UID:10034108-1753102800-1753106400@metroatlantaexchange.org
SUMMARY:Goodwill of North Georgia: Electric Vehicle Supply Equipment Training Program Information Session
DESCRIPTION:Goodwill of North Georgia is hosting an Electric Vehicle Supply Equipment Training Program Information Session every Monday\, starting July 14th\, from 1:00 PM to 2:00 PM\, at the Decatur Career Center. \nFor more information\, call 404-554-9600. \nClick here to learn more and register.
URL:https://metroatlantaexchange.org/event/goodwill-of-north-georgia-electric-vehicle-supply-equipment-training-program-information-session/2025-07-21/
LOCATION:Goodwill of North Georgia – Decatur Career Center\, 2201 Lawrenceville Highway\, Suite 200\, Decatur\, GA\, 30033\, United States
CATEGORIES:Career Development,In-Person Event,Job Seeker
GEO:33.8114213;-84.2699313
X-APPLE-STRUCTURED-LOCATION;VALUE=URI;X-ADDRESS=Goodwill of North Georgia – Decatur Career Center 2201 Lawrenceville Highway Suite 200 Decatur GA 30033 United States;X-APPLE-RADIUS=500;X-TITLE=2201 Lawrenceville Highway\, Suite 200:geo:-84.2699313,33.8114213
END:VEVENT
END:VCALENDAR