BEGIN:VCALENDAR
VERSION:2.0
PRODID:-//MAX - ECPv6.15.17.1//NONSGML v1.0//EN
CALSCALE:GREGORIAN
METHOD:PUBLISH
X-WR-CALNAME:MAX
X-ORIGINAL-URL:https://metroatlantaexchange.org
X-WR-CALDESC:Events for MAX
REFRESH-INTERVAL;VALUE=DURATION:PT1H
X-Robots-Tag:noindex
X-PUBLISHED-TTL:PT1H
BEGIN:VTIMEZONE
TZID:America/New_York
BEGIN:DAYLIGHT
TZOFFSETFROM:-0500
TZOFFSETTO:-0400
TZNAME:EDT
DTSTART:20240310T070000
END:DAYLIGHT
BEGIN:STANDARD
TZOFFSETFROM:-0400
TZOFFSETTO:-0500
TZNAME:EST
DTSTART:20241103T060000
END:STANDARD
BEGIN:DAYLIGHT
TZOFFSETFROM:-0500
TZOFFSETTO:-0400
TZNAME:EDT
DTSTART:20250309T070000
END:DAYLIGHT
BEGIN:STANDARD
TZOFFSETFROM:-0400
TZOFFSETTO:-0500
TZNAME:EST
DTSTART:20251102T060000
END:STANDARD
BEGIN:DAYLIGHT
TZOFFSETFROM:-0500
TZOFFSETTO:-0400
TZNAME:EDT
DTSTART:20260308T070000
END:DAYLIGHT
BEGIN:STANDARD
TZOFFSETFROM:-0400
TZOFFSETTO:-0500
TZNAME:EST
DTSTART:20261101T060000
END:STANDARD
END:VTIMEZONE
BEGIN:VEVENT
DTSTART;TZID=America/New_York:20250721T110000
DTEND;TZID=America/New_York:20250723T150000
DTSTAMP:20260422T175901
CREATED:20250719T221228Z
LAST-MODIFIED:20250719T221228Z
UID:10034190-1753095600-1753282800@metroatlantaexchange.org
SUMMARY:Mozaika Mezze: Front House Open Call Hiring Event
DESCRIPTION:Mozaika Mezze is hosting a Front House Open Call Hiring Event on Monday\, July 21st through Wednesday\, July 23rd\, from 11:00 AM to 3:00 PM each day\, at Mozaika Mezze. \nMozaika Mezze is actively seeking experienced hospitality professionals to join the Front of House team for a grand opening! Our ideal talent embodies both hospitality and a thoughtful approach to guest experiences\, works well in a dynamic and fast-paced environment\, and is passionate about providing superb hospitality to our members and their guests. We are offering full-time opportunities for the positions of Server\, Runner\, Bartender\, Barback\, Hosts and more. \nPlease send your resumes in advance to mozaikamezze@gmail.com. \nClick here to learn more.
URL:https://metroatlantaexchange.org/event/mozaika-mezze-front-house-open-call-hiring-event/
LOCATION:Mozaika Mezze\, 2560 Old Milton Parkway\, Alpharetta\, GA\, 30009\, United States
CATEGORIES:In-Person Event,Job Seeker
END:VEVENT
BEGIN:VEVENT
DTSTART;TZID=America/New_York:20250722T070000
DTEND;TZID=America/New_York:20250722T090000
DTSTAMP:20260422T175901
CREATED:20250710T165559Z
LAST-MODIFIED:20250710T165559Z
UID:10034169-1753167600-1753174800@metroatlantaexchange.org
SUMMARY:Georgia Driving Academy: Covenant Truck Driver Recruiting Event
DESCRIPTION:The Georgia Driving Academy is hosting Covenant Truck Driver Recruiting Event on Tuesday\, July 22nd\, starting at 7:00 AM\, at the Conyers Campus. \nAttend a free\, no-obligation information session with a representative from Covenant Transport at our Conyers Campus. Learn more about our CDL training courses\, receive a campus tour\, and hear about the many job opportunities for recent graduates. Find out how Covenant is ready to jump-start your new trucking career with on-the-job training and support. \nClick here to learn more and register.
URL:https://metroatlantaexchange.org/event/georgia-driving-academy-covenant-truck-driver-recruiting-event-2/
LOCATION:Georgia Driving Academy\, 1035 Sigman Road\, NE\, Conyers\, GA\, 30012\, United States
CATEGORIES:Career Development,In-Person Event,Job Seeker
END:VEVENT
BEGIN:VEVENT
DTSTART;TZID=America/New_York:20250722T090000
DTEND;TZID=America/New_York:20250722T160000
DTSTAMP:20260422T175901
CREATED:20250706T194914Z
LAST-MODIFIED:20250706T194914Z
UID:10034062-1753174800-1753200000@metroatlantaexchange.org
SUMMARY:Goodwill of North Georgia:  GED Class
DESCRIPTION:Goodwill of North Georgia is hosting a GED Class every Tuesday\, from 9:00 AM to 4:00 PM\, at the Cornelia Career Center. \nFor more information\, call 706-894-4905. \nClick here to learn more and register.
URL:https://metroatlantaexchange.org/event/goodwill-of-north-georgia-ged-class/2025-07-22/
LOCATION:Goodwill of North Georgia – Cornelia Career Center\, 308 Habersham Hills Circle\, Cornelia\, GA\, 30531\, United States
CATEGORIES:Career Development,In-Person Event,Job Seeker
END:VEVENT
BEGIN:VEVENT
DTSTART;TZID=America/New_York:20250722T090000
DTEND;TZID=America/New_York:20250722T160000
DTSTAMP:20260422T175901
CREATED:20250706T213415Z
LAST-MODIFIED:20250706T213415Z
UID:10034126-1753174800-1753200000@metroatlantaexchange.org
SUMMARY:Hiring Our Heroes: Virtual Amplify Career Preparation
DESCRIPTION:Hiring Our Heroes is hosting a Virtual Amplify Career Preparation event on Tuesday\, July 22nd\, from 9:00 AM to 4:00 PM. \nRegister now for this one-day virtual event for military spouses focused on career development.Event content includes professional development on topics such as resume building\, interviewing skills\, LinkedIn\, compensation negotiation\, strategic networking\, and more. Engage with employers and military organizations\, gain access to nationwide resources\, learn about volunteer and employment opportunities\, get information regarding upcoming events\, and network with fellow military spouses. \nAny military spouse is eligible to attend but spots are limited\, so click here to register now!
URL:https://metroatlantaexchange.org/event/hiring-our-heroes-virtual-amplify-career-preparation/
LOCATION:GA
CATEGORIES:Career Development,Job Seeker,Veterans/Military,Virtual Event
END:VEVENT
BEGIN:VEVENT
DTSTART;TZID=America/New_York:20250722T100000
DTEND;TZID=America/New_York:20250722T110000
DTSTAMP:20260422T175901
CREATED:20250706T213240Z
LAST-MODIFIED:20250706T213253Z
UID:10034125-1753178400-1753182000@metroatlantaexchange.org
SUMMARY:Goodwill of North Georgia: Resume On-Site Workshop
DESCRIPTION:Goodwill of North Georgia is hosting a Resume On-Site Workshop on Tuesday\, July 22nd\, from 10:00 AM to 11:00 AM\, at the Stockbridge Career Center. \nFor more information\, call 678-514-0670. \nClick here to learn more and register.
URL:https://metroatlantaexchange.org/event/goodwill-of-north-georgia-resume-on-site-workshop/
LOCATION:GA
CATEGORIES:Career Development,In-Person Event,Job Seeker
END:VEVENT
BEGIN:VEVENT
DTSTART;TZID=America/New_York:20250722T100000
DTEND;TZID=America/New_York:20250722T130000
DTSTAMP:20260422T175901
CREATED:20250719T221520Z
LAST-MODIFIED:20250719T221520Z
UID:10034192-1753178400-1753189200@metroatlantaexchange.org
SUMMARY:Georgia Department of Juvenile Justice (DJJ): Job Fair
DESCRIPTION:The Georgia Department of Juvenile Justice (DJJ) is hosting a Job Fair on Tuesday\, July 22nd\, from 10:00 AM to 1:00 PM\, at the Goodwill Career Center. \nThe DJJ is currently looking to hire Juvenile Correctional Officers. Click here to learn more. \nIf you are interested in other positions within the department\, such as Probation/Parole Specialist\, Teacher\, School Resource Officer\, Food Service Worker\, Trainer\, or Housekeeper\, please click here.
URL:https://metroatlantaexchange.org/event/georgia-department-of-juvenile-justice-djj-job-fair/
LOCATION:Goodwill of North Georgia – Smyrna Career Center\, 3205 South Cobb Drive\, Smyrna\, GA\, 30080\, United States
CATEGORIES:In-Person Event,Job Seeker
GEO:33.8769374;-84.5289443
X-APPLE-STRUCTURED-LOCATION;VALUE=URI;X-ADDRESS=Goodwill of North Georgia – Smyrna Career Center 3205 South Cobb Drive Smyrna GA 30080 United States;X-APPLE-RADIUS=500;X-TITLE=3205 South Cobb Drive:geo:-84.5289443,33.8769374
END:VEVENT
BEGIN:VEVENT
DTSTART;TZID=America/New_York:20250722T100000
DTEND;TZID=America/New_York:20250722T130000
DTSTAMP:20260422T175901
CREATED:20250720T174128Z
LAST-MODIFIED:20250720T174128Z
UID:10034193-1753178400-1753189200@metroatlantaexchange.org
SUMMARY:Goodwill of North Georgia: Fire Up Your Career Job Fair
DESCRIPTION:Goodwill of North Georgia is hosting a Fire Up Your Career Job Fair on Tuesday\, July 22nd\, from 10:00 AM to 1:00 PM\, at the Smyrna Career Center. \nJoin us for our Fire Up Your Career fair where you’ll have the opportunity to meet with hiring managers from top companies and learn about exciting job opportunities. Bring your resume\, dress business casual and be ready to take the next step in your career! \nClick here to learn more and register.
URL:https://metroatlantaexchange.org/event/goodwill-of-north-georgia-fire-up-your-career-job-fair/
LOCATION:Goodwill of North Georgia – Smyrna Career Center\, 3205 South Cobb Drive\, Smyrna\, GA\, 30080\, United States
CATEGORIES:In-Person Event,Job Seeker
GEO:33.8769374;-84.5289443
X-APPLE-STRUCTURED-LOCATION;VALUE=URI;X-ADDRESS=Goodwill of North Georgia – Smyrna Career Center 3205 South Cobb Drive Smyrna GA 30080 United States;X-APPLE-RADIUS=500;X-TITLE=3205 South Cobb Drive:geo:-84.5289443,33.8769374
END:VEVENT
BEGIN:VEVENT
DTSTART;TZID=America/New_York:20250722T100000
DTEND;TZID=America/New_York:20250722T140000
DTSTAMP:20260422T175901
CREATED:20250719T221356Z
LAST-MODIFIED:20250719T221356Z
UID:10034191-1753178400-1753192800@metroatlantaexchange.org
SUMMARY:Georgia Department of Juvenile Justice (DJJ): Career Fair
DESCRIPTION:The Georgia Department of Juvenile Justice (DJJ) is hosting a Career Fair on Tuesday\, July 22nd\, from 10:00 AM to 2:00 PM\, at the DeKalb RYDC. \nThe DJJ is currently looking to hire Juvenile Correctional Officers. Click here to learn more. \nIf you are interested in other positions within the department\, such as Probation/Parole Specialist\, Teacher\, School Resource Officer\, Food Service Worker\, Trainer\, or Housekeeper\, please click here.
URL:https://metroatlantaexchange.org/event/georgia-department-of-juvenile-justice-djj-career-fair-2/
LOCATION:DeKalb Regional Youth Detention Center\, 2946 Clifton Springs Road\, Decatur\, GA\, 30034\, United States
CATEGORIES:In-Person Event,Job Seeker
END:VEVENT
BEGIN:VEVENT
DTSTART;TZID=America/New_York:20250722T110000
DTEND;TZID=America/New_York:20250722T120000
DTSTAMP:20260422T175901
CREATED:20250706T195052Z
LAST-MODIFIED:20250706T195052Z
UID:10034066-1753182000-1753185600@metroatlantaexchange.org
SUMMARY:Goodwill of North Georgia: Goodwill Training Program Information Session
DESCRIPTION:Goodwill of North Georgia is hosting a Goodwill Training Program Information Session every Tuesday\, from 11:00 AM to 12:00 PM\, at the Rome Career Center. \nFor more information\, call 706-292-3304. \nClick here to learn more and register.
URL:https://metroatlantaexchange.org/event/goodwill-of-north-georgia-goodwill-training-program-information-session-8/2025-07-22/
LOCATION:Goodwill of North Georgia – Rome Career Center\, 154 Hicks Drive\, Rome\, 30161
CATEGORIES:Career Development,In-Person Event,Job Seeker
END:VEVENT
BEGIN:VEVENT
DTSTART;TZID=America/New_York:20250722T120000
DTEND;TZID=America/New_York:20250722T160000
DTSTAMP:20260422T175901
CREATED:20250720T174326Z
LAST-MODIFIED:20250720T174409Z
UID:10034194-1753185600-1753200000@metroatlantaexchange.org
SUMMARY:Integrity Garden Home Care: Hiring Event
DESCRIPTION:Integrity Garden Home Care is hosting a Hiring Event every Tuesday\, from 12:00 PM to 4:00 PM\, at Integrity Garden Home Care. \nWe are seeking Certified Nursing Assistants (CNA)\, Certified Medical Assistants (CMA) and Certified Phlebotomy Technicians (CPT). If you enjoy working one-on-one with patients outside of a clinical setting\, join us for open interviews at our local office. \nClick here to learn more and register.
URL:https://metroatlantaexchange.org/event/integrity-garden-home-care-hiring-event/2025-07-22/
LOCATION:Integrity Garden Home Care\, 2763 GA-138\, Jonesboro\, GA\, 30236\, United States
CATEGORIES:In-Person Event,Job Seeker
END:VEVENT
BEGIN:VEVENT
DTSTART;TZID=America/New_York:20250722T130000
DTEND;TZID=America/New_York:20250722T150000
DTSTAMP:20260422T175901
CREATED:20250721T195929Z
LAST-MODIFIED:20250721T195929Z
UID:10034230-1753189200-1753196400@metroatlantaexchange.org
SUMMARY:Atlanta Center for Self Sufficiency (ACSS): Elevate - Get Started! Get Training! Get Hired! Program
DESCRIPTION:The Atlanta Center for Self Sufficiency (ACSS) is hosting Elevate: Get Started! Get Trained! Get Hired! every Tuesday\, from 1:00 PM to 3:00 PM at Forest Park Elevate. \nElevate is a free\, comprehensive workforce development program supporting individuals experiencing homelessness\, unemployed or underemployed residents of Forest Park. This session will introduce you to the many services available\, including training\, career coaching\, and job placement\, with support every step of the way. \nClick here to learn more and register.
URL:https://metroatlantaexchange.org/event/atlanta-center-for-self-sufficiency-acss-elevate-get-started-get-training-get-hired-program/2025-07-22/
LOCATION:Elevate – Forest Park Office\, 819 Forest Parkway\, Suite D\, Forest Park\, GA\, 30297\, United States
CATEGORIES:Career Development,In-Person Event,Job Seeker
END:VEVENT
BEGIN:VEVENT
DTSTART;TZID=America/New_York:20250722T143000
DTEND;TZID=America/New_York:20250722T150000
DTSTAMP:20260422T175901
CREATED:20250721T200242Z
LAST-MODIFIED:20250721T200242Z
UID:10034237-1753194600-1753196400@metroatlantaexchange.org
SUMMARY:Career Agility System: Mastering LinkedIn for Career and Business Success Online Event
DESCRIPTION:Career Agility System is hosting a Mastering Linkedin for Career and Business Success Online Event on Tuesday\, July 22nd\, from 2:30 PM to 3:00 PM. \nJoin Jaime Chambron\, a certified LinkedIn optimization expert\, where you’ll learn all the tips and tricks to boost your professional profile on LinkedIn. Whether you’re looking for a new job\, attracting new clients\, or simply wanting to expand your network\, this event is perfect for you. \nClick here to learn more and register.
URL:https://metroatlantaexchange.org/event/career-agility-system-mastering-linkedin-for-career-and-business-success-online-event/
LOCATION:GA
CATEGORIES:Career Development,Job Seeker,Virtual Event
END:VEVENT
BEGIN:VEVENT
DTSTART;TZID=America/New_York:20250722T150000
DTEND;TZID=America/New_York:20250722T160000
DTSTAMP:20260422T175901
CREATED:20250706T195330Z
LAST-MODIFIED:20250706T195443Z
UID:10034079-1753196400-1753200000@metroatlantaexchange.org
SUMMARY:Goodwill of North Georgia: On-Site Resume Assistance Workshop
DESCRIPTION:Goodwill of North Georgia is hosting an On-Site Resume Assistance Workshop every Tuesday and Thursday\, from 3:00 PM to 4:00 PM\, at the Cartersville Career Center. \nFor more information\, call 770-276-7036. \nClick here to learn more and register.
URL:https://metroatlantaexchange.org/event/goodwill-of-north-georgia-on-site-resume-assistance-workshop/2025-07-22/
LOCATION:Goodwill of North Georgia – Cartersville Career Center\, 929 Joe Frank Harris Parkway\, Cartersville\, GA\, 30120\, United States
CATEGORIES:Career Development,In-Person Event,Job Seeker
GEO:34.1974793;-84.7941559
X-APPLE-STRUCTURED-LOCATION;VALUE=URI;X-ADDRESS=Goodwill of North Georgia – Cartersville Career Center 929 Joe Frank Harris Parkway Cartersville GA 30120 United States;X-APPLE-RADIUS=500;X-TITLE=929 Joe Frank Harris Parkway:geo:-84.7941559,34.1974793
END:VEVENT
BEGIN:VEVENT
DTSTART;TZID=America/New_York:20250722T170000
DTEND;TZID=America/New_York:20250722T180000
DTSTAMP:20260422T175901
CREATED:20250706T213116Z
LAST-MODIFIED:20250706T213116Z
UID:10034124-1753203600-1753207200@metroatlantaexchange.org
SUMMARY:Emory Healthcare: Administrative Fellowship Webinar
DESCRIPTION:Emory Healthcare is hosting an Administrative Fellowship Webinar on Tuesday\, July 22nd\, from 5:00 PM to 6:00 PM. \nJoin us at our upcoming Virtual Info Session to learn more about Administrative Fellowship opportunities at Emory Healthcare. \nClick here to register via Zoom.
URL:https://metroatlantaexchange.org/event/emory-healthcare-administrative-fellowship-webinar/
LOCATION:GA
CATEGORIES:Career Development,Job Seeker,Virtual Event
END:VEVENT
BEGIN:VEVENT
DTSTART;TZID=America/New_York:20250722T180000
DTEND;TZID=America/New_York:20250722T190000
DTSTAMP:20260422T175901
CREATED:20250721T200729Z
LAST-MODIFIED:20250721T200729Z
UID:10034238-1753207200-1753210800@metroatlantaexchange.org
SUMMARY:Fulton County Library System: Computer Class
DESCRIPTION:The Fulton County Library System is hosting a Computer Class every Tuesday\, from 6:00 PM to 7:00 PM\, at the Gladys S. Dennard Library. \nJoin us for an exciting session designed to boost your digital skills! Whether you’re looking to master your computer\, navigate the internet\, or make the most of your mobile devices and e-readers. \nClick here to learn more and register.
URL:https://metroatlantaexchange.org/event/fulton-county-library-system-computer-class/2025-07-22/
LOCATION:Gladys S. Dennard Library\, 4055 Flat Shoals Road\, Union City\, GA\, 30291\, United States
CATEGORIES:Career Development,In-Person Event,Job Seeker
END:VEVENT
BEGIN:VEVENT
DTSTART;TZID=America/New_York:20250722T190000
DTEND;TZID=America/New_York:20250722T200000
DTSTAMP:20260422T175901
CREATED:20250706T213535Z
LAST-MODIFIED:20250706T213535Z
UID:10034127-1753210800-1753214400@metroatlantaexchange.org
SUMMARY:Hiring Our Heroes: Corporate Fellowship Program Information Session
DESCRIPTION:Hiring Our Heroes is hosting a Corporate Fellowship Program Information Session on Tuesday\, July 22nd\, starting at 7:00 PM. \nWe invite transitioning service members to learn more about our SkillBridge fellowships\, which provide professional training and hands-on experience in the civilian workforce. These fellowships are designed to prepare you for a smooth transition into meaningful civilian careers. \nClick here to learn more and register.
URL:https://metroatlantaexchange.org/event/hiring-our-heroes-corporate-fellowship-program-information-session-4/
LOCATION:GA
CATEGORIES:Career Development,Job Seeker,Veterans/Military,Virtual Event
END:VEVENT
BEGIN:VEVENT
DTSTART;TZID=America/New_York:20250722T190000
DTEND;TZID=America/New_York:20250722T200000
DTSTAMP:20260422T175901
CREATED:20250706T213735Z
LAST-MODIFIED:20250706T213735Z
UID:10034128-1753210800-1753214400@metroatlantaexchange.org
SUMMARY:Job Search Academy: Indeed Virtual Bootcamp
DESCRIPTION:Job Search Academy is hosting an Indeed Virtual Bootcamp on Tuesday\, July 22nd\, starting at 7:00 PM. \nJoin Indeed Career Strategists Matt Berndt and Brighid Power as they provide an overview of key features and tips and strategies for using Indeed to pursue better work. Learn about new resources and ask your most pressing questions about how to use Indeed. \nClick here to learn more and register.
URL:https://metroatlantaexchange.org/event/job-search-academy-indeed-virtual-bootcamp/
LOCATION:GA
CATEGORIES:Career Development,Job Seeker,Virtual Event
END:VEVENT
END:VCALENDAR