BEGIN:VCALENDAR
VERSION:2.0
PRODID:-//MAX - ECPv6.15.17.1//NONSGML v1.0//EN
CALSCALE:GREGORIAN
METHOD:PUBLISH
X-WR-CALNAME:MAX
X-ORIGINAL-URL:https://metroatlantaexchange.org
X-WR-CALDESC:Events for MAX
REFRESH-INTERVAL;VALUE=DURATION:PT1H
X-Robots-Tag:noindex
X-PUBLISHED-TTL:PT1H
BEGIN:VTIMEZONE
TZID:America/New_York
BEGIN:DAYLIGHT
TZOFFSETFROM:-0500
TZOFFSETTO:-0400
TZNAME:EDT
DTSTART:20240310T070000
END:DAYLIGHT
BEGIN:STANDARD
TZOFFSETFROM:-0400
TZOFFSETTO:-0500
TZNAME:EST
DTSTART:20241103T060000
END:STANDARD
BEGIN:DAYLIGHT
TZOFFSETFROM:-0500
TZOFFSETTO:-0400
TZNAME:EDT
DTSTART:20250309T070000
END:DAYLIGHT
BEGIN:STANDARD
TZOFFSETFROM:-0400
TZOFFSETTO:-0500
TZNAME:EST
DTSTART:20251102T060000
END:STANDARD
BEGIN:DAYLIGHT
TZOFFSETFROM:-0500
TZOFFSETTO:-0400
TZNAME:EDT
DTSTART:20260308T070000
END:DAYLIGHT
BEGIN:STANDARD
TZOFFSETFROM:-0400
TZOFFSETTO:-0500
TZNAME:EST
DTSTART:20261101T060000
END:STANDARD
END:VTIMEZONE
BEGIN:VEVENT
DTSTART;TZID=America/New_York:20250721T110000
DTEND;TZID=America/New_York:20250723T150000
DTSTAMP:20260422T175849
CREATED:20250719T221228Z
LAST-MODIFIED:20250719T221228Z
UID:10034190-1753095600-1753282800@metroatlantaexchange.org
SUMMARY:Mozaika Mezze: Front House Open Call Hiring Event
DESCRIPTION:Mozaika Mezze is hosting a Front House Open Call Hiring Event on Monday\, July 21st through Wednesday\, July 23rd\, from 11:00 AM to 3:00 PM each day\, at Mozaika Mezze. \nMozaika Mezze is actively seeking experienced hospitality professionals to join the Front of House team for a grand opening! Our ideal talent embodies both hospitality and a thoughtful approach to guest experiences\, works well in a dynamic and fast-paced environment\, and is passionate about providing superb hospitality to our members and their guests. We are offering full-time opportunities for the positions of Server\, Runner\, Bartender\, Barback\, Hosts and more. \nPlease send your resumes in advance to mozaikamezze@gmail.com. \nClick here to learn more.
URL:https://metroatlantaexchange.org/event/mozaika-mezze-front-house-open-call-hiring-event/
LOCATION:Mozaika Mezze\, 2560 Old Milton Parkway\, Alpharetta\, GA\, 30009\, United States
CATEGORIES:In-Person Event,Job Seeker
END:VEVENT
BEGIN:VEVENT
DTSTART;TZID=America/New_York:20250723T090000
DTEND;TZID=America/New_York:20250724T160000
DTSTAMP:20260422T175849
CREATED:20250720T174601Z
LAST-MODIFIED:20250720T174833Z
UID:10034196-1753261200-1753372800@metroatlantaexchange.org
SUMMARY:All Ways Caring Home Care: Hiring Event
DESCRIPTION:All Ways Caring Home Care is hosting a Hiring Event on Wednesday\, July 23rd and Thursday\, July 24th\, from 9:00 AM to 4:00 PM each day\, at All Ways Caring Home Care. \nAll Ways Caring Home Care is seeking Caregivers\, Certified Nursing Assistants (CNA)\, and Home Health Aides to assist in playing a crucial role in providing individualized care that suits the needs of each client in the comfort of their own homes. It is our goal to identify individuals who are compassionate\, a #DifferenceMaker\, and want to feel awesome about their job every day. \nClick here to learn more and register.
URL:https://metroatlantaexchange.org/event/all-ways-caring-home-care-hiring-event/
LOCATION:All Ways Caring HomeCare (Atlanta)\, 2296 Henderson Mill Road\, Atlanta\, 30345\, United States
CATEGORIES:In-Person Event,Job Seeker
END:VEVENT
BEGIN:VEVENT
DTSTART;TZID=America/New_York:20250723T100000
DTEND;TZID=America/New_York:20250723T110000
DTSTAMP:20260422T175849
CREATED:20250706T200247Z
LAST-MODIFIED:20250706T200247Z
UID:10034088-1753264800-1753268400@metroatlantaexchange.org
SUMMARY:Goodwill of North Georgia: Training Program Information Session
DESCRIPTION:Goodwill of North Georgia is hosting a Training Program Information Session every Wednesday from 10:00 AM to 11:00 AM\, at the Cartersville Career Center. \nFor more information\, call 770-276-7036. \nClick here to learn more and register.
URL:https://metroatlantaexchange.org/event/goodwill-of-north-georgia-training-program-information-session/2025-07-23/
LOCATION:Goodwill of North Georgia – Cartersville Career Center\, 929 Joe Frank Harris Parkway\, Cartersville\, GA\, 30120\, United States
CATEGORIES:Career Development,In-Person Event,Job Seeker
GEO:34.1974793;-84.7941559
X-APPLE-STRUCTURED-LOCATION;VALUE=URI;X-ADDRESS=Goodwill of North Georgia – Cartersville Career Center 929 Joe Frank Harris Parkway Cartersville GA 30120 United States;X-APPLE-RADIUS=500;X-TITLE=929 Joe Frank Harris Parkway:geo:-84.7941559,34.1974793
END:VEVENT
BEGIN:VEVENT
DTSTART;TZID=America/New_York:20250723T100000
DTEND;TZID=America/New_York:20250723T113000
DTSTAMP:20260422T175849
CREATED:20250706T213846Z
LAST-MODIFIED:20250706T213846Z
UID:10034129-1753264800-1753270200@metroatlantaexchange.org
SUMMARY:City of Refuge: Workplace Power Tools - PowerPoint in Action
DESCRIPTION:City of Refuge\, in partnership with NPursuit Career Partners\, is hosting a Workplace Power Tools: PowerPoint in Action virtual workshop on Wednesday\, July 23rd\, from 10:00 AM to 11:30 AM. \nThis workshop is focused on building digital skills and fluency. \nClick here to learn more. \n 
URL:https://metroatlantaexchange.org/event/city-of-refuge-workplace-power-tools-powerpoint-in-action/
LOCATION:GA
CATEGORIES:Career Development,Job Seeker,Virtual Event
END:VEVENT
BEGIN:VEVENT
DTSTART;TZID=America/New_York:20250723T100000
DTEND;TZID=America/New_York:20250723T120000
DTSTAMP:20260422T175849
CREATED:20250706T200440Z
LAST-MODIFIED:20250706T200440Z
UID:10034092-1753264800-1753272000@metroatlantaexchange.org
SUMMARY:Goodwill of North Georgia: On-Site Application Assistance Class
DESCRIPTION:Goodwill of North Georgia is hosting an On-Site Application Assistance Class every Wednesday\, from 10:00 AM to 12:00 PM\, at the Oakwood Career Center. \nFor more information\, call 770-538-4209. \nClick here to learn more and register.
URL:https://metroatlantaexchange.org/event/goodwill-of-north-georgia-on-site-application-assistance-class/2025-07-23/
LOCATION:Goodwill of North Georgia – Oakwood Career Center\, 3715 Mundy Mill Road\, Oakwood\, GA\, 30566\, United States
CATEGORIES:Career Development,In-Person Event,Job Seeker
GEO:34.2290795;-83.8701636
X-APPLE-STRUCTURED-LOCATION;VALUE=URI;X-ADDRESS=Goodwill of North Georgia – Oakwood Career Center 3715 Mundy Mill Road Oakwood GA 30566 United States;X-APPLE-RADIUS=500;X-TITLE=3715 Mundy Mill Road:geo:-83.8701636,34.2290795
END:VEVENT
BEGIN:VEVENT
DTSTART;TZID=America/New_York:20250723T100000
DTEND;TZID=America/New_York:20250723T150000
DTSTAMP:20260422T175849
CREATED:20250705T212346Z
LAST-MODIFIED:20250705T212346Z
UID:10034057-1753264800-1753282800@metroatlantaexchange.org
SUMMARY:Riverwoods Behavioral Health: Hiring Event
DESCRIPTION:Riverwoods Behavioral Health is hosting a Hiring Event on Wednesday\, July 23rd\, from 10:00 AM to 3:00 PM\, at Riverwoods Behavioral Health. \nRiverwoods Behavioral Health is seeking compassionate candidates to fill night-shift positions for Registered Nurse (RN) and Licensed Practical Nurse (LPN). Immediate offers will be extended\, and a $5\,000 sign-on bonus will be available. Walk-ins are welcome\, but be sure to bring a resume. \nClick here to learn more and register.
URL:https://metroatlantaexchange.org/event/riverwoods-behavioral-health-hiring-event/
LOCATION:Riverwoods Behavioral Health\, 223 Medical Center Drive\, Riverdale\, GA\, 30274\, United States
CATEGORIES:In-Person Event,Job Seeker
END:VEVENT
BEGIN:VEVENT
DTSTART;TZID=America/New_York:20250723T110000
DTEND;TZID=America/New_York:20250723T130000
DTSTAMP:20260422T175849
CREATED:20250705T211914Z
LAST-MODIFIED:20250705T211914Z
UID:10034055-1753268400-1753275600@metroatlantaexchange.org
SUMMARY:Goodwill of North Georgia: Job and Resource Fair
DESCRIPTION:Goodwill of North Georgia is hosting a Job and Resource Fair on Wednesday\, July 23rd\, from 11:00 AM to 1:00 PM\, at the Cartersville Career Center. \nFor more information\, call 770-276-7036. \nClick here to learn more and register.
URL:https://metroatlantaexchange.org/event/goodwill-of-north-georgia-job-and-resource-fair-4/
LOCATION:Goodwill of North Georgia – Cartersville Career Center\, 929 Joe Frank Harris Parkway\, Cartersville\, GA\, 30120\, United States
CATEGORIES:In-Person Event,Job Seeker
GEO:34.1974793;-84.7941559
X-APPLE-STRUCTURED-LOCATION;VALUE=URI;X-ADDRESS=Goodwill of North Georgia – Cartersville Career Center 929 Joe Frank Harris Parkway Cartersville GA 30120 United States;X-APPLE-RADIUS=500;X-TITLE=929 Joe Frank Harris Parkway:geo:-84.7941559,34.1974793
END:VEVENT
BEGIN:VEVENT
DTSTART;TZID=America/New_York:20250723T110000
DTEND;TZID=America/New_York:20250723T140000
DTSTAMP:20260422T175849
CREATED:20250622T194242Z
LAST-MODIFIED:20250622T194242Z
UID:10034016-1753268400-1753279200@metroatlantaexchange.org
SUMMARY:Corporate Gray: Virtual Job Fair
DESCRIPTION:Corporate Gray is hosting a Virtual Job Fair on Wednesday\, July 23rd\, from 11:00 AM to 2:00 PM. \nThis military-friendly online job fair will provide military-experienced job seekers the opportunity to interview with employers nationwide via text chat and video. This event is open to transitioning service members\, veterans\, and military spouses. \nClick here to learn more and register.
URL:https://metroatlantaexchange.org/event/corporate-gray-virtual-job-fair-3/
LOCATION:GA
CATEGORIES:Job Seeker,Virtual Event
END:VEVENT
BEGIN:VEVENT
DTSTART;TZID=America/New_York:20250723T110000
DTEND;TZID=America/New_York:20250723T140000
DTSTAMP:20260422T175849
CREATED:20250720T175249Z
LAST-MODIFIED:20250720T175249Z
UID:10034197-1753268400-1753279200@metroatlantaexchange.org
SUMMARY:Goodwill of North Georgia: Back to Work Job & Resource Fair
DESCRIPTION:Goodwill of North Georgia is hosting a Back to Work Job & Resource Fair on Wednesday\, July 23rd\, from 11:00 AM to 2:00 PM\, at the East Athens Career Center. \nFor more information\, call 706-395-1558. \nClick here to learn more and register.
URL:https://metroatlantaexchange.org/event/goodwill-of-north-georgia-back-to-work-job-resource-fair/
LOCATION:Goodwill of North Georgia – East Athens Career Center\, 4070 Lexington Road\, Athens\, GA\, 30605\, United States
CATEGORIES:In-Person Event,Job Seeker
END:VEVENT
BEGIN:VEVENT
DTSTART;TZID=America/New_York:20250723T120000
DTEND;TZID=America/New_York:20250723T130000
DTSTAMP:20260422T175849
CREATED:20250710T013520Z
LAST-MODIFIED:20250710T013520Z
UID:10034164-1753272000-1753275600@metroatlantaexchange.org
SUMMARY:Together Digital: Leveraging Your Leadership - Elevating at Every Level
DESCRIPTION:Together Digital is hosting a webinar on Leveraging Your Leadership: Elevating at Every Level on Wednesday\, July 23rd\, 12:00 PM to 1:00 PM. \nIn today’s challenging professional landscape\, many women in leadership positions are receiving support through networks like Chief and The Cru – but what about the women on your team? This workshop addresses the critical gap in professional development and provides actionable tools to help you empower the women you lead. This intimate session allows for vulnerable conversations about the challenges women leaders face today. Connect with like-minded professionals in a safe space where you can share experiences and develop solutions together. \nClick here to learn more and register.
URL:https://metroatlantaexchange.org/event/together-digital-leveraging-your-leadership-elevating-at-every-level/
LOCATION:GA
CATEGORIES:Career Development,Job Seeker,Virtual Event,Workforce Developer
END:VEVENT
BEGIN:VEVENT
DTSTART;TZID=America/New_York:20250723T130000
DTEND;TZID=America/New_York:20250723T160000
DTSTAMP:20260422T175849
CREATED:20250622T194439Z
LAST-MODIFIED:20250622T194439Z
UID:10034017-1753275600-1753286400@metroatlantaexchange.org
SUMMARY:Hiring Our Heroes: Virtual Military Spouse Hiring Event
DESCRIPTION:Hiring Our Heroes is hosting a Virtual Military Spouse Hiring Event on Wednesday\, July 23rd\, from 1:00 PM to 4:00 PM. \nRegister now for this military spouse virtual hiring event focused on employment opportunities across a wide range of industries. This virtual hiring event will connect you directly with organizations using our online\, cloud-based platform. After creating a profile you will be able to explore the available information and opportunities each employer has to offer\, as well as participate in one-on-one text-based chats with talent acquisition specialists. \nClick here to learn more and register.
URL:https://metroatlantaexchange.org/event/hiring-our-heroes-virtual-military-spouse-hiring-event-3/
LOCATION:GA
CATEGORIES:Job Seeker,Virtual Event
END:VEVENT
BEGIN:VEVENT
DTSTART;TZID=America/New_York:20250723T140000
DTEND;TZID=America/New_York:20250723T170000
DTSTAMP:20260422T175849
CREATED:20250705T212113Z
LAST-MODIFIED:20250705T212113Z
UID:10034056-1753279200-1753290000@metroatlantaexchange.org
SUMMARY:Northeast Georgia Healthcare System (NGHS): Virtual Recruitment Event - Acute Care and Emergency Services
DESCRIPTION:The Northeast Georgia Healthcare System (NGHS) is hosting a Virtual Recruitment Event – Acute Care and Emergency Services on Wednesday\, July 23rd\, from 2:00 PM to 5:00 PM. \nLooking for a meaningful opportunity for your next full-time\, part-time\, PRN or night shift role? This event is an opportunity to explore a range of acute care and emergency services roles available at NGMC Gainesville. You’ll also have the chance to connect one-on-one with our recruiters to learn more about NGHS and what it’s like to work within our organization. Sign-on and relocation bonuses will be available. \nClick here to learn more and register.
URL:https://metroatlantaexchange.org/event/northeast-georgia-healthcare-system-nghs-virtual-recruitment-event-acute-care-and-emergency-services/
LOCATION:GA
CATEGORIES:Job Seeker,Virtual Event
END:VEVENT
BEGIN:VEVENT
DTSTART;TZID=America/New_York:20250723T150000
DTEND;TZID=America/New_York:20250723T160000
DTSTAMP:20260422T175849
CREATED:20250706T214006Z
LAST-MODIFIED:20250706T214006Z
UID:10034130-1753282800-1753286400@metroatlantaexchange.org
SUMMARY:Manufacturing Institute: Heroes Connect - Textron Aviation
DESCRIPTION:The Manufacturing Institute is hosting a Heroes Connect: Textron Aviation on Wednesday\, July 23rd\, from 3:00 PM to 4:00 PM. \nTextron Aviation has been inspiring the journey of flight for more than nine decades and continues to be the global leader in the aviation industry. We also offer the ideal career transition for military personnel. Our values and culture are closely aligned with those of each branch of the military. We strive to embody the same principles of integrity\, discipline\, and excellence that are fundamental to military service\, ensuring a seamless and supportive transition. As a Military-ready employer\, we proudly employ those in the military community\, who make a significant impact every day. This event will allow participants to connect with company leaders about their operations\, locations\, Veteran-friendly culture and learn about current career opportunities. \nClick here to learn more and register.
URL:https://metroatlantaexchange.org/event/manufacturing-institute-heroes-connect-textron-aviation/
LOCATION:GA
CATEGORIES:Career Development,Job Seeker,Virtual Event
END:VEVENT
BEGIN:VEVENT
DTSTART;TZID=America/New_York:20250723T171500
DTEND;TZID=America/New_York:20250723T200000
DTSTAMP:20260422T175849
CREATED:20250710T170729Z
LAST-MODIFIED:20250710T170729Z
UID:10034170-1753290900-1753300800@metroatlantaexchange.org
SUMMARY:Georgia Driving Academy: Roehl Transport Truck Driver Recruiting Event
DESCRIPTION:The Georgia Driving Academy is hosting a Roehl Transport Truck Driver Recruiting Event on Wednesday\, July 23rd\, starting at 5:15 PM at the Conyers Campus. \nAttend a free\, no-obligation information session with a representative from Roehl Transport at our Conyers Campus. Learn more about our CDL training courses\, receive a campus tour\, and hear about the many job opportunities for recent graduates. Find out how Roehl is ready to jump-start your new trucking career with on-the-job training and support \nClick here to learn more and register.
URL:https://metroatlantaexchange.org/event/georgia-driving-academy-roehl-transport-truck-driver-recruiting-event/
LOCATION:Georgia Driving Academy\, 1035 Sigman Road\, NE\, Conyers\, GA\, 30012\, United States
CATEGORIES:Career Development,In-Person Event,Job Seeker
END:VEVENT
END:VCALENDAR