BEGIN:VCALENDAR
VERSION:2.0
PRODID:-//MAX - ECPv6.15.17.1//NONSGML v1.0//EN
CALSCALE:GREGORIAN
METHOD:PUBLISH
X-WR-CALNAME:MAX
X-ORIGINAL-URL:https://metroatlantaexchange.org
X-WR-CALDESC:Events for MAX
REFRESH-INTERVAL;VALUE=DURATION:PT1H
X-Robots-Tag:noindex
X-PUBLISHED-TTL:PT1H
BEGIN:VTIMEZONE
TZID:America/New_York
BEGIN:DAYLIGHT
TZOFFSETFROM:-0500
TZOFFSETTO:-0400
TZNAME:EDT
DTSTART:20240310T070000
END:DAYLIGHT
BEGIN:STANDARD
TZOFFSETFROM:-0400
TZOFFSETTO:-0500
TZNAME:EST
DTSTART:20241103T060000
END:STANDARD
BEGIN:DAYLIGHT
TZOFFSETFROM:-0500
TZOFFSETTO:-0400
TZNAME:EDT
DTSTART:20250309T070000
END:DAYLIGHT
BEGIN:STANDARD
TZOFFSETFROM:-0400
TZOFFSETTO:-0500
TZNAME:EST
DTSTART:20251102T060000
END:STANDARD
BEGIN:DAYLIGHT
TZOFFSETFROM:-0500
TZOFFSETTO:-0400
TZNAME:EDT
DTSTART:20260308T070000
END:DAYLIGHT
BEGIN:STANDARD
TZOFFSETFROM:-0400
TZOFFSETTO:-0500
TZNAME:EST
DTSTART:20261101T060000
END:STANDARD
END:VTIMEZONE
BEGIN:VEVENT
DTSTART;TZID=America/New_York:20250725T100000
DTEND;TZID=America/New_York:20250725T110000
DTSTAMP:20260422T175849
CREATED:20250706T201522Z
LAST-MODIFIED:20250706T201522Z
UID:10034102-1753437600-1753441200@metroatlantaexchange.org
SUMMARY:Goodwill of North Georgia: On-Site Computer\, Internet and Email Basics Workshop
DESCRIPTION:Goodwill of North Georgia is hosting an On-Site Computer\, Internet and Email Basics Workshop every Friday\, from 10:00 AM to 11:00 AM\, at the Woodstock Career Center. \nFor more information\, call 770-874-0901. \nClick here to learn more and register.
URL:https://metroatlantaexchange.org/event/goodwill-of-north-georgia-on-site-computer-internet-and-email-basics-workshop/2025-07-25/
LOCATION:Goodwill of North Georgia – Woodstock Career Center\, 9425 Highway 92\, Woodstock\, GA\, 30188\, United States
CATEGORIES:Career Development,In-Person Event,Job Seeker
GEO:34.0872637;-84.5325399
X-APPLE-STRUCTURED-LOCATION;VALUE=URI;X-ADDRESS=Goodwill of North Georgia – Woodstock Career Center 9425 Highway 92 Woodstock GA 30188 United States;X-APPLE-RADIUS=500;X-TITLE=9425 Highway 92:geo:-84.5325399,34.0872637
END:VEVENT
BEGIN:VEVENT
DTSTART;TZID=America/New_York:20250725T110000
DTEND;TZID=America/New_York:20250725T130000
DTSTAMP:20260422T175849
CREATED:20250706T201724Z
LAST-MODIFIED:20250706T201724Z
UID:10034105-1753441200-1753448400@metroatlantaexchange.org
SUMMARY:Goodwill of North Georgia: On-Site Application Assistance Workshop
DESCRIPTION:Goodwill of North Georgia is hosting an On-Site Application Assistance Workshop every Friday\, from 11:00 AM to 1:00 PM\, at the South DeKalb Career Center. \nFor more information\, call 404-728-8605. \nClick here to learn more and register.
URL:https://metroatlantaexchange.org/event/goodwill-of-north-georgia-on-site-application-assistance-workshop/2025-07-25/
LOCATION:Goodwill of North Georgia – South DeKalb Career Center\, 1295 Columbia Drive\, Decatur\, GA\, 30032\, United States
CATEGORIES:Career Development,In-Person Event,Job Seeker
GEO:33.7510576;-84.2656565
X-APPLE-STRUCTURED-LOCATION;VALUE=URI;X-ADDRESS=Goodwill of North Georgia – South DeKalb Career Center 1295 Columbia Drive Decatur GA 30032 United States;X-APPLE-RADIUS=500;X-TITLE=1295 Columbia Drive:geo:-84.2656565,33.7510576
END:VEVENT
BEGIN:VEVENT
DTSTART;TZID=America/New_York:20250725T110000
DTEND;TZID=America/New_York:20250725T130000
DTSTAMP:20260422T175849
CREATED:20250706T214340Z
LAST-MODIFIED:20250706T214340Z
UID:10034132-1753441200-1753448400@metroatlantaexchange.org
SUMMARY:Goodwill of North Georgia: Resume and Mock Interviews On-Site Workshop
DESCRIPTION:Goodwill of North Georgia is hosting a Resume and Mock Interviews On-Site Workshop on Friday\, July 25th\, from 11:00 AM to 1:00 PM\, at the East Athens Career Center. \nFor more information\, call 706-395-1558. \nClick here to learn more and register.
URL:https://metroatlantaexchange.org/event/goodwill-of-north-georgia-resume-and-mock-interviews-on-site-workshop/
LOCATION:Goodwill of North Georgia – East Athens Career Center\, 4070 Lexington Road\, Athens\, GA\, 30605\, United States
CATEGORIES:Career Development,In-Person Event,Job Seeker
END:VEVENT
BEGIN:VEVENT
DTSTART;TZID=America/New_York:20250725T110000
DTEND;TZID=America/New_York:20250725T140000
DTSTAMP:20260422T175849
CREATED:20250720T182122Z
LAST-MODIFIED:20250720T182122Z
UID:10034205-1753441200-1753452000@metroatlantaexchange.org
SUMMARY:Goodwill of North Georgia: Georgia Department of Corrections Hiring Event for the Buford Area
DESCRIPTION:Goodwill of North Georgia is hosting a Georgia Department of Corrections Hiring Event for the Buford Area on Friday\, July 25th\, from 11:00 AM to 2:00 PM\, at the Stockbridge Career Center. \nFor more information\, call 678-514-0670. \nClick here to learn more and register.
URL:https://metroatlantaexchange.org/event/goodwill-of-north-georgia-georgia-department-of-corrections-hiring-event-for-the-buford-area/
LOCATION:GA
CATEGORIES:In-Person Event,Job Seeker
END:VEVENT
BEGIN:VEVENT
DTSTART;TZID=America/New_York:20250725T120000
DTEND;TZID=America/New_York:20250725T140000
DTSTAMP:20260422T175849
CREATED:20250622T195447Z
LAST-MODIFIED:20250622T195447Z
UID:10034019-1753444800-1753452000@metroatlantaexchange.org
SUMMARY:Aspire Volonté: Online Job Fair – U.S. Business and Sales Professionals
DESCRIPTION:Aspire Volonté is hosting an Online Job Fair – U.S. Business and Sales Professionals on Friday\, July 25th\, from 12:00 PM to 2:00 PM. \nJoin us at the Aspire Volonté Virtual Job Fair — designed for aspiring insurance professionals\, salespeople\, and anyone interested in the financial services industry. Whether you’re just starting out or looking for a flexible new career path\, this event is for you. \nClick here to learn more and register.
URL:https://metroatlantaexchange.org/event/aspire-volonte-online-job-fair-u-s-business-and-sales-professionals/
LOCATION:GA
CATEGORIES:Job Seeker,Virtual Event
END:VEVENT
BEGIN:VEVENT
DTSTART;TZID=America/New_York:20250725T124500
DTEND;TZID=America/New_York:20250725T140000
DTSTAMP:20260422T175849
CREATED:20250720T181845Z
LAST-MODIFIED:20250720T181845Z
UID:10034204-1753447500-1753452000@metroatlantaexchange.org
SUMMARY:Georgia Driving Academy: Stevens Truck Driver Recruiting Event
DESCRIPTION:The Georgia Driving Academy is hosting a Stevens Truck Driver Recruiting Event on Friday\, July 25th\, starting at 12:45 PM\, at the Conyers Campus. \nAttend a free\, no-obligation information session with a representative from Stevens. Learn more about our CDL training courses\, receive a campus tour\, and hear about the many job opportunities for recent graduates. Find out how Stevens is ready to jump-start your new trucking career with on-the-job training and support. \nClick here to learn more and register.
URL:https://metroatlantaexchange.org/event/georgia-driving-academy-stevens-truck-driver-recruiting-event-9/
LOCATION:Georgia Driving Academy\, 1035 Sigman Road\, NE\, Conyers\, GA\, 30012\, United States
CATEGORIES:In-Person Event,Job Seeker
END:VEVENT
BEGIN:VEVENT
DTSTART;TZID=America/New_York:20250725T160000
DTEND;TZID=America/New_York:20250725T170000
DTSTAMP:20260422T175849
CREATED:20250706T201257Z
LAST-MODIFIED:20250706T201257Z
UID:10034099-1753459200-1753462800@metroatlantaexchange.org
SUMMARY:American Professional Online Association (APROLA): Start Your Online Career
DESCRIPTION:The American Professional Online Association (APROLA) is hosting a Start Your Online Career event every Friday\, starting July 11th\, from 4:00 PM to 5:00 PM\, at APROLA Atlanta. \nThis life-changing workshop reveals amazing web professional opportunities that you can start TODAY – no tech skills required! Learn about exciting career opportunities in web design and development\, content and media\, e-commerce\, digital marketing and more. Discover how APROLA is helping people just like you build successful online careers. \nClick here to learn more and register.
URL:https://metroatlantaexchange.org/event/american-professional-online-association-aprola-start-your-online-career/2025-07-25/
LOCATION:APROLA Atlanta\, 7000 Central Parkway\, Suite #1100\, Atlanta\, GA\, 30328\, United States
CATEGORIES:Career Development,In-Person Event,Job Seeker
END:VEVENT
END:VCALENDAR