BEGIN:VCALENDAR
VERSION:2.0
PRODID:-//MAX - ECPv6.15.17.1//NONSGML v1.0//EN
CALSCALE:GREGORIAN
METHOD:PUBLISH
X-WR-CALNAME:MAX
X-ORIGINAL-URL:https://metroatlantaexchange.org
X-WR-CALDESC:Events for MAX
REFRESH-INTERVAL;VALUE=DURATION:PT1H
X-Robots-Tag:noindex
X-PUBLISHED-TTL:PT1H
BEGIN:VTIMEZONE
TZID:America/New_York
BEGIN:DAYLIGHT
TZOFFSETFROM:-0500
TZOFFSETTO:-0400
TZNAME:EDT
DTSTART:20240310T070000
END:DAYLIGHT
BEGIN:STANDARD
TZOFFSETFROM:-0400
TZOFFSETTO:-0500
TZNAME:EST
DTSTART:20241103T060000
END:STANDARD
BEGIN:DAYLIGHT
TZOFFSETFROM:-0500
TZOFFSETTO:-0400
TZNAME:EDT
DTSTART:20250309T070000
END:DAYLIGHT
BEGIN:STANDARD
TZOFFSETFROM:-0400
TZOFFSETTO:-0500
TZNAME:EST
DTSTART:20251102T060000
END:STANDARD
BEGIN:DAYLIGHT
TZOFFSETFROM:-0500
TZOFFSETTO:-0400
TZNAME:EDT
DTSTART:20260308T070000
END:DAYLIGHT
BEGIN:STANDARD
TZOFFSETFROM:-0400
TZOFFSETTO:-0500
TZNAME:EST
DTSTART:20261101T060000
END:STANDARD
END:VTIMEZONE
BEGIN:VEVENT
DTSTART;TZID=America/New_York:20250729T170000
DTEND;TZID=America/New_York:20250729T180000
DTSTAMP:20260422T090242
CREATED:20250726T195729Z
LAST-MODIFIED:20250726T195729Z
UID:10034249-1753808400-1753812000@metroatlantaexchange.org
SUMMARY:General Assembly: Creative Skills Academy Info Session
DESCRIPTION:General Assembly\, in partnership with Adobe\, is hosting a virtual Creative Skills Academy Info Session on Tuesday\, July 29th\, from 5:00 PM to 6:00 PM. \nReady to build a marketing or creative career? Do you want to learn cutting-edge creative and AI skills? Adobe and General Assembly’s NEW AI Creative Skills Academy will give you the know-how to create and execute marketing and creative projects\, leverage AI\, build your portfolio\, and stand out to employers. Best of all\, it’s FREE for qualifying applicants. This session will be hosted in a Zoom webinar. We’ll send a link to the email you signed up with the day before\, and one hour before the session. This session is open to both nonprofit staff and prospective students who are hoping to learn more about our no-cost Adobe Creative Academy programs. Our admissions team will be on the call to answer any questions and provide more detail about program expectations and commitment. \nClick here to learn more and register.
URL:https://metroatlantaexchange.org/event/general-assembly-creative-skills-academy-info-session/
LOCATION:GA
CATEGORIES:Career Development,Job Seeker,Virtual Event,Workforce Developer
END:VEVENT
END:VCALENDAR