BEGIN:VCALENDAR
VERSION:2.0
PRODID:-//MAX - ECPv6.15.17.1//NONSGML v1.0//EN
CALSCALE:GREGORIAN
METHOD:PUBLISH
X-ORIGINAL-URL:https://metroatlantaexchange.org
X-WR-CALDESC:Events for MAX
REFRESH-INTERVAL;VALUE=DURATION:PT1H
X-Robots-Tag:noindex
X-PUBLISHED-TTL:PT1H
BEGIN:VTIMEZONE
TZID:America/New_York
BEGIN:DAYLIGHT
TZOFFSETFROM:-0500
TZOFFSETTO:-0400
TZNAME:EDT
DTSTART:20240310T070000
END:DAYLIGHT
BEGIN:STANDARD
TZOFFSETFROM:-0400
TZOFFSETTO:-0500
TZNAME:EST
DTSTART:20241103T060000
END:STANDARD
BEGIN:DAYLIGHT
TZOFFSETFROM:-0500
TZOFFSETTO:-0400
TZNAME:EDT
DTSTART:20250309T070000
END:DAYLIGHT
BEGIN:STANDARD
TZOFFSETFROM:-0400
TZOFFSETTO:-0500
TZNAME:EST
DTSTART:20251102T060000
END:STANDARD
BEGIN:DAYLIGHT
TZOFFSETFROM:-0500
TZOFFSETTO:-0400
TZNAME:EDT
DTSTART:20260308T070000
END:DAYLIGHT
BEGIN:STANDARD
TZOFFSETFROM:-0400
TZOFFSETTO:-0500
TZNAME:EST
DTSTART:20261101T060000
END:STANDARD
END:VTIMEZONE
BEGIN:VEVENT
DTSTART;TZID=America/New_York:20250730T090000
DTEND;TZID=America/New_York:20250730T130000
DTSTAMP:20260422T195411
CREATED:20250706T214620Z
LAST-MODIFIED:20250706T214620Z
UID:10034134-1753866000-1753880400@metroatlantaexchange.org
SUMMARY:Hiring Our Heroes: Virtual Amplify - Federal to Private Sector Career Preparation and Professional Development
DESCRIPTION:Hiring Our Heroes is hosting a Virtual Amplify: Federal to Private Sector Career Preparation and Professional Development on Wednesday\, July 30th\, from 9:00 AM to 1:00 PM. \nEngage in professional development workshops and interactive sessions designed to support your transition to the private sector. Topics include professional branding\, resume support\, interview techniques\, and networking. Amplify attendees will leave with valuable tools\, resources\, and an expanded network to facilitate their career growth. This event is open to transitioning service members\, veterans\, military spouses\, and military caregivers.Limited spots are available\, register now.   \nClick here to learn more and register.
URL:https://metroatlantaexchange.org/event/hiring-our-heroes-virtual-amplify-federal-to-private-sector-career-preparation-and-professional-development/
LOCATION:GA
CATEGORIES:Career Development,Job Seeker,Veterans/Military,Virtual Event
END:VEVENT
BEGIN:VEVENT
DTSTART;TZID=America/New_York:20250730T100000
DTEND;TZID=America/New_York:20250730T110000
DTSTAMP:20260422T195411
CREATED:20250706T200247Z
LAST-MODIFIED:20250706T200247Z
UID:10034089-1753869600-1753873200@metroatlantaexchange.org
SUMMARY:Goodwill of North Georgia: Training Program Information Session
DESCRIPTION:Goodwill of North Georgia is hosting a Training Program Information Session every Wednesday from 10:00 AM to 11:00 AM\, at the Cartersville Career Center. \nFor more information\, call 770-276-7036. \nClick here to learn more and register.
URL:https://metroatlantaexchange.org/event/goodwill-of-north-georgia-training-program-information-session/2025-07-30/
LOCATION:Goodwill of North Georgia – Cartersville Career Center\, 929 Joe Frank Harris Parkway\, Cartersville\, GA\, 30120\, United States
CATEGORIES:Career Development,In-Person Event,Job Seeker
GEO:34.1974793;-84.7941559
X-APPLE-STRUCTURED-LOCATION;VALUE=URI;X-ADDRESS=Goodwill of North Georgia – Cartersville Career Center 929 Joe Frank Harris Parkway Cartersville GA 30120 United States;X-APPLE-RADIUS=500;X-TITLE=929 Joe Frank Harris Parkway:geo:-84.7941559,34.1974793
END:VEVENT
BEGIN:VEVENT
DTSTART;TZID=America/New_York:20250730T100000
DTEND;TZID=America/New_York:20250730T120000
DTSTAMP:20260422T195411
CREATED:20250706T200440Z
LAST-MODIFIED:20250706T200440Z
UID:10034093-1753869600-1753876800@metroatlantaexchange.org
SUMMARY:Goodwill of North Georgia: On-Site Application Assistance Class
DESCRIPTION:Goodwill of North Georgia is hosting an On-Site Application Assistance Class every Wednesday\, from 10:00 AM to 12:00 PM\, at the Oakwood Career Center. \nFor more information\, call 770-538-4209. \nClick here to learn more and register.
URL:https://metroatlantaexchange.org/event/goodwill-of-north-georgia-on-site-application-assistance-class/2025-07-30/
LOCATION:Goodwill of North Georgia – Oakwood Career Center\, 3715 Mundy Mill Road\, Oakwood\, GA\, 30566\, United States
CATEGORIES:Career Development,In-Person Event,Job Seeker
GEO:34.2290795;-83.8701636
X-APPLE-STRUCTURED-LOCATION;VALUE=URI;X-ADDRESS=Goodwill of North Georgia – Oakwood Career Center 3715 Mundy Mill Road Oakwood GA 30566 United States;X-APPLE-RADIUS=500;X-TITLE=3715 Mundy Mill Road:geo:-83.8701636,34.2290795
END:VEVENT
BEGIN:VEVENT
DTSTART;TZID=America/New_York:20250730T100000
DTEND;TZID=America/New_York:20250730T130000
DTSTAMP:20260422T195411
CREATED:20250721T185815Z
LAST-MODIFIED:20250721T185815Z
UID:10034212-1753869600-1753880400@metroatlantaexchange.org
SUMMARY:Goodwill of North Georgia: Skilled and General Labor Job Fair
DESCRIPTION:Goodwill of North Georgia is hosting a Skilled and General Labor Job Fair on Wednesday\, July 30th\, from 10:00 AM to 1:00 PM\, at the Decatur Career Center. \nFor more information\, call 404-554-9600. \nClick here to learn more and register.
URL:https://metroatlantaexchange.org/event/goodwill-of-north-georgia-skilled-and-general-labor-job-fair/
LOCATION:Goodwill of North Georgia – Decatur Career Center\, 2201 Lawrenceville Highway\, Suite 200\, Decatur\, GA\, 30033\, United States
CATEGORIES:In-Person Event,Job Seeker
GEO:33.8114213;-84.2699313
X-APPLE-STRUCTURED-LOCATION;VALUE=URI;X-ADDRESS=Goodwill of North Georgia – Decatur Career Center 2201 Lawrenceville Highway Suite 200 Decatur GA 30033 United States;X-APPLE-RADIUS=500;X-TITLE=2201 Lawrenceville Highway\, Suite 200:geo:-84.2699313,33.8114213
END:VEVENT
BEGIN:VEVENT
DTSTART;TZID=America/New_York:20250730T100000
DTEND;TZID=America/New_York:20250730T140000
DTSTAMP:20260422T195411
CREATED:20250720T185441Z
LAST-MODIFIED:20250720T185441Z
UID:10034211-1753869600-1753884000@metroatlantaexchange.org
SUMMARY:Goodwill of North Georgia: Headquarters Library Job Fair
DESCRIPTION:Goodwill of North Georgia is hosting a Headquarters Library Job Fair on Wednesday\, July 30th\, from 10:00 AM to 2:00 PM\, at the Headquarters Library. \nEmployers will be on-site accepting resumes\, applications and interviewing those interested in available positions. Attendees should be dressed in their professional attire and be prepared with copies of their resume. For more information\, call 678-514-0670. \nClick here to learn more and register.
URL:https://metroatlantaexchange.org/event/goodwill-of-north-georgia-headquarters-library-job-fair/
LOCATION:Headquarters Library\, 865 Battle Creek Road\, Jonesboro\, GA\, 30236\, United States
CATEGORIES:In-Person Event,Job Seeker
END:VEVENT
BEGIN:VEVENT
DTSTART;TZID=America/New_York:20250730T100000
DTEND;TZID=America/New_York:20250730T150000
DTSTAMP:20260422T195411
CREATED:20250721T191530Z
LAST-MODIFIED:20250721T191530Z
UID:10034218-1753869600-1753887600@metroatlantaexchange.org
SUMMARY:Quest Diagnostics: Phlebotomist Hiring Event
DESCRIPTION:Quest Diagnostics is hosting a Phlebotomist Hiring Event on Wednesday\, July 30th\, from 10:00 AM to 3:00 PM\, at Quest Diagnostics. \nQuest Diagnostics is seeking Phlebotomists to join the team and enjoy best-in-class benefits and programs that support employees and their families. This is an excellent opportunity for both upcoming grads and experienced professionals to meet the hiring team. Walk-ins are welcome. \nClick here to learn more and register.
URL:https://metroatlantaexchange.org/event/quest-diagnostics-phlebotomist-hiring-event/
LOCATION:Quest Diagnostics\, 1777 Montreal Circle\, Tucker\, GA\, 30084\, United States
CATEGORIES:In-Person Event,Job Seeker
END:VEVENT
BEGIN:VEVENT
DTSTART;TZID=America/New_York:20250730T110000
DTEND;TZID=America/New_York:20250730T130000
DTSTAMP:20260422T195411
CREATED:20250721T190007Z
LAST-MODIFIED:20250721T190007Z
UID:10034213-1753873200-1753880400@metroatlantaexchange.org
SUMMARY:Goodwill of North Georgia: Job and Resource Fair
DESCRIPTION:Goodwill of North Georgia is hosting a Job and Resource Fair on Wednesday\, July 30th\, from 11:00 AM to 1:00 PM\, at the Cartersville Career Center. \nFor more information\, call 770-276-7036. \nClick here to learn more and register.
URL:https://metroatlantaexchange.org/event/goodwill-of-north-georgia-job-and-resource-fair-5/
LOCATION:Goodwill of North Georgia – Cartersville Career Center\, 929 Joe Frank Harris Parkway\, Cartersville\, GA\, 30120\, United States
CATEGORIES:In-Person Event,Job Seeker
GEO:34.1974793;-84.7941559
X-APPLE-STRUCTURED-LOCATION;VALUE=URI;X-ADDRESS=Goodwill of North Georgia – Cartersville Career Center 929 Joe Frank Harris Parkway Cartersville GA 30120 United States;X-APPLE-RADIUS=500;X-TITLE=929 Joe Frank Harris Parkway:geo:-84.7941559,34.1974793
END:VEVENT
BEGIN:VEVENT
DTSTART;TZID=America/New_York:20250730T110000
DTEND;TZID=America/New_York:20250730T130000
DTSTAMP:20260422T195411
CREATED:20250721T190210Z
LAST-MODIFIED:20250721T190210Z
UID:10034214-1753873200-1753880400@metroatlantaexchange.org
SUMMARY:Goodwill of North Georgia: Job and Resource Fair
DESCRIPTION:Goodwill of North Georgia is hosting a Job and Resource Fair on Wednesday\, July 30th\, from 11:00 AM to 1:00 PM\, at the Pleasant Hill Career Center. \nFor more information\, call 770-564-2447. \nClick here to learn more and register.
URL:https://metroatlantaexchange.org/event/goodwill-of-north-georgia-job-and-resource-fair-6/
LOCATION:Goodwill of North Georgia – Pleasant Hill Career Center\, 1502 Pleasant Hill Road\, Duluth\, GA\, 30096\, United States
CATEGORIES:In-Person Event,Job Seeker
GEO:33.9429794;-84.121643
X-APPLE-STRUCTURED-LOCATION;VALUE=URI;X-ADDRESS=Goodwill of North Georgia – Pleasant Hill Career Center 1502 Pleasant Hill Road Duluth GA 30096 United States;X-APPLE-RADIUS=500;X-TITLE=1502 Pleasant Hill Road:geo:-84.121643,33.9429794
END:VEVENT
BEGIN:VEVENT
DTSTART;TZID=America/New_York:20250730T110000
DTEND;TZID=America/New_York:20250730T130000
DTSTAMP:20260422T195411
CREATED:20250721T190620Z
LAST-MODIFIED:20250721T190620Z
UID:10034215-1753873200-1753880400@metroatlantaexchange.org
SUMMARY:Goodwill of North Georgia: Job and Resource Fair
DESCRIPTION:Goodwill of North Georgia is hosting a Job and Resource Fair on Wednesday\, July 30th\, from 11:00 AM to 1:00 PM\, at the South DeKalb Career Center. \nFor more information\, call 404-728-8605. \nClick here to learn more and register.
URL:https://metroatlantaexchange.org/event/goodwill-of-north-georgia-job-and-resource-fair-7/
LOCATION:Goodwill of North Georgia – South DeKalb Career Center\, 1295 Columbia Drive\, Decatur\, GA\, 30032\, United States
CATEGORIES:In-Person Event,Job Seeker
GEO:33.7510576;-84.2656565
X-APPLE-STRUCTURED-LOCATION;VALUE=URI;X-ADDRESS=Goodwill of North Georgia – South DeKalb Career Center 1295 Columbia Drive Decatur GA 30032 United States;X-APPLE-RADIUS=500;X-TITLE=1295 Columbia Drive:geo:-84.2656565,33.7510576
END:VEVENT
BEGIN:VEVENT
DTSTART;TZID=America/New_York:20250730T110000
DTEND;TZID=America/New_York:20250730T130000
DTSTAMP:20260422T195411
CREATED:20250721T190920Z
LAST-MODIFIED:20250721T190920Z
UID:10034216-1753873200-1753880400@metroatlantaexchange.org
SUMMARY:Goodwill of North Georgia: Job and Resource Fair
DESCRIPTION:Goodwill of North Georgia is hosting a Job and Resource Fair on Wednesday\, July 30th\, from 11:00 AM to 1:00 PM\, at the Woodstock Career Center. \nFor more information\, call 770-874-0901. \nClick here to learn more and register.
URL:https://metroatlantaexchange.org/event/goodwill-of-north-georgia-job-and-resource-fair-8/
LOCATION:Goodwill of North Georgia – Woodstock Career Center\, 9425 Highway 92\, Woodstock\, GA\, 30188\, United States
CATEGORIES:In-Person Event,Job Seeker
GEO:34.0872637;-84.5325399
X-APPLE-STRUCTURED-LOCATION;VALUE=URI;X-ADDRESS=Goodwill of North Georgia – Woodstock Career Center 9425 Highway 92 Woodstock GA 30188 United States;X-APPLE-RADIUS=500;X-TITLE=9425 Highway 92:geo:-84.5325399,34.0872637
END:VEVENT
BEGIN:VEVENT
DTSTART;TZID=America/New_York:20250730T120000
DTEND;TZID=America/New_York:20250730T170000
DTSTAMP:20260422T195411
CREATED:20250706T214459Z
LAST-MODIFIED:20250706T214459Z
UID:10034133-1753876800-1753894800@metroatlantaexchange.org
SUMMARY:CareerEco: Veterinary Medical Admissions Virtual Fair
DESCRIPTION:CareerEco is hosting a Veterinary Medical Admissions Virtual Fair on Wednesday\, July 30th\, from 12:00 PM to 5:00 PM. \nThis unique event is the perfect opportunity to meet with veterinary schools from around the world to learn about rewarding careers in veterinary medicine. The event is free\, and participants will be able to engage with schools live\, learn how to become prepared\, talk to application service representatives and more. \nClick here to register.
URL:https://metroatlantaexchange.org/event/careereco-veterinary-medical-admissions-virtual-fair/
LOCATION:GA
CATEGORIES:Career Development,Job Seeker,Student,Virtual Event
ORGANIZER;CN="CareerEco":MAILTO:Events@CareerEco.com
END:VEVENT
BEGIN:VEVENT
DTSTART;TZID=America/New_York:20250730T140000
DTEND;TZID=America/New_York:20250730T170000
DTSTAMP:20260422T195411
CREATED:20250721T191206Z
LAST-MODIFIED:20250721T191206Z
UID:10034217-1753884000-1753894800@metroatlantaexchange.org
SUMMARY:Hiring Our Heroes: Federal to Private Sector - Virtual Hiring Fair
DESCRIPTION:Hiring Our Heroes is hosting a Federal to Private Sector: Virtual Hiring Fair on Wednesday\, July 30th\, from 2:00 PM to 5:00 PM. \nAre you transitioning from federal service to the private sector? Join us for a virtual hiring fair where you’ll meet recruiters\, explore career opportunities\, and gain insights into navigating the private sector job market. Whether you’re looking for your next mission or a fresh start\, this event will provide the resources and connections to make it happen. \nClick here to learn more and register.
URL:https://metroatlantaexchange.org/event/hiring-our-heroes-federal-to-private-sector-virtual-hiring-fair/
LOCATION:GA
CATEGORIES:Job Seeker,Veterans/Military,Virtual Event
END:VEVENT
BEGIN:VEVENT
DTSTART;TZID=America/New_York:20250730T150000
DTEND;TZID=America/New_York:20250730T160000
DTSTAMP:20260422T195411
CREATED:20250706T214730Z
LAST-MODIFIED:20250706T214730Z
UID:10034135-1753887600-1753891200@metroatlantaexchange.org
SUMMARY:Manufacturing Institute: Heroes Connect - Gulfstream
DESCRIPTION:The Manufacturing Institute is hosting a Heroes Connect: Gulfstream webinar on Wednesday\, July 30th\, from 3:00 PM to 4:00 PM. \nGulfstream Aerospace Corporation\, a wholly owned subsidiary of General Dynamics (NYSE: GD)\, designs\, develops\, manufactures\, markets\, services and supports the world’s most technologically advanced business-jet aircraft. This session will give participants the opportunity to engage directly with company leaders about their operations\, locations\, Veteran-friendly culture and current career paths. \nClick here to register via Zoom.
URL:https://metroatlantaexchange.org/event/manufacturing-institute-heroes-connect-gulfstream/
LOCATION:GA
CATEGORIES:Career Development,Job Seeker,Virtual Event
END:VEVENT
END:VCALENDAR