BEGIN:VCALENDAR
VERSION:2.0
PRODID:-//MAX - ECPv6.15.17.1//NONSGML v1.0//EN
CALSCALE:GREGORIAN
METHOD:PUBLISH
X-WR-CALNAME:MAX
X-ORIGINAL-URL:https://metroatlantaexchange.org
X-WR-CALDESC:Events for MAX
REFRESH-INTERVAL;VALUE=DURATION:PT1H
X-Robots-Tag:noindex
X-PUBLISHED-TTL:PT1H
BEGIN:VTIMEZONE
TZID:America/New_York
BEGIN:DAYLIGHT
TZOFFSETFROM:-0500
TZOFFSETTO:-0400
TZNAME:EDT
DTSTART:20240310T070000
END:DAYLIGHT
BEGIN:STANDARD
TZOFFSETFROM:-0400
TZOFFSETTO:-0500
TZNAME:EST
DTSTART:20241103T060000
END:STANDARD
BEGIN:DAYLIGHT
TZOFFSETFROM:-0500
TZOFFSETTO:-0400
TZNAME:EDT
DTSTART:20250309T070000
END:DAYLIGHT
BEGIN:STANDARD
TZOFFSETFROM:-0400
TZOFFSETTO:-0500
TZNAME:EST
DTSTART:20251102T060000
END:STANDARD
BEGIN:DAYLIGHT
TZOFFSETFROM:-0500
TZOFFSETTO:-0400
TZNAME:EDT
DTSTART:20260308T070000
END:DAYLIGHT
BEGIN:STANDARD
TZOFFSETFROM:-0400
TZOFFSETTO:-0500
TZNAME:EST
DTSTART:20261101T060000
END:STANDARD
END:VTIMEZONE
BEGIN:VEVENT
DTSTART;TZID=America/New_York:20250802T110000
DTEND;TZID=America/New_York:20250802T130000
DTSTAMP:20260422T104754
CREATED:20250726T205624Z
LAST-MODIFIED:20250726T205624Z
UID:10034263-1754132400-1754139600@metroatlantaexchange.org
SUMMARY:African American Women’s Trucking Association (AAWTA): Career Development Fair - Power Your Future in Trucking
DESCRIPTION:The African American Women’s Trucking Association (AAWTA) is hosting a Career Development Fair: Power Your Future in Trucking on Saturday\, August 2nd\, from 11:00 AM to 1:00 PM\, at the Scott Candler Library. \nIn this class\, participants will explore career pathways in trucking\, logistics and supply chain management. You will learn how to enroll in CDL training and learn how to access re-entry friendly employment opportunities through local programs. \nClick here to learn more and register.
URL:https://metroatlantaexchange.org/event/african-american-womens-trucking-association-aawta-career-development-fair-power-your-future-in-trucking/
LOCATION:DeKalb County Library – Scott Candler\, 1917 Candler Road\, Decatur\, GA\, 30032\, United States
CATEGORIES:Career Development,In-Person Event,Job Seeker
END:VEVENT
END:VCALENDAR