BEGIN:VCALENDAR
VERSION:2.0
PRODID:-//MAX - ECPv6.15.17.1//NONSGML v1.0//EN
CALSCALE:GREGORIAN
METHOD:PUBLISH
X-ORIGINAL-URL:https://metroatlantaexchange.org
X-WR-CALDESC:Events for MAX
REFRESH-INTERVAL;VALUE=DURATION:PT1H
X-Robots-Tag:noindex
X-PUBLISHED-TTL:PT1H
BEGIN:VTIMEZONE
TZID:America/New_York
BEGIN:DAYLIGHT
TZOFFSETFROM:-0500
TZOFFSETTO:-0400
TZNAME:EDT
DTSTART:20240310T070000
END:DAYLIGHT
BEGIN:STANDARD
TZOFFSETFROM:-0400
TZOFFSETTO:-0500
TZNAME:EST
DTSTART:20241103T060000
END:STANDARD
BEGIN:DAYLIGHT
TZOFFSETFROM:-0500
TZOFFSETTO:-0400
TZNAME:EDT
DTSTART:20250309T070000
END:DAYLIGHT
BEGIN:STANDARD
TZOFFSETFROM:-0400
TZOFFSETTO:-0500
TZNAME:EST
DTSTART:20251102T060000
END:STANDARD
BEGIN:DAYLIGHT
TZOFFSETFROM:-0500
TZOFFSETTO:-0400
TZNAME:EDT
DTSTART:20260308T070000
END:DAYLIGHT
BEGIN:STANDARD
TZOFFSETFROM:-0400
TZOFFSETTO:-0500
TZNAME:EST
DTSTART:20261101T060000
END:STANDARD
END:VTIMEZONE
BEGIN:VEVENT
DTSTART;TZID=America/New_York:20250805T080000
DTEND;TZID=America/New_York:20250805T120000
DTSTAMP:20260422T160605
CREATED:20250802T125915Z
LAST-MODIFIED:20250802T130000Z
UID:10034318-1754380800-1754395200@metroatlantaexchange.org
SUMMARY:Automation Personnel Services: Hiring Event
DESCRIPTION:Automation Personnel Services is hosting a Hiring Event Monday through Friday this week\, from 8:00 AM to 12:00 PM\, at Automation Personnel Services. \nAutomation Personnel Services is seeking candidates with 3+ years of experience working in the millwork industry. Positions open include Edge Band Operator\, Junior Fabricator and Senior Fabricator. Pay rates start at $19 to $24 per hour and benefits include health insurance\, a 40 hour service bonus\, paid holidays\, 401(k) and more. \nClick here to learn more and apply or email apsAtlanta@apstemps.com with your resume.
URL:https://metroatlantaexchange.org/event/automation-personnel-services-hiring-event/2025-08-05/
LOCATION:Automation Personnel Services\, 5015 Floyd Road\, Suite #630\, Mableton\, GA\, 30126\, United States
CATEGORIES:In-Person Event,Job Seeker
END:VEVENT
BEGIN:VEVENT
DTSTART;TZID=America/New_York:20250805T090000
DTEND;TZID=America/New_York:20250805T160000
DTSTAMP:20260422T160605
CREATED:20250802T173830Z
LAST-MODIFIED:20250802T173830Z
UID:10034873-1754384400-1754409600@metroatlantaexchange.org
SUMMARY:Goodwill of North Georgia: GED Class
DESCRIPTION: Goodwill of North Georgia is hosting a GED Class every Tuesday\, from 9:00 AM to 4:00 PM\, at the Cornelia Career Center. \nFor more information\, call 706-894-4905. \nClick here to learn more and register.
URL:https://metroatlantaexchange.org/event/goodwill-of-north-georgia-ged-class-3/2025-08-05/
LOCATION:Goodwill of North Georgia – Cornelia Career Center\, 308 Habersham Hills Circle\, Cornelia\, GA\, 30531\, United States
CATEGORIES:Career Development,In-Person Event,Job Seeker
END:VEVENT
BEGIN:VEVENT
DTSTART;TZID=America/New_York:20250805T103000
DTEND;TZID=America/New_York:20250805T143000
DTSTAMP:20260422T160605
CREATED:20250802T172917Z
LAST-MODIFIED:20250802T173007Z
UID:10034807-1754389800-1754404200@metroatlantaexchange.org
SUMMARY:Goodwill of North Georgia: GED Class
DESCRIPTION:Goodwill of North Georgia is hosting a GED Class\, facilitated by Athens Tech\, every Monday through Thursday\, from 10:30 AM to 2:30 PM\, at the East Athens Career Center. \nFor more information\, call 706-395-1558. \nClick here to learn more and register.
URL:https://metroatlantaexchange.org/event/goodwill-of-north-georgia-ged-class-2/2025-08-05/
LOCATION:Goodwill of North Georgia – East Athens Career Center\, 4070 Lexington Road\, Athens\, GA\, 30605\, United States
CATEGORIES:Career Development,In-Person Event,Job Seeker
END:VEVENT
BEGIN:VEVENT
DTSTART;TZID=America/New_York:20250805T110000
DTEND;TZID=America/New_York:20250805T130000
DTSTAMP:20260422T160605
CREATED:20250802T130529Z
LAST-MODIFIED:20250802T130529Z
UID:10034688-1754391600-1754398800@metroatlantaexchange.org
SUMMARY:Goodwill of North Georgia: Off-Site Job Fair
DESCRIPTION:Goodwill of North Georgia is hosting an Off-Site Job Fair on Tuesday\, August 5th\, from 11:00 AM to 1:00 PM\, at East Point City Hall. \nFor more information\, call 678-554-0412. \nClick here to learn more and register.
URL:https://metroatlantaexchange.org/event/goodwill-of-north-georgia-off-site-job-fair/
LOCATION:East Point City Hall\, 2757 East Point Street\, East Point\, GA\, 30344\, United States
CATEGORIES:In-Person Event,Job Seeker
END:VEVENT
BEGIN:VEVENT
DTSTART;TZID=America/New_York:20250805T110000
DTEND;TZID=America/New_York:20250805T130000
DTSTAMP:20260422T160605
CREATED:20250802T130648Z
LAST-MODIFIED:20250802T130648Z
UID:10034689-1754391600-1754398800@metroatlantaexchange.org
SUMMARY:Goodwill of North Georgia: Veteran Securing Hiring Event
DESCRIPTION:Goodwill of North Georgia is hosting a Veteran Securing Hiring Event on Tuesday\, August 5th\, from 11:00 AM to 1:00 PM\, at the Woodstock Career Center. \nFor more information\, call 770-874-0901. \nClick here to learn more and register.
URL:https://metroatlantaexchange.org/event/goodwill-of-north-georgia-veteran-securing-hiring-event/
LOCATION:Goodwill of North Georgia – Woodstock Career Center\, 9425 Highway 92\, Woodstock\, GA\, 30188\, United States
CATEGORIES:In-Person Event,Job Seeker,Veterans/Military
GEO:34.0872637;-84.5325399
X-APPLE-STRUCTURED-LOCATION;VALUE=URI;X-ADDRESS=Goodwill of North Georgia – Woodstock Career Center 9425 Highway 92 Woodstock GA 30188 United States;X-APPLE-RADIUS=500;X-TITLE=9425 Highway 92:geo:-84.5325399,34.0872637
END:VEVENT
BEGIN:VEVENT
DTSTART;TZID=America/New_York:20250805T110000
DTEND;TZID=America/New_York:20250805T150000
DTSTAMP:20260422T160605
CREATED:20250622T195824Z
LAST-MODIFIED:20250622T195824Z
UID:10034021-1754391600-1754406000@metroatlantaexchange.org
SUMMARY:RecruitMilitary: Transitioning Service Member and Spouse Virtual Career Fair
DESCRIPTION:RecruitMilitary is hosting a Transitioning Service Member and Spouse Virtual Career Fair on Tuesday\, August 5th\, from 11:00 AM to 3:00 PM. \nThis event is where job seekers with military experience can meet with recruiters from local and national companies. These events are free for U.S veterans\, military spouses\, transitioning military\, and members of the Guard and Reserve. This career fair offers you a direct online connection to employers\, career opportunities\, and educational options. Prepare by completing your profiles\, uploading your resume and researching attending companies. \nClick here to learn more and register.
URL:https://metroatlantaexchange.org/event/recruitmilitary-transitioning-service-member-and-spouse-virtual-career-fair/
LOCATION:GA
CATEGORIES:Job Seeker,Veterans/Military,Virtual Event
END:VEVENT
BEGIN:VEVENT
DTSTART;TZID=America/New_York:20250805T110000
DTEND;TZID=America/New_York:20250805T150000
DTSTAMP:20260422T160605
CREATED:20250721T193323Z
LAST-MODIFIED:20250721T193323Z
UID:10034221-1754391600-1754406000@metroatlantaexchange.org
SUMMARY:CareerEco: Back-to-School Education Virtual Career Day
DESCRIPTION:CareerEco is hosting a Back-to-School Education Virtual Career Day on Tuesday\, August 5th\, from 11:00 AM to 3:00 PM. \nThis online recruiting event is targeting towards educators to connect with schools\, districts and educational institutions nationwide who are seeking talent across K-12\, higher education\, and educational support services. \nClick here to register.
URL:https://metroatlantaexchange.org/event/careereco-back-to-school-education-virtual-career-day/
LOCATION:GA
CATEGORIES:Job Seeker,Virtual Event
ORGANIZER;CN="CareerEco":MAILTO:Events@CareerEco.com
END:VEVENT
BEGIN:VEVENT
DTSTART;TZID=America/New_York:20250805T110000
DTEND;TZID=America/New_York:20250805T150000
DTSTAMP:20260422T160605
CREATED:20250802T130353Z
LAST-MODIFIED:20250802T130353Z
UID:10034687-1754391600-1754406000@metroatlantaexchange.org
SUMMARY:CareerEco: Back-to-School Education Virtual Career Day
DESCRIPTION:CareerEco is hosting a Back-to-School Education Virtual Career Day on Tuesday\, August 5th\, from 11:00 AM to 3:00 PM. \nThis online recruiting event is targeting towards educators to connect with schools\, districts and educational institutions nationwide who are seeking talent across K-12\, higher education\, and educational support services. \nClick here to register.
URL:https://metroatlantaexchange.org/event/careereco-back-to-school-education-virtual-career-day-2/
LOCATION:GA
CATEGORIES:In-Person Event,Job Seeker,Virtual Event
ORGANIZER;CN="CareerEco":MAILTO:Events@CareerEco.com
END:VEVENT
BEGIN:VEVENT
DTSTART;TZID=America/New_York:20250805T130000
DTEND;TZID=America/New_York:20250805T150000
DTSTAMP:20260422T160605
CREATED:20250721T195929Z
LAST-MODIFIED:20250721T195929Z
UID:10034232-1754398800-1754406000@metroatlantaexchange.org
SUMMARY:Atlanta Center for Self Sufficiency (ACSS): Elevate - Get Started! Get Training! Get Hired! Program
DESCRIPTION:The Atlanta Center for Self Sufficiency (ACSS) is hosting Elevate: Get Started! Get Trained! Get Hired! every Tuesday\, from 1:00 PM to 3:00 PM at Forest Park Elevate. \nElevate is a free\, comprehensive workforce development program supporting individuals experiencing homelessness\, unemployed or underemployed residents of Forest Park. This session will introduce you to the many services available\, including training\, career coaching\, and job placement\, with support every step of the way. \nClick here to learn more and register.
URL:https://metroatlantaexchange.org/event/atlanta-center-for-self-sufficiency-acss-elevate-get-started-get-training-get-hired-program/2025-08-05/
LOCATION:Elevate – Forest Park Office\, 819 Forest Parkway\, Suite D\, Forest Park\, GA\, 30297\, United States
CATEGORIES:Career Development,In-Person Event,Job Seeker
END:VEVENT
BEGIN:VEVENT
DTSTART;TZID=America/New_York:20250805T150000
DTEND;TZID=America/New_York:20250805T173000
DTSTAMP:20260422T160605
CREATED:20250802T130818Z
LAST-MODIFIED:20250802T130818Z
UID:10034690-1754406000-1754415000@metroatlantaexchange.org
SUMMARY:Schneider: Truck Driver and Owner-Operator Recruiting Event
DESCRIPTION:Schneider is hosting a Truck Driver and Owner-Operator Recruiting Event on Tuesday\, August 5th\, from 3:00 PM to 5:30 PM\, at the Georgia Driving Academy. \nAre you an experienced truck driver looking for a change? Recent driving school graduate or looking to get your CDL? Whatever your level of truck driving experience\, get a chance to have all your truck driving related questions answered at one of our casual truck driver and owner-operator recruiting events. Speak to one of our knowledgeable and personable recruiters about driving opportunities\, pay and benefits\, military programs\, requirements\, terminology clarification\, CDL questions and any other questions you may have. \nClick here to learn more and register.
URL:https://metroatlantaexchange.org/event/schneider-truck-driver-and-owner-operator-recruiting-event-12/
LOCATION:Georgia Driving Academy\, 1035 Sigman Road\, NE\, Conyers\, GA\, 30012\, United States
CATEGORIES:In-Person Event,Job Seeker
END:VEVENT
BEGIN:VEVENT
DTSTART;TZID=America/New_York:20250805T173000
DTEND;TZID=America/New_York:20250805T193000
DTSTAMP:20260422T160605
CREATED:20250802T131055Z
LAST-MODIFIED:20250802T131055Z
UID:10034691-1754415000-1754422200@metroatlantaexchange.org
SUMMARY:Status Symbol Financial Group: Life Insurance Agent Mixer and Hiring Event
DESCRIPTION:The Status Symbol Financial Group is hosting a Life Insurance Agent Mixer and Hiring Event on Tuesday\, August 5th\, from 5:30 PM to 7:30 PM\, at Fogo de Chao Brazilian Steakhouse. \nJoin us for an exciting opportunity to network with industry professionals and potentially land your dream job. Whether you’re an experienced agent looking for a new challenge or just starting your career in insurance\, this event is the perfect place to connect with top companies in the field. Don’t miss out on this chance to mingle\, learn\, and grow in your career. \nClick here to learn more and register.
URL:https://metroatlantaexchange.org/event/status-symbol-financial-group-life-insurance-agent-mixer-and-hiring-event/
LOCATION:Fogo de Chao Brazilian Steakhouse\, 4671 Ashford Dunwoody Road\, Dunwoody\, GA\, 30346\, United States
CATEGORIES:Career Development,In-Person Event,Job Seeker
END:VEVENT
BEGIN:VEVENT
DTSTART;TZID=America/New_York:20250805T180000
DTEND;TZID=America/New_York:20250805T190000
DTSTAMP:20260422T160605
CREATED:20250721T200729Z
LAST-MODIFIED:20250721T200729Z
UID:10034240-1754416800-1754420400@metroatlantaexchange.org
SUMMARY:Fulton County Library System: Computer Class
DESCRIPTION:The Fulton County Library System is hosting a Computer Class every Tuesday\, from 6:00 PM to 7:00 PM\, at the Gladys S. Dennard Library. \nJoin us for an exciting session designed to boost your digital skills! Whether you’re looking to master your computer\, navigate the internet\, or make the most of your mobile devices and e-readers. \nClick here to learn more and register.
URL:https://metroatlantaexchange.org/event/fulton-county-library-system-computer-class/2025-08-05/
LOCATION:Gladys S. Dennard Library\, 4055 Flat Shoals Road\, Union City\, GA\, 30291\, United States
CATEGORIES:Career Development,In-Person Event,Job Seeker
END:VEVENT
END:VCALENDAR