BEGIN:VCALENDAR
VERSION:2.0
PRODID:-//MAX - ECPv6.15.17.1//NONSGML v1.0//EN
CALSCALE:GREGORIAN
METHOD:PUBLISH
X-ORIGINAL-URL:https://metroatlantaexchange.org
X-WR-CALDESC:Events for MAX
REFRESH-INTERVAL;VALUE=DURATION:PT1H
X-Robots-Tag:noindex
X-PUBLISHED-TTL:PT1H
BEGIN:VTIMEZONE
TZID:America/New_York
BEGIN:DAYLIGHT
TZOFFSETFROM:-0500
TZOFFSETTO:-0400
TZNAME:EDT
DTSTART:20240310T070000
END:DAYLIGHT
BEGIN:STANDARD
TZOFFSETFROM:-0400
TZOFFSETTO:-0500
TZNAME:EST
DTSTART:20241103T060000
END:STANDARD
BEGIN:DAYLIGHT
TZOFFSETFROM:-0500
TZOFFSETTO:-0400
TZNAME:EDT
DTSTART:20250309T070000
END:DAYLIGHT
BEGIN:STANDARD
TZOFFSETFROM:-0400
TZOFFSETTO:-0500
TZNAME:EST
DTSTART:20251102T060000
END:STANDARD
BEGIN:DAYLIGHT
TZOFFSETFROM:-0500
TZOFFSETTO:-0400
TZNAME:EDT
DTSTART:20260308T070000
END:DAYLIGHT
BEGIN:STANDARD
TZOFFSETFROM:-0400
TZOFFSETTO:-0500
TZNAME:EST
DTSTART:20261101T060000
END:STANDARD
END:VTIMEZONE
BEGIN:VEVENT
DTSTART;TZID=America/New_York:20250806T080000
DTEND;TZID=America/New_York:20250806T120000
DTSTAMP:20260422T194835
CREATED:20250802T125915Z
LAST-MODIFIED:20250802T130000Z
UID:10034319-1754467200-1754481600@metroatlantaexchange.org
SUMMARY:Automation Personnel Services: Hiring Event
DESCRIPTION:Automation Personnel Services is hosting a Hiring Event Monday through Friday this week\, from 8:00 AM to 12:00 PM\, at Automation Personnel Services. \nAutomation Personnel Services is seeking candidates with 3+ years of experience working in the millwork industry. Positions open include Edge Band Operator\, Junior Fabricator and Senior Fabricator. Pay rates start at $19 to $24 per hour and benefits include health insurance\, a 40 hour service bonus\, paid holidays\, 401(k) and more. \nClick here to learn more and apply or email apsAtlanta@apstemps.com with your resume.
URL:https://metroatlantaexchange.org/event/automation-personnel-services-hiring-event/2025-08-06/
LOCATION:Automation Personnel Services\, 5015 Floyd Road\, Suite #630\, Mableton\, GA\, 30126\, United States
CATEGORIES:In-Person Event,Job Seeker
END:VEVENT
BEGIN:VEVENT
DTSTART;TZID=America/New_York:20250806T090000
DTEND;TZID=America/New_York:20250806T130000
DTSTAMP:20260422T194835
CREATED:20250802T132318Z
LAST-MODIFIED:20250802T132318Z
UID:10034698-1754470800-1754485200@metroatlantaexchange.org
SUMMARY:Preferred Personnel Solutions: Hiring Event
DESCRIPTION:Preferred Personnel Solutions is hosting a Hiring Event on Wednesday\, August 6th\, from 9:00 AM to 1:00 PM\, at Preferred Personnel Solutions. \nPreferred Personnel Solutions has multiple Warehouse positions open in Acworth\, GA. Benefits include paid time off\, health insurance\, referral programs and more. For immediate consideration\, please attend the event or if you’d like to schedule an appointment\, call 678-756-2834. \nClick here to learn more.
URL:https://metroatlantaexchange.org/event/preferred-personnel-solutions-hiring-event/
LOCATION:Preferred Personnel Solutions (Kennesaw)\, 7000 Cobb International Boulevard\, Kennesaw\, 30152\, United States
CATEGORIES:In-Person Event,Job Seeker
ORGANIZER;CN="Preferred Personnel Solutions":MAILTO:gwinnett@preferredpersonnel.com
END:VEVENT
BEGIN:VEVENT
DTSTART;TZID=America/New_York:20250806T100000
DTEND;TZID=America/New_York:20250806T113000
DTSTAMP:20260422T194835
CREATED:20250726T210423Z
LAST-MODIFIED:20250726T210423Z
UID:10034268-1754474400-1754479800@metroatlantaexchange.org
SUMMARY:City of Refuge: Essential Tech Skills for Everyday Success
DESCRIPTION:City of Refuge\, in partnership with NPursuit Career Partners\, is hosting an Essential Tech Skills for Everyday Success virtual workshop on Wednesday\, August 6th\, from 10:00 AM to 11:30 AM. \nThis workshop is focused on building digital skills and fluency. \nClick here to learn more.
URL:https://metroatlantaexchange.org/event/city-of-refuge-essential-tech-skills-for-everyday-success-2/
LOCATION:GA
CATEGORIES:Career Development,Job Seeker,Virtual Event
END:VEVENT
BEGIN:VEVENT
DTSTART;TZID=America/New_York:20250806T100000
DTEND;TZID=America/New_York:20250806T130000
DTSTAMP:20260422T194835
CREATED:20250802T131441Z
LAST-MODIFIED:20250802T131441Z
UID:10034693-1754474400-1754485200@metroatlantaexchange.org
SUMMARY:Goodwill of North Georgia: Dollar General Hiring Event
DESCRIPTION:Goodwill of North Georgia is hosting a Dollar General Hiring Event on Wednesday\, August 6th\, from 10:00 AM to 1:00 PM\, at the Stockbridge Career Center. \nFor more information\, call 678-514-0670. \nClick here to learn more and register.
URL:https://metroatlantaexchange.org/event/goodwill-of-north-georgia-dollar-general-hiring-event/
LOCATION:GA
CATEGORIES:In-Person Event,Job Seeker
END:VEVENT
BEGIN:VEVENT
DTSTART;TZID=America/New_York:20250806T100000
DTEND;TZID=America/New_York:20250806T130000
DTSTAMP:20260422T194835
CREATED:20250802T131714Z
LAST-MODIFIED:20250802T131714Z
UID:10034695-1754474400-1754485200@metroatlantaexchange.org
SUMMARY:Goodwill of North Georgia: Multi-Industry Job Fair
DESCRIPTION:Goodwill of North Georgia is hosting a Multi-Industry Job Fair on Wednesday\, August 6th\, from 10:00 AM to 1:00 PM\, at the Decatur Career Center. \nFor more information\, call 404-554-9600. \nClick here to learn more and register.
URL:https://metroatlantaexchange.org/event/goodwill-of-north-georgia-multi-industry-job-fair/
LOCATION:Goodwill of North Georgia – Decatur Career Center\, 2201 Lawrenceville Highway\, Suite 200\, Decatur\, GA\, 30033\, United States
CATEGORIES:In-Person Event,Job Seeker
GEO:33.8114213;-84.2699313
X-APPLE-STRUCTURED-LOCATION;VALUE=URI;X-ADDRESS=Goodwill of North Georgia – Decatur Career Center 2201 Lawrenceville Highway Suite 200 Decatur GA 30033 United States;X-APPLE-RADIUS=500;X-TITLE=2201 Lawrenceville Highway\, Suite 200:geo:-84.2699313,33.8114213
END:VEVENT
BEGIN:VEVENT
DTSTART;TZID=America/New_York:20250806T100000
DTEND;TZID=America/New_York:20250806T140000
DTSTAMP:20260422T194835
CREATED:20250802T131605Z
LAST-MODIFIED:20250802T131605Z
UID:10034694-1754474400-1754488800@metroatlantaexchange.org
SUMMARY:Goodwill of North Georgia: Georgia Department of Corrections Hiring Event
DESCRIPTION:Goodwill of North Georgia is hosting a Georgia Department of Corrections Hiring Event on Wednesday\, August 6th\, from 10:00 AM to 2:00 PM\, at the South DeKalb Career Center. \nFor more information\, call 404-728-8605. \nClick here to learn more and register.
URL:https://metroatlantaexchange.org/event/goodwill-of-north-georgia-georgia-department-of-corrections-hiring-event-2/
LOCATION:Goodwill of North Georgia – South DeKalb Career Center\, 1295 Columbia Drive\, Decatur\, GA\, 30032\, United States
CATEGORIES:In-Person Event,Job Seeker
GEO:33.7510576;-84.2656565
X-APPLE-STRUCTURED-LOCATION;VALUE=URI;X-ADDRESS=Goodwill of North Georgia – South DeKalb Career Center 1295 Columbia Drive Decatur GA 30032 United States;X-APPLE-RADIUS=500;X-TITLE=1295 Columbia Drive:geo:-84.2656565,33.7510576
END:VEVENT
BEGIN:VEVENT
DTSTART;TZID=America/New_York:20250806T103000
DTEND;TZID=America/New_York:20250806T143000
DTSTAMP:20260422T194835
CREATED:20250802T172917Z
LAST-MODIFIED:20250802T173007Z
UID:10034808-1754476200-1754490600@metroatlantaexchange.org
SUMMARY:Goodwill of North Georgia: GED Class
DESCRIPTION:Goodwill of North Georgia is hosting a GED Class\, facilitated by Athens Tech\, every Monday through Thursday\, from 10:30 AM to 2:30 PM\, at the East Athens Career Center. \nFor more information\, call 706-395-1558. \nClick here to learn more and register.
URL:https://metroatlantaexchange.org/event/goodwill-of-north-georgia-ged-class-2/2025-08-06/
LOCATION:Goodwill of North Georgia – East Athens Career Center\, 4070 Lexington Road\, Athens\, GA\, 30605\, United States
CATEGORIES:Career Development,In-Person Event,Job Seeker
END:VEVENT
BEGIN:VEVENT
DTSTART;TZID=America/New_York:20250806T110000
DTEND;TZID=America/New_York:20250806T150000
DTSTAMP:20260422T194835
CREATED:20250721T193504Z
LAST-MODIFIED:20250721T193504Z
UID:10034222-1754478000-1754492400@metroatlantaexchange.org
SUMMARY:JobFairX: Atlanta Healthcare Virtual Job Fair
DESCRIPTION:JobFairX is hosting an Atlanta Healthcare Virtual Job Fair on Wednesday\, August 6th\, from 11:00 AM to 3:00 PM. \nAt JobFairX\, we match job seekers like you with employers who have registered for the virtual job fair. When you sign up and create a profile\, we collect information about your qualifications\, skills\, and preferences. Our advanced matching algorithm analyzes this data to identify suitable job opportunities. If your qualifications align with a job\, you’ll receive an email invitation to schedule an interview with the employer during the fair. Our streamlined process saves you time on your job search. \nClick here to register.
URL:https://metroatlantaexchange.org/event/jobfairx-atlanta-healthcare-virtual-job-fair-3/
LOCATION:GA
CATEGORIES:Job Seeker,Virtual Event
END:VEVENT
BEGIN:VEVENT
DTSTART;TZID=America/New_York:20250806T110000
DTEND;TZID=America/New_York:20250806T170000
DTSTAMP:20260422T194835
CREATED:20250802T131306Z
LAST-MODIFIED:20250802T131306Z
UID:10034692-1754478000-1754499600@metroatlantaexchange.org
SUMMARY:AT&T: Hiring Event
DESCRIPTION:AT&T is hosting a Hiring Event on Wednesday\, August 6th\, from 11:00 AM to 5:00 PM\, at AT&T. \nAT&T in Alpharetta is seeking high energy\, motivated individuals for full or part-time Sales Associate positions. Experience is preferred\, but not necessary. Enjoy great perks such as hourly pay plus commission\, paid time off\, flexible schedules and more. \nClick here to learn more and apply or you can call 678-587-5586 to schedule and interview.
URL:https://metroatlantaexchange.org/event/att-hiring-event/
LOCATION:AT&T (Alpharetta)\, 2685 Old Milton Parkway\, Suite #100\, Alpharetta\, GA\, 30009\, United States
CATEGORIES:In-Person Event,Job Seeker
END:VEVENT
BEGIN:VEVENT
DTSTART;TZID=America/New_York:20250806T120000
DTEND;TZID=America/New_York:20250807T180000
DTSTAMP:20260422T194835
CREATED:20250726T210649Z
LAST-MODIFIED:20250726T210649Z
UID:10034269-1754481600-1754589600@metroatlantaexchange.org
SUMMARY:Hiring Our Heroes: Virtual Amplify
DESCRIPTION:  \nHiring Our Heroes is hosting a Virtual Amplify starting Wednesday\, August 6th through Thursday\, August 7th\, from 12:00 PM to 6:00 PM. \nRegister now for this two-day virtual event for military spouses focused on career development.Event content includes professional development on topics such as resume building\, interviewing skills\, LinkedIn\, compensation negotiation\, strategic networking\, and more. Engage with employers and military organizations\, gain access to nationwide resources\, learn about volunteer and employment opportunities\, get information regarding upcoming events\, and network with fellow military spouses. \nClick here to learn more and register.
URL:https://metroatlantaexchange.org/event/hiring-our-heroes-virtual-amplify-4/
LOCATION:GA
CATEGORIES:Career Development,Job Seeker,Veterans/Military,Virtual Event
END:VEVENT
BEGIN:VEVENT
DTSTART;TZID=America/New_York:20250806T130000
DTEND;TZID=America/New_York:20250806T140000
DTSTAMP:20260422T194835
CREATED:20250726T210228Z
LAST-MODIFIED:20250726T210228Z
UID:10034267-1754485200-1754488800@metroatlantaexchange.org
SUMMARY:Brandywine Cares: Unlock Your Potential - Free Coaching Sessions Intro Webinar
DESCRIPTION:Brandywine Cares is hosting an Unlock Your Potential: Free Coaching Sessions (Atlanta Only) Intro Webinar on Thursday\, August 6th\, from 1:00 PM to 2:00 PM. \nJoin us for a free 5-week virtual coaching series designed to help you gain clarity\, develop essential job-readiness skills\, and open new doors with the support of your own dedicated career coach. This will help you to stand out in a competitive job market. \nClick here to learn more and register.
URL:https://metroatlantaexchange.org/event/brandywine-cares-unlock-your-potential-free-coaching-sessions-intro-webinar/
LOCATION:GA
CATEGORIES:Career Development,Job Seeker,Virtual Event
END:VEVENT
BEGIN:VEVENT
DTSTART;TZID=America/New_York:20250806T130000
DTEND;TZID=America/New_York:20250806T160000
DTSTAMP:20260422T194835
CREATED:20250721T193648Z
LAST-MODIFIED:20250721T193648Z
UID:10034223-1754485200-1754496000@metroatlantaexchange.org
SUMMARY:Lakeview Behavioral Health: Hiring Event
DESCRIPTION:Lakeview Behavioral Health is hosting a Hiring Event on Wednesday\, August 6th\, from 1:00 PM to 4:00 PM\, at Lakeview Behavioral Health. \nLakeview Behavioral Health is seeking Registered Nurses (RN)\, Licensed Practical Nurses (LPN)\, Counselors and more. At Lakeview Behavioral Health\, we are proud of the reputation that we have developed for ourselves by providing clinically excellent treatment within an environment that promotes long-term healing. During this event\, immediate offers for select positions will be offers. Walk-ins are welcome\, but please bring a resume. \nClick here to learn more and register.
URL:https://metroatlantaexchange.org/event/lakeview-behavioral-health-hiring-event/
LOCATION:Lakeview Behavioral Health\, 1 Technology Parkway South\, Norcross\, GA\, 30092\, United States
CATEGORIES:Conferences,In-Person Event,Job Seeker
END:VEVENT
BEGIN:VEVENT
DTSTART;TZID=America/New_York:20250806T140000
DTEND;TZID=America/New_York:20250806T143000
DTSTAMP:20260422T194835
CREATED:20250802T175329Z
LAST-MODIFIED:20250802T175329Z
UID:10034886-1754488800-1754490600@metroatlantaexchange.org
SUMMARY:Career Agility System: Struck with New Career Challenges? How to Move Forward
DESCRIPTION:Career Agility System is hosting a webinar on Struck with New Career Challenges? How to Move Forward on Wednesday\, August 6th\, from 2:00 PM to 2:30 PM. \nStuck in a dead-end job? Downsized? No upward mobility? Not jiving with new leadership? Burned out? Join us for a dynamic discussion on strategies and tips for navigating uncertain times in your professional life. Jaime Chambron\, Career Coach and Resume Writer\, will share her insights and experiences to support you in moving forward with clarity and confidence\, including her Career Agility framework for unlocking your superpowers and potential to advance in your career. \nClick here to learn more and register.
URL:https://metroatlantaexchange.org/event/career-agility-system-struck-with-new-career-challenges-how-to-move-forward/
LOCATION:GA
CATEGORIES:Career Development,Job Seeker,Virtual Event
END:VEVENT
BEGIN:VEVENT
DTSTART;TZID=America/New_York:20250806T150000
DTEND;TZID=America/New_York:20250806T160000
DTSTAMP:20260422T194835
CREATED:20250726T210751Z
LAST-MODIFIED:20250726T210751Z
UID:10034270-1754492400-1754496000@metroatlantaexchange.org
SUMMARY:Hiring Our Heroes: Military Spouse Fellowships Virtual Information Session
DESCRIPTION:Hiring Our Heroes is hosting a Military Spouse Fellowships Virtual Information Session on Wednesday\, August 6th\, starting at 3:00 PM. \nThese fellowships provide military spouses access to professional training\, valuable networking opportunities\, and hands-on experience in the civilian workforce. Participants benefit from direct engagement with local employers\, enabling them to build strong professional networks and gain meaningful\, localized job experience. \nClick here to learn more and register.
URL:https://metroatlantaexchange.org/event/hiring-our-heroes-military-spouse-fellowships-virtual-information-session-2/
LOCATION:GA
CATEGORIES:Career Development,Job Seeker,Veterans/Military,Virtual Event
END:VEVENT
BEGIN:VEVENT
DTSTART;TZID=America/New_York:20250806T150000
DTEND;TZID=America/New_York:20250806T160000
DTSTAMP:20260422T194835
CREATED:20250726T210914Z
LAST-MODIFIED:20250726T210914Z
UID:10034271-1754492400-1754496000@metroatlantaexchange.org
SUMMARY:Manufacturing Institute: Atlas Copco Group Virtual Event
DESCRIPTION:The Manufacturing Institute is hosting an Atlas Copco Group Virtual Event on Wednesday\, August 6th\, from 3:00 PM to 4:00 PM. \nHave you ever thought what AI\, quantum science\, hydrogen vehicles\, renewable energy\, portable power solutions and life-saving medical treatment all have in common? The answer is Atlas Copco Group. Every day\, across the United States and around the world\, Atlas Copco Group products are working to produce just about everything we need and consume. Solutions include compressors\, vacuum pumps\, industrial tooling\, and portable power equipment. This event will allow participants to connect with company leaders about their operations\, locations\, Veteran-friendly culture and learn about current career opportunities. \nClick here to learn more and register via Zoom.
URL:https://metroatlantaexchange.org/event/manufacturing-institute-atlas-copco-group-virtual-event/
LOCATION:GA
CATEGORIES:Career Development,Job Seeker,Veterans/Military,Virtual Event
END:VEVENT
BEGIN:VEVENT
DTSTART;TZID=America/New_York:20250806T170000
DTEND;TZID=America/New_York:20250806T190000
DTSTAMP:20260422T194835
CREATED:20250802T131935Z
LAST-MODIFIED:20250802T131935Z
UID:10034696-1754499600-1754506800@metroatlantaexchange.org
SUMMARY:Matrix Medical Network: Virtual Nurse Practitioner Hiring Event
DESCRIPTION:The Matrix Medical Network is hosting a Virtual Nurse Practitioner Hiring Event on Wednesday\, August 6th\, starting at 5:00 PM and Thursday\, August 7th\, starting at 9:00 AM. \nAre you a passionate Nurse Practitioner in Georgia looking for a full-time or PRN role? Join one of our virtual hiring events to learn about Matrix Medical Network\, our in-home health assessments\, and the meaningful impact our providers have on our patients while receiving unique support and benefits. A $7\,500 sign-on bonus will be offered. \nClick here to learn more. \nClick here to register for the event on August 6th. \nClick here to register for the event on August 7th.
URL:https://metroatlantaexchange.org/event/matrix-medical-network-virtual-nurse-practitioner-hiring-event/2025-08-06/
LOCATION:GA
CATEGORIES:Job Seeker,Virtual Event
END:VEVENT
END:VCALENDAR