BEGIN:VCALENDAR
VERSION:2.0
PRODID:-//MAX - ECPv6.15.17.1//NONSGML v1.0//EN
CALSCALE:GREGORIAN
METHOD:PUBLISH
X-WR-CALNAME:MAX
X-ORIGINAL-URL:https://metroatlantaexchange.org
X-WR-CALDESC:Events for MAX
REFRESH-INTERVAL;VALUE=DURATION:PT1H
X-Robots-Tag:noindex
X-PUBLISHED-TTL:PT1H
BEGIN:VTIMEZONE
TZID:America/New_York
BEGIN:DAYLIGHT
TZOFFSETFROM:-0500
TZOFFSETTO:-0400
TZNAME:EDT
DTSTART:20240310T070000
END:DAYLIGHT
BEGIN:STANDARD
TZOFFSETFROM:-0400
TZOFFSETTO:-0500
TZNAME:EST
DTSTART:20241103T060000
END:STANDARD
BEGIN:DAYLIGHT
TZOFFSETFROM:-0500
TZOFFSETTO:-0400
TZNAME:EDT
DTSTART:20250309T070000
END:DAYLIGHT
BEGIN:STANDARD
TZOFFSETFROM:-0400
TZOFFSETTO:-0500
TZNAME:EST
DTSTART:20251102T060000
END:STANDARD
BEGIN:DAYLIGHT
TZOFFSETFROM:-0500
TZOFFSETTO:-0400
TZNAME:EDT
DTSTART:20260308T070000
END:DAYLIGHT
BEGIN:STANDARD
TZOFFSETFROM:-0400
TZOFFSETTO:-0500
TZNAME:EST
DTSTART:20261101T060000
END:STANDARD
END:VTIMEZONE
BEGIN:VEVENT
DTSTART;TZID=America/New_York:20250806T120000
DTEND;TZID=America/New_York:20250807T180000
DTSTAMP:20260422T211200
CREATED:20250726T210649Z
LAST-MODIFIED:20250726T210649Z
UID:10034269-1754481600-1754589600@metroatlantaexchange.org
SUMMARY:Hiring Our Heroes: Virtual Amplify
DESCRIPTION:  \nHiring Our Heroes is hosting a Virtual Amplify starting Wednesday\, August 6th through Thursday\, August 7th\, from 12:00 PM to 6:00 PM. \nRegister now for this two-day virtual event for military spouses focused on career development.Event content includes professional development on topics such as resume building\, interviewing skills\, LinkedIn\, compensation negotiation\, strategic networking\, and more. Engage with employers and military organizations\, gain access to nationwide resources\, learn about volunteer and employment opportunities\, get information regarding upcoming events\, and network with fellow military spouses. \nClick here to learn more and register.
URL:https://metroatlantaexchange.org/event/hiring-our-heroes-virtual-amplify-4/
LOCATION:GA
CATEGORIES:Career Development,Job Seeker,Veterans/Military,Virtual Event
END:VEVENT
BEGIN:VEVENT
DTSTART;TZID=America/New_York:20250807T080000
DTEND;TZID=America/New_York:20250807T120000
DTSTAMP:20260422T211200
CREATED:20250802T125915Z
LAST-MODIFIED:20250802T130000Z
UID:10034320-1754553600-1754568000@metroatlantaexchange.org
SUMMARY:Automation Personnel Services: Hiring Event
DESCRIPTION:Automation Personnel Services is hosting a Hiring Event Monday through Friday this week\, from 8:00 AM to 12:00 PM\, at Automation Personnel Services. \nAutomation Personnel Services is seeking candidates with 3+ years of experience working in the millwork industry. Positions open include Edge Band Operator\, Junior Fabricator and Senior Fabricator. Pay rates start at $19 to $24 per hour and benefits include health insurance\, a 40 hour service bonus\, paid holidays\, 401(k) and more. \nClick here to learn more and apply or email apsAtlanta@apstemps.com with your resume.
URL:https://metroatlantaexchange.org/event/automation-personnel-services-hiring-event/2025-08-07/
LOCATION:Automation Personnel Services\, 5015 Floyd Road\, Suite #630\, Mableton\, GA\, 30126\, United States
CATEGORIES:In-Person Event,Job Seeker
END:VEVENT
BEGIN:VEVENT
DTSTART;TZID=America/New_York:20250807T090000
DTEND;TZID=America/New_York:20250807T110000
DTSTAMP:20260422T211200
CREATED:20250802T131935Z
LAST-MODIFIED:20250802T131935Z
UID:10034697-1754557200-1754564400@metroatlantaexchange.org
SUMMARY:Matrix Medical Network: Virtual Nurse Practitioner Hiring Event
DESCRIPTION:The Matrix Medical Network is hosting a Virtual Nurse Practitioner Hiring Event on Wednesday\, August 6th\, starting at 5:00 PM and Thursday\, August 7th\, starting at 9:00 AM. \nAre you a passionate Nurse Practitioner in Georgia looking for a full-time or PRN role? Join one of our virtual hiring events to learn about Matrix Medical Network\, our in-home health assessments\, and the meaningful impact our providers have on our patients while receiving unique support and benefits. A $7\,500 sign-on bonus will be offered. \nClick here to learn more. \nClick here to register for the event on August 6th. \nClick here to register for the event on August 7th.
URL:https://metroatlantaexchange.org/event/matrix-medical-network-virtual-nurse-practitioner-hiring-event/2025-08-07/
LOCATION:GA
CATEGORIES:Job Seeker,Virtual Event
END:VEVENT
BEGIN:VEVENT
DTSTART;TZID=America/New_York:20250807T090000
DTEND;TZID=America/New_York:20250807T150000
DTSTAMP:20260422T211200
CREATED:20250802T133037Z
LAST-MODIFIED:20250802T133037Z
UID:10034700-1754557200-1754578800@metroatlantaexchange.org
SUMMARY:Goodwill of North Georgia: McLane Hiring Event
DESCRIPTION:Goodwill of North Georgia is hosting a McLane Hiring Event on Thursday\, August 7th\, from 9:00 AM to 3:00 PM\, at the East Athens Career Center. \nFor more information\, call 706-395-1558. \nClick here to learn more and register.
URL:https://metroatlantaexchange.org/event/goodwill-of-north-georgia-mclane-hiring-event/
LOCATION:Goodwill of North Georgia – East Athens Career Center\, 4070 Lexington Road\, Athens\, GA\, 30605\, United States
CATEGORIES:In-Person Event,Job Seeker
END:VEVENT
BEGIN:VEVENT
DTSTART;TZID=America/New_York:20250807T100000
DTEND;TZID=America/New_York:20250807T140000
DTSTAMP:20260422T211200
CREATED:20250726T211239Z
LAST-MODIFIED:20250726T211239Z
UID:10034273-1754560800-1754575200@metroatlantaexchange.org
SUMMARY:WorkSource Georgia: Job Seekers - WorkSource Coming to You!
DESCRIPTION:WorkSource Georgia is hosting a Job Seekers: WorkSource Coming to You! event every first and third Thursday\, starting August 7th\, from 10:00 AM to 2:00 PM\, at the Gladys S. Dennard Library. \nWorkSource Fulton provides the help you need to find the job you really want. This is a free\, federally funded program that helps put people to work. The program is designed to help you find the right job or career training at no cost to you. We’ll assess your skills\, provide training\, and help you find the job or career that’s right for you. \nClick here to learn more and register.
URL:https://metroatlantaexchange.org/event/worksource-georgia-job-seekers-worksource-coming-to-you/2025-08-07/
LOCATION:Gladys S. Dennard Library\, 4055 Flat Shoals Road\, Union City\, GA\, 30291\, United States
CATEGORIES:Career Development,In-Person Event,Job Seeker
END:VEVENT
BEGIN:VEVENT
DTSTART;TZID=America/New_York:20250807T100000
DTEND;TZID=America/New_York:20250807T140000
DTSTAMP:20260422T211200
CREATED:20250802T133450Z
LAST-MODIFIED:20250802T133450Z
UID:10034702-1754560800-1754575200@metroatlantaexchange.org
SUMMARY:McLane Company: CDL-A Driver Walk-In Hiring Event
DESCRIPTION:The McLane Company is hosting a CDL-A Driver Walk-In Hiring Event on Thursday\, August 7th\, from 10:00 AM to 2:00 PM\, at the McLane Company. \nOur drivers work hard to move\, supply\, and provide for America’s favorite brands. Join McLane and discover the driving difference—we provide you with industry-leading pay\, strong and secure client relationships\, and get you home safely and more often. That’s why our drivers build long-lasting careers with us. You’re already doing the work\, why not get paid well while doing it? McLane Atlanta is currently offering up to a $7\,500 sign-on bonus for experienced CDL-A drivers and our drivers average $85\,000+ per year\, with industry leading benefits and retirement. \nClick here to learn more and register.
URL:https://metroatlantaexchange.org/event/mclane-company-cdl-a-driver-walk-in-hiring-event/
LOCATION:McLane Company\, 3500 South Corporate Parkway\, Forest Park\, GA\, 30297\, United States
CATEGORIES:In-Person Event,Job Seeker
END:VEVENT
BEGIN:VEVENT
DTSTART;TZID=America/New_York:20250807T103000
DTEND;TZID=America/New_York:20250807T143000
DTSTAMP:20260422T211200
CREATED:20250802T172917Z
LAST-MODIFIED:20250802T173007Z
UID:10034809-1754562600-1754577000@metroatlantaexchange.org
SUMMARY:Goodwill of North Georgia: GED Class
DESCRIPTION:Goodwill of North Georgia is hosting a GED Class\, facilitated by Athens Tech\, every Monday through Thursday\, from 10:30 AM to 2:30 PM\, at the East Athens Career Center. \nFor more information\, call 706-395-1558. \nClick here to learn more and register.
URL:https://metroatlantaexchange.org/event/goodwill-of-north-georgia-ged-class-2/2025-08-07/
LOCATION:Goodwill of North Georgia – East Athens Career Center\, 4070 Lexington Road\, Athens\, GA\, 30605\, United States
CATEGORIES:Career Development,In-Person Event,Job Seeker
END:VEVENT
BEGIN:VEVENT
DTSTART;TZID=America/New_York:20250807T110000
DTEND;TZID=America/New_York:20250807T120000
DTSTAMP:20260422T211200
CREATED:20250726T204830Z
LAST-MODIFIED:20250726T204830Z
UID:10034253-1754564400-1754568000@metroatlantaexchange.org
SUMMARY:Goodwill of North Georgia: Goodwill Training Program Information Session
DESCRIPTION:Goodwill of North Georgia is hosting a Goodwill Training Program Information Session every Thursday\, from 11:00 AM to 12:00 PM\, at the Pleasant Hill Career Center. \nFor more information\, call 770-564-2447. \nClick here to learn more and register.
URL:https://metroatlantaexchange.org/event/goodwill-of-north-georgia-goodwill-training-program-information-session/2025-08-07/
LOCATION:Goodwill of North Georgia – Pleasant Hill Career Center\, 1502 Pleasant Hill Road\, Duluth\, GA\, 30096\, United States
CATEGORIES:Career Development,In-Person Event,Job Seeker
GEO:33.9429794;-84.121643
X-APPLE-STRUCTURED-LOCATION;VALUE=URI;X-ADDRESS=Goodwill of North Georgia – Pleasant Hill Career Center 1502 Pleasant Hill Road Duluth GA 30096 United States;X-APPLE-RADIUS=500;X-TITLE=1502 Pleasant Hill Road:geo:-84.121643,33.9429794
END:VEVENT
BEGIN:VEVENT
DTSTART;TZID=America/New_York:20250807T110000
DTEND;TZID=America/New_York:20250807T140000
DTSTAMP:20260422T211200
CREATED:20250802T132530Z
LAST-MODIFIED:20250802T132530Z
UID:10034699-1754564400-1754575200@metroatlantaexchange.org
SUMMARY:DeKalb County Animal Services: Job Fair
DESCRIPTION:DeKalb County Animal Services is hosting a Job Fair on Thursday\, August 7th\, from 11:00 AM to 2:00 PM\, at DeKalb County Animal Services. \nLooking for a job where you can make a difference every day? Come to the DeKalb County Animal Services Job Fair and find your calling! We are hiring for a variety of roles including Adoption Counselor\, Animal Care Specialist\, Cat Care Supervisor\, Clinic Veterinary Assistant and more. You can be part of the work that helps animals\, saves lives\, and supports the Atlanta community. \nWe offer flexible scheduling\, paid time off\, health insurance\, and on demand pay – plus the chance to do work that truly matters. Whether you are starting your career or ready for something new\, this is your chance to turn your love for animals into a job you’re proud of! \nClick here to learn more and register.
URL:https://metroatlantaexchange.org/event/dekalb-county-animal-services-job-fair/
LOCATION:DeKalb County Animal Services\, 3280 Chamblee Dunwoody Road\, Chamblee\, GA\, 30341\, United States
CATEGORIES:In-Person Event,Job Seeker
END:VEVENT
BEGIN:VEVENT
DTSTART;TZID=America/New_York:20250807T140000
DTEND;TZID=America/New_York:20250807T160000
DTSTAMP:20260422T211200
CREATED:20250802T133247Z
LAST-MODIFIED:20250802T133247Z
UID:10034701-1754575200-1754582400@metroatlantaexchange.org
SUMMARY:Goodwill of North Georgia: Spherion Hiring Event
DESCRIPTION:Goodwill of North Georgia is hosting a Spherion Hiring Event every Thursday\, from 2:00 PM to 4:00 PM\, at the Cornelia Career Center. \nFor more information\, call 706-894-4905. \nClick here to learn more and register.
URL:https://metroatlantaexchange.org/event/goodwill-of-north-georgia-spherion-hiring-event-4/
LOCATION:Goodwill of North Georgia – Cornelia Career Center\, 308 Habersham Hills Circle\, Cornelia\, GA\, 30531\, United States
CATEGORIES:In-Person Event,Job Seeker
END:VEVENT
BEGIN:VEVENT
DTSTART;TZID=America/New_York:20250807T150000
DTEND;TZID=America/New_York:20250807T160000
DTSTAMP:20260422T211200
CREATED:20250726T211023Z
LAST-MODIFIED:20250726T211023Z
UID:10034272-1754578800-1754582400@metroatlantaexchange.org
SUMMARY:Hiring Our Heroes: Salesforce Fellowship Program Information Session
DESCRIPTION:Hiring Our Heroes is hosting a Salesforce Fellowship Program Information Session on Thursday\, August 7th\, starting at 3:00 PM. \nThe Hiring Our Heroes Salesforce Fellowship allows transitioning service members and currently serving military spouses to participate in paid 12-week fellowships\, gaining targeted experience as a certified Salesforce professional. The program highlights include remote/hybrid and portable roles; $90\,170 average salary; and 95% job offer rate. \nClick here to learn more and register.
URL:https://metroatlantaexchange.org/event/hiring-our-heroes-salesforce-fellowship-program-information-session/
LOCATION:GA
CATEGORIES:Career Development,Job Seeker,Veterans/Military,Virtual Event
END:VEVENT
BEGIN:VEVENT
DTSTART;TZID=America/New_York:20250807T150000
DTEND;TZID=America/New_York:20250807T160000
DTSTAMP:20260422T211200
CREATED:20250802T175923Z
LAST-MODIFIED:20250802T175923Z
UID:10034888-1754578800-1754582400@metroatlantaexchange.org
SUMMARY:World Referral Network: Wise Women Connect Working Speaker Series - Messy Moments Into Masterpieces
DESCRIPTION:The World Referral Network is hosting a Wise Women Connect Working Speaker Series: Messy Moments Into Masterpieces webinar on Thursday\, August 7th\, from 3:00 PM to 4:00 PM. \nLet’s face it\, life gets messy. Careers stall. Confidence wavers. Plans fall apart. But what if the chaos was actually the canvas? This week\, join career and leadership coach Bernice Gordon as she shares powerful insights and real-life tools to help you turn adversity into alignment—and setbacks into stepping stones. \nClick here to learn more and register.
URL:https://metroatlantaexchange.org/event/world-referral-network-wise-women-connect-working-speaker-series-messy-moments-into-masterpieces/
LOCATION:GA
CATEGORIES:Career Development,Job Seeker,Virtual Event
END:VEVENT
BEGIN:VEVENT
DTSTART;TZID=America/New_York:20250807T160000
DTEND;TZID=America/New_York:20250807T180000
DTSTAMP:20260422T211200
CREATED:20250802T133611Z
LAST-MODIFIED:20250802T133611Z
UID:10034703-1754582400-1754589600@metroatlantaexchange.org
SUMMARY:U.S. Customs and Border Protection (CBP) Virtual Hiring Event
DESCRIPTION:U.S. Customs and Border Protection (CBP) is hosting a Virtual Hiring Event on Thursday\, August 7th\, from 4:00 PM to 6:00 PM. \nWhat if you could spend every day working on a mission that impacts the whole country? Every day\, we’re inspired to work hard and fulfill that mission. CBP is seeking those looking for an opportunity in federal law enforcement\, including entry-level applicants and those with one or more years in law enforcement and/or with a military background. Recently retired from Border Patrol? We want you to attend\, too! We’re seeking to reinstate agents to rejoin the agency. Don’t miss this amazing opportunity to retain your full retirement annuity and full salary while re-employed. \nClick here to learn more and register.
URL:https://metroatlantaexchange.org/event/u-s-customs-and-border-protection-cbp-virtual-hiring-event/
LOCATION:GA
CATEGORIES:Job Seeker,Virtual Event
END:VEVENT
END:VCALENDAR