BEGIN:VCALENDAR
VERSION:2.0
PRODID:-//MAX - ECPv6.15.17.1//NONSGML v1.0//EN
CALSCALE:GREGORIAN
METHOD:PUBLISH
X-ORIGINAL-URL:https://metroatlantaexchange.org
X-WR-CALDESC:Events for MAX
REFRESH-INTERVAL;VALUE=DURATION:PT1H
X-Robots-Tag:noindex
X-PUBLISHED-TTL:PT1H
BEGIN:VTIMEZONE
TZID:America/New_York
BEGIN:DAYLIGHT
TZOFFSETFROM:-0500
TZOFFSETTO:-0400
TZNAME:EDT
DTSTART:20240310T070000
END:DAYLIGHT
BEGIN:STANDARD
TZOFFSETFROM:-0400
TZOFFSETTO:-0500
TZNAME:EST
DTSTART:20241103T060000
END:STANDARD
BEGIN:DAYLIGHT
TZOFFSETFROM:-0500
TZOFFSETTO:-0400
TZNAME:EDT
DTSTART:20250309T070000
END:DAYLIGHT
BEGIN:STANDARD
TZOFFSETFROM:-0400
TZOFFSETTO:-0500
TZNAME:EST
DTSTART:20251102T060000
END:STANDARD
BEGIN:DAYLIGHT
TZOFFSETFROM:-0500
TZOFFSETTO:-0400
TZNAME:EDT
DTSTART:20260308T070000
END:DAYLIGHT
BEGIN:STANDARD
TZOFFSETFROM:-0400
TZOFFSETTO:-0500
TZNAME:EST
DTSTART:20261101T060000
END:STANDARD
END:VTIMEZONE
BEGIN:VEVENT
DTSTART;TZID=America/New_York:20250812T080000
DTEND;TZID=America/New_York:20250812T120000
DTSTAMP:20260422T155731
CREATED:20250721T194214Z
LAST-MODIFIED:20250721T194214Z
UID:10034225-1754985600-1755000000@metroatlantaexchange.org
SUMMARY:Northside Hospital: Gwinnett Expansion Hiring Event
DESCRIPTION:Northside Hospital is hosting a Gwinnett Expansion Hiring Event on Tuesday\, August 12th\, from 8:00 AM to 12:00 PM\, at Northside Hospital Gwinnett. \nNorthside Hospital is seeking candidates to fill Registered Nurses (RN)\, Respiratory Therapists\, Certified Registered Nurse Anesthetists (CRNA)\, Licensed Practical Nurses (LPN) positions among others for an expansion at the Gwinnett location. On-the-spot interviews and offers will be made. Thrive in a friendly\, empowering culture of excellence at Northside Hospital Gwinnett. \nClick here to learn more and register.
URL:https://metroatlantaexchange.org/event/northside-hospital-gwinnett-expansion-hiring-event/
LOCATION:Northside Hospital – Gwinnett\, 1000 Medical Center Boulevard\, Lawrenceville\, GA\, 30046\, United States
CATEGORIES:In-Person Event,Job Seeker
END:VEVENT
BEGIN:VEVENT
DTSTART;TZID=America/New_York:20250812T081500
DTEND;TZID=America/New_York:20250812T093000
DTSTAMP:20260422T155731
CREATED:20250726T213453Z
LAST-MODIFIED:20250726T213453Z
UID:10034279-1754986500-1754991000@metroatlantaexchange.org
SUMMARY:Greater Hall Chamber of Commerce: Small Business Seminar - Digital Marketing Now: Trends\, Tools and Tactics That Work
DESCRIPTION:Greater Hall Chamber of Commerce is hosting a Small Business Seminar: Digital Marketing Now – Trends\, Tools and Tactics That Work on Tuesday\, August 12th\, from 8:15 AM to 9:30 AM\, at the Greater Hall Chamber of Commerce. \nFeeling overwhelmed by marketing buzzwords or confused by declining website traffic? You’re not alone. Join Robbie Parks\, UGA SBDC in this engaging session\, you’ll discover the top 10 digital marketing trends driving small business success today. From artificial intelligence and generative engine optimization to the enduring power of email marketing\, you’ll learn what actually works\, and what you can safely ignore. Whether you’re looking to cut through the noise\, stay ahead of the curve\, or simply keep up with what’s new\, you’ll leave with clear insights and practical strategies you can put to work right away. \nClick here to learn more and register.
URL:https://metroatlantaexchange.org/event/greater-hall-chamber-of-commerce-small-business-seminar-digital-marketing-now-trends-tools-and-tactics-that-work/
LOCATION:Greater Hall Chamber of Commerce (Gainesville)\, 230 E.E. Butler Parkway\, Gainesville\, 30501\, United States
CATEGORIES:Career Development,In-Person Event,Job Seeker
END:VEVENT
BEGIN:VEVENT
DTSTART;TZID=America/New_York:20250812T090000
DTEND;TZID=America/New_York:20250812T160000
DTSTAMP:20260422T155731
CREATED:20250802T173830Z
LAST-MODIFIED:20250802T173830Z
UID:10034874-1754989200-1755014400@metroatlantaexchange.org
SUMMARY:Goodwill of North Georgia: GED Class
DESCRIPTION: Goodwill of North Georgia is hosting a GED Class every Tuesday\, from 9:00 AM to 4:00 PM\, at the Cornelia Career Center. \nFor more information\, call 706-894-4905. \nClick here to learn more and register.
URL:https://metroatlantaexchange.org/event/goodwill-of-north-georgia-ged-class-3/2025-08-12/
LOCATION:Goodwill of North Georgia – Cornelia Career Center\, 308 Habersham Hills Circle\, Cornelia\, GA\, 30531\, United States
CATEGORIES:Career Development,In-Person Event,Job Seeker
END:VEVENT
BEGIN:VEVENT
DTSTART;TZID=America/New_York:20250812T100000
DTEND;TZID=America/New_York:20250812T130000
DTSTAMP:20260422T155731
CREATED:20250802T140327Z
LAST-MODIFIED:20250802T140327Z
UID:10034710-1754992800-1755003600@metroatlantaexchange.org
SUMMARY:Goodwill of North Georgia: Unifi Hiring Event
DESCRIPTION:Goodwill of North Georgia is hosting a Unifi Hiring Event on Tuesday\, August 12th\, from 10:00 AM to 1:00 PM\, at the Metropolitan Parkway Career Center. \nFor more information\, call 770-795-4204. \nClick here to learn more and register.
URL:https://metroatlantaexchange.org/event/goodwill-of-north-georgia-unifi-hiring-event-4/
LOCATION:Goodwill of North Georgia – Metropolitan Parkway Career Center\, 2160 Metropolitan Parkway\, Atlanta\, GA\, 30315\, United States
CATEGORIES:In-Person Event,Job Seeker
END:VEVENT
BEGIN:VEVENT
DTSTART;TZID=America/New_York:20250812T100000
DTEND;TZID=America/New_York:20250812T140000
DTSTAMP:20260422T155731
CREATED:20250802T134307Z
LAST-MODIFIED:20250802T134307Z
UID:10034708-1754992800-1755007200@metroatlantaexchange.org
SUMMARY:Goodwill of North Georgia: Georgia Department of Corrections Hiring Event
DESCRIPTION:Goodwill of North Georgia is hosting a Georgia Department of Corrections Hiring Event on Tuesday\, August 12th\, from 10:00 AM to 2:00 PM\, at the South DeKalb Career Center. \nFor more information\, call 404-728-8605. \nClick here to learn more and register.
URL:https://metroatlantaexchange.org/event/goodwill-of-north-georgia-georgia-department-of-corrections-hiring-event-3/
LOCATION:Goodwill of North Georgia – South DeKalb Career Center\, 1295 Columbia Drive\, Decatur\, GA\, 30032\, United States
CATEGORIES:In-Person Event,Job Seeker
GEO:33.7510576;-84.2656565
X-APPLE-STRUCTURED-LOCATION;VALUE=URI;X-ADDRESS=Goodwill of North Georgia – South DeKalb Career Center 1295 Columbia Drive Decatur GA 30032 United States;X-APPLE-RADIUS=500;X-TITLE=1295 Columbia Drive:geo:-84.2656565,33.7510576
END:VEVENT
BEGIN:VEVENT
DTSTART;TZID=America/New_York:20250812T100000
DTEND;TZID=America/New_York:20250812T140000
DTSTAMP:20260422T155731
CREATED:20250802T140108Z
LAST-MODIFIED:20250802T140108Z
UID:10034709-1754992800-1755007200@metroatlantaexchange.org
SUMMARY:Goodwill of North Georgia: Job Fair and Food Distribution Event
DESCRIPTION:Goodwill of North Georgia is hosting a Job Fair and Food Distribution Event on Tuesday\, August 12th\, from 10:00 AM to 2:00 PM\, at the South DeKalb Career Center. \nFor more information\, call 404-728-8605. \nClick here to learn more and register.
URL:https://metroatlantaexchange.org/event/goodwill-of-north-georgia-job-fair-and-food-distribution-event/
LOCATION:Goodwill of North Georgia – South DeKalb Career Center\, 1295 Columbia Drive\, Decatur\, GA\, 30032\, United States
CATEGORIES:In-Person Event,Job Seeker
GEO:33.7510576;-84.2656565
X-APPLE-STRUCTURED-LOCATION;VALUE=URI;X-ADDRESS=Goodwill of North Georgia – South DeKalb Career Center 1295 Columbia Drive Decatur GA 30032 United States;X-APPLE-RADIUS=500;X-TITLE=1295 Columbia Drive:geo:-84.2656565,33.7510576
END:VEVENT
BEGIN:VEVENT
DTSTART;TZID=America/New_York:20250812T103000
DTEND;TZID=America/New_York:20250812T143000
DTSTAMP:20260422T155731
CREATED:20250802T172917Z
LAST-MODIFIED:20250802T173007Z
UID:10034811-1754994600-1755009000@metroatlantaexchange.org
SUMMARY:Goodwill of North Georgia: GED Class
DESCRIPTION:Goodwill of North Georgia is hosting a GED Class\, facilitated by Athens Tech\, every Monday through Thursday\, from 10:30 AM to 2:30 PM\, at the East Athens Career Center. \nFor more information\, call 706-395-1558. \nClick here to learn more and register.
URL:https://metroatlantaexchange.org/event/goodwill-of-north-georgia-ged-class-2/2025-08-12/
LOCATION:Goodwill of North Georgia – East Athens Career Center\, 4070 Lexington Road\, Athens\, GA\, 30605\, United States
CATEGORIES:Career Development,In-Person Event,Job Seeker
END:VEVENT
BEGIN:VEVENT
DTSTART;TZID=America/New_York:20250812T110000
DTEND;TZID=America/New_York:20250812T150000
DTSTAMP:20260422T155731
CREATED:20250721T194010Z
LAST-MODIFIED:20250721T194010Z
UID:10034224-1754996400-1755010800@metroatlantaexchange.org
SUMMARY:CareerEco: Farm to Future: Food and Agricultural Sciences Virtual Expo
DESCRIPTION:CareerEco is hosting a Farm to Future: Food and Agricultural Sciences Virtual Expo on Tuesday\, August 12th\, from 11:00 AM to 3:00 PM. \nThis interactive online event connects students\, job seekers\, researchers\, and industry professionals with leading employers\, graduate programs\, and organizations shaping the evolving landscape of food and agricultural sciences. Explore the future of food\, sustainability and agricultural innovation from the comfort of your own home. \nClick here to register.
URL:https://metroatlantaexchange.org/event/careereco-farm-to-future-food-and-agricultural-sciences-virtual-expo/
LOCATION:GA
CATEGORIES:Job Seeker,Virtual Event
ORGANIZER;CN="CareerEco":MAILTO:Events@CareerEco.com
END:VEVENT
BEGIN:VEVENT
DTSTART;TZID=America/New_York:20250812T130000
DTEND;TZID=America/New_York:20250812T140000
DTSTAMP:20260422T155731
CREATED:20250726T213814Z
LAST-MODIFIED:20250726T213814Z
UID:10034281-1755003600-1755007200@metroatlantaexchange.org
SUMMARY:U.S. Patent and Trademark Office (USPTO): A Day in the Life of a USPTO Patent Examiner
DESCRIPTION:The U.S. Patent and Trademark Office (USPTO) is hosting a webinar on A Day in the Life of a USPTO Patent Examiner on Tuesday\, August 12th\, from 1:00 PM to 2:00 PM. \nDo you want a rewarding career? Do you want to use your STEM background to make an impact on the protection of intellectual property and bring ideas to market? Are you interested in public service while shaping the future of patent examination and advancing key processes? We recruit the most promising at America’s Innovation Agency\, and we encourage you to take the step forward in your journey today by joining us for this live event on becoming a patent examiner. \nClick here to register.
URL:https://metroatlantaexchange.org/event/u-s-patent-and-trademark-office-uspto-a-day-in-the-life-of-a-uspto-patent-examiner/
LOCATION:GA
CATEGORIES:Career Development,Job Seeker,Virtual Event
END:VEVENT
BEGIN:VEVENT
DTSTART;TZID=America/New_York:20250812T130000
DTEND;TZID=America/New_York:20250812T150000
DTSTAMP:20260422T155731
CREATED:20250721T195929Z
LAST-MODIFIED:20250721T195929Z
UID:10034233-1755003600-1755010800@metroatlantaexchange.org
SUMMARY:Atlanta Center for Self Sufficiency (ACSS): Elevate - Get Started! Get Training! Get Hired! Program
DESCRIPTION:The Atlanta Center for Self Sufficiency (ACSS) is hosting Elevate: Get Started! Get Trained! Get Hired! every Tuesday\, from 1:00 PM to 3:00 PM at Forest Park Elevate. \nElevate is a free\, comprehensive workforce development program supporting individuals experiencing homelessness\, unemployed or underemployed residents of Forest Park. This session will introduce you to the many services available\, including training\, career coaching\, and job placement\, with support every step of the way. \nClick here to learn more and register.
URL:https://metroatlantaexchange.org/event/atlanta-center-for-self-sufficiency-acss-elevate-get-started-get-training-get-hired-program/2025-08-12/
LOCATION:Elevate – Forest Park Office\, 819 Forest Parkway\, Suite D\, Forest Park\, GA\, 30297\, United States
CATEGORIES:Career Development,In-Person Event,Job Seeker
END:VEVENT
BEGIN:VEVENT
DTSTART;TZID=America/New_York:20250812T180000
DTEND;TZID=America/New_York:20250812T190000
DTSTAMP:20260422T155731
CREATED:20250721T200729Z
LAST-MODIFIED:20250721T200729Z
UID:10034241-1755021600-1755025200@metroatlantaexchange.org
SUMMARY:Fulton County Library System: Computer Class
DESCRIPTION:The Fulton County Library System is hosting a Computer Class every Tuesday\, from 6:00 PM to 7:00 PM\, at the Gladys S. Dennard Library. \nJoin us for an exciting session designed to boost your digital skills! Whether you’re looking to master your computer\, navigate the internet\, or make the most of your mobile devices and e-readers. \nClick here to learn more and register.
URL:https://metroatlantaexchange.org/event/fulton-county-library-system-computer-class/2025-08-12/
LOCATION:Gladys S. Dennard Library\, 4055 Flat Shoals Road\, Union City\, GA\, 30291\, United States
CATEGORIES:Career Development,In-Person Event,Job Seeker
END:VEVENT
BEGIN:VEVENT
DTSTART;TZID=America/New_York:20250812T190000
DTEND;TZID=America/New_York:20250812T200000
DTSTAMP:20260422T155731
CREATED:20250726T213625Z
LAST-MODIFIED:20250726T213625Z
UID:10034280-1755025200-1755028800@metroatlantaexchange.org
SUMMARY:Hiring Our Heroes: Corporate Fellowship Program Information Session
DESCRIPTION:Hiring Our Heroes is hosting a Corporate Fellowship Program Information Session on Tuesday\, August 12th\, starting at 7:00 PM. \nWe invite transitioning service members to learn more about our SkillBridge fellowships\, which provide professional training and hands-on experience in the civilian workforce. These fellowships are designed to prepare you for a smooth transition into meaningful civilian careers. \nClick here to learn more and register.
URL:https://metroatlantaexchange.org/event/hiring-our-heroes-corporate-fellowship-program-information-session-5/
LOCATION:GA
CATEGORIES:Career Development,Job Seeker,Veterans/Military,Virtual Event
END:VEVENT
END:VCALENDAR