BEGIN:VCALENDAR
VERSION:2.0
PRODID:-//MAX - ECPv6.15.17.1//NONSGML v1.0//EN
CALSCALE:GREGORIAN
METHOD:PUBLISH
X-WR-CALNAME:MAX
X-ORIGINAL-URL:https://metroatlantaexchange.org
X-WR-CALDESC:Events for MAX
REFRESH-INTERVAL;VALUE=DURATION:PT1H
X-Robots-Tag:noindex
X-PUBLISHED-TTL:PT1H
BEGIN:VTIMEZONE
TZID:America/New_York
BEGIN:DAYLIGHT
TZOFFSETFROM:-0500
TZOFFSETTO:-0400
TZNAME:EDT
DTSTART:20240310T070000
END:DAYLIGHT
BEGIN:STANDARD
TZOFFSETFROM:-0400
TZOFFSETTO:-0500
TZNAME:EST
DTSTART:20241103T060000
END:STANDARD
BEGIN:DAYLIGHT
TZOFFSETFROM:-0500
TZOFFSETTO:-0400
TZNAME:EDT
DTSTART:20250309T070000
END:DAYLIGHT
BEGIN:STANDARD
TZOFFSETFROM:-0400
TZOFFSETTO:-0500
TZNAME:EST
DTSTART:20251102T060000
END:STANDARD
BEGIN:DAYLIGHT
TZOFFSETFROM:-0500
TZOFFSETTO:-0400
TZNAME:EDT
DTSTART:20260308T070000
END:DAYLIGHT
BEGIN:STANDARD
TZOFFSETFROM:-0400
TZOFFSETTO:-0500
TZNAME:EST
DTSTART:20261101T060000
END:STANDARD
END:VTIMEZONE
BEGIN:VEVENT
DTSTART;TZID=America/New_York:20250814T100000
DTEND;TZID=America/New_York:20250814T130000
DTSTAMP:20260422T123225
CREATED:20250802T140936Z
LAST-MODIFIED:20250802T140936Z
UID:10034713-1755165600-1755176400@metroatlantaexchange.org
SUMMARY:Goodwill of North Georgia: Back-to-School Career and Resource Fair
DESCRIPTION:Goodwill of North Georgia is hosting a Back-to-School Career and Resource Fair on Thursday\, August 14th\, from 10:00 AM to 1:00 PM\, at the Metropolitan Parkway Career Center. \nFor more information\, call 770-795-4204. \nClick here to learn more and register.
URL:https://metroatlantaexchange.org/event/goodwill-of-north-georgia-back-to-school-career-and-resource-fair/
LOCATION:Goodwill of North Georgia – Metropolitan Parkway Career Center\, 2160 Metropolitan Parkway\, Atlanta\, GA\, 30315\, United States
CATEGORIES:In-Person Event,Job Seeker
END:VEVENT
BEGIN:VEVENT
DTSTART;TZID=America/New_York:20250814T100000
DTEND;TZID=America/New_York:20250814T130000
DTSTAMP:20260422T123225
CREATED:20250802T141202Z
LAST-MODIFIED:20250802T141202Z
UID:10034714-1755165600-1755176400@metroatlantaexchange.org
SUMMARY:Goodwill of North Georgia: Fall Into Your Career Job and Resource Fair
DESCRIPTION:Goodwill of North Georgia is hosting a Fall Into Your Career Job and Resource Fair on Thursday\, August 14th\, from 10:00 AM to 1:00 PM\, at the East Athens Career Center. \nFor more information\, call 706-395-1558. \nClick here to learn more and register.
URL:https://metroatlantaexchange.org/event/goodwill-of-north-georgia-fall-into-your-career-job-and-resource-fair/
LOCATION:Goodwill of North Georgia – East Athens Career Center\, 4070 Lexington Road\, Athens\, GA\, 30605\, United States
CATEGORIES:In-Person Event,Job Seeker
END:VEVENT
BEGIN:VEVENT
DTSTART;TZID=America/New_York:20250814T100000
DTEND;TZID=America/New_York:20250814T140000
DTSTAMP:20260422T123225
CREATED:20250721T195159Z
LAST-MODIFIED:20250721T195159Z
UID:10034229-1755165600-1755180000@metroatlantaexchange.org
SUMMARY:Georgia Department of Juvenile Justice (DJJ): Metro Atlanta Career Fair
DESCRIPTION:The Georgia Department of Juvenile Justice (DJJ) is hosting a Metro Atlanta Career Fair on Thursday\, August 14th\, from 10:00 AM to 2:00 PM\, at the Georgia Department of Juvenile Justice. \nAre you searching for the perfect job? The DJJ Metro Atlanta Job Fair is here to help you take the next step in your career as a Correctional Officer\, Probation/Parole Specialist\, Teacher\, Housekeeper\, or Food Service Worker. On-site interviews will be conducted as well as same-day contingent hiring. \nClick here to learn more and register.
URL:https://metroatlantaexchange.org/event/georgia-department-of-juvenile-justice-djj-metro-atlanta-career-fair/
LOCATION:Georgia Department of Juvenile Justice – Decatur Office\, 3408 Covington Highway\,\, Decatur\, Georgia\, 30032
CATEGORIES:In-Person Event,Job Seeker
END:VEVENT
BEGIN:VEVENT
DTSTART;TZID=America/New_York:20250814T100000
DTEND;TZID=America/New_York:20250814T150000
DTSTAMP:20260422T123225
CREATED:20250721T194952Z
LAST-MODIFIED:20250721T194952Z
UID:10034228-1755165600-1755183600@metroatlantaexchange.org
SUMMARY:City of Forest Park: Job Fair
DESCRIPTION:The City of Forest Park is hosting a Job Fair on Thursday\, August 14th\, from 10:00 AM to 3:00 PM at the City of Forest Park Recreation Center. \nWhether you’re looking for your first job or a career change\, this event is for you! Meet with local employers\, submit your resume\, and get hired! Don’t miss this chance to take the next step in your career. \nClick here to learn more and register.
URL:https://metroatlantaexchange.org/event/city-of-forest-park-job-fair/
LOCATION:City of Forest Park Recreation Center\, 803 Forest Parkway\, Forest Park\, GA\, 30297\, United States
CATEGORIES:In-Person Event,Job Seeker
END:VEVENT
BEGIN:VEVENT
DTSTART;TZID=America/New_York:20250814T103000
DTEND;TZID=America/New_York:20250814T143000
DTSTAMP:20260422T123225
CREATED:20250802T172917Z
LAST-MODIFIED:20250802T173007Z
UID:10034813-1755167400-1755181800@metroatlantaexchange.org
SUMMARY:Goodwill of North Georgia: GED Class
DESCRIPTION:Goodwill of North Georgia is hosting a GED Class\, facilitated by Athens Tech\, every Monday through Thursday\, from 10:30 AM to 2:30 PM\, at the East Athens Career Center. \nFor more information\, call 706-395-1558. \nClick here to learn more and register.
URL:https://metroatlantaexchange.org/event/goodwill-of-north-georgia-ged-class-2/2025-08-14/
LOCATION:Goodwill of North Georgia – East Athens Career Center\, 4070 Lexington Road\, Athens\, GA\, 30605\, United States
CATEGORIES:Career Development,In-Person Event,Job Seeker
END:VEVENT
BEGIN:VEVENT
DTSTART;TZID=America/New_York:20250814T110000
DTEND;TZID=America/New_York:20250814T120000
DTSTAMP:20260422T123225
CREATED:20250726T204830Z
LAST-MODIFIED:20250726T204830Z
UID:10034254-1755169200-1755172800@metroatlantaexchange.org
SUMMARY:Goodwill of North Georgia: Goodwill Training Program Information Session
DESCRIPTION:Goodwill of North Georgia is hosting a Goodwill Training Program Information Session every Thursday\, from 11:00 AM to 12:00 PM\, at the Pleasant Hill Career Center. \nFor more information\, call 770-564-2447. \nClick here to learn more and register.
URL:https://metroatlantaexchange.org/event/goodwill-of-north-georgia-goodwill-training-program-information-session/2025-08-14/
LOCATION:Goodwill of North Georgia – Pleasant Hill Career Center\, 1502 Pleasant Hill Road\, Duluth\, GA\, 30096\, United States
CATEGORIES:Career Development,In-Person Event,Job Seeker
GEO:33.9429794;-84.121643
X-APPLE-STRUCTURED-LOCATION;VALUE=URI;X-ADDRESS=Goodwill of North Georgia – Pleasant Hill Career Center 1502 Pleasant Hill Road Duluth GA 30096 United States;X-APPLE-RADIUS=500;X-TITLE=1502 Pleasant Hill Road:geo:-84.121643,33.9429794
END:VEVENT
BEGIN:VEVENT
DTSTART;TZID=America/New_York:20250814T110000
DTEND;TZID=America/New_York:20250814T130000
DTSTAMP:20260422T123225
CREATED:20250802T141326Z
LAST-MODIFIED:20250802T141326Z
UID:10034715-1755169200-1755176400@metroatlantaexchange.org
SUMMARY:Goodwill of North Georgia: Job and Resource Fair
DESCRIPTION:Goodwill of North Georgia is hosting a Job and Resource Fair on Thursday\, August 14th\, from 11:00 AM to 1:00 PM\, at the Pleasant Hill Career Center. \nFor more information\, call 770-564-2447. \nClick here to learn more and register.
URL:https://metroatlantaexchange.org/event/goodwill-of-north-georgia-job-and-resource-fair-9/
LOCATION:Goodwill of North Georgia – Pleasant Hill Career Center\, 1502 Pleasant Hill Road\, Duluth\, GA\, 30096\, United States
CATEGORIES:In-Person Event,Job Seeker
GEO:33.9429794;-84.121643
X-APPLE-STRUCTURED-LOCATION;VALUE=URI;X-ADDRESS=Goodwill of North Georgia – Pleasant Hill Career Center 1502 Pleasant Hill Road Duluth GA 30096 United States;X-APPLE-RADIUS=500;X-TITLE=1502 Pleasant Hill Road:geo:-84.121643,33.9429794
END:VEVENT
BEGIN:VEVENT
DTSTART;TZID=America/New_York:20250814T110000
DTEND;TZID=America/New_York:20250814T140000
DTSTAMP:20260422T123225
CREATED:20250511T190257Z
LAST-MODIFIED:20250511T190257Z
UID:10033789-1755169200-1755180000@metroatlantaexchange.org
SUMMARY:Choice Career Fairs: Atlanta Career Fair
DESCRIPTION:Choice Career Fairs is hosting an Atlanta Career Fair on Thursday\, August 14th\, from 11:00 AM to 2:00 PM\, at the Hilton Garden Inn Atlanta Perimeter Center. \nDon’t miss your chance to meet face-to-face with hiring decision makers from some of the areas top employers. Dress professionally and bring plenty of resumes. \nClick here to learn more and register.
URL:https://metroatlantaexchange.org/event/choice-career-fairs-atlanta-career-fair-2/
LOCATION:Hilton Garden Inn Atlanta Perimeter Center\, 1501 Lake Hearn Drive\, Atlanta\, GA\, 30319\, United States
CATEGORIES:In-Person Event,Job Seeker
GEO:33.9161449;-84.3393329
X-APPLE-STRUCTURED-LOCATION;VALUE=URI;X-ADDRESS=Hilton Garden Inn Atlanta Perimeter Center 1501 Lake Hearn Drive Atlanta GA 30319 United States;X-APPLE-RADIUS=500;X-TITLE=1501 Lake Hearn Drive:geo:-84.3393329,33.9161449
END:VEVENT
BEGIN:VEVENT
DTSTART;TZID=America/New_York:20250814T110000
DTEND;TZID=America/New_York:20250814T150000
DTSTAMP:20260422T123225
CREATED:20250710T190634Z
LAST-MODIFIED:20250710T190634Z
UID:10034172-1755169200-1755183600@metroatlantaexchange.org
SUMMARY:JobFairX: Atlanta Diversity Virtual Job Fair
DESCRIPTION:JobFairX is hosting an Atlanta Diversity Virtual Job Fair Thursday\, August 14th\, from 11:00 AM to 3:00 PM. \nAt JobFairX\, we match job seekers like you with employers who have registered for the virtual job fair. When you sign up and create a profile\, we collect information about your qualifications\, skills\, and preferences. Our advanced matching algorithm analyzes this data to identify suitable job opportunities. If your qualifications align with a job\, you’ll receive an email invitation to schedule an interview with the employer during the fair. Our streamlined process saves you time on your job search. \nClick here to register.
URL:https://metroatlantaexchange.org/event/jobfairx-atlanta-diversity-virtual-job-fair-7/
LOCATION:GA
CATEGORIES:Job Seeker,Virtual Event
END:VEVENT
BEGIN:VEVENT
DTSTART;TZID=America/New_York:20250814T110000
DTEND;TZID=America/New_York:20250814T150000
DTSTAMP:20260422T123225
CREATED:20250726T214235Z
LAST-MODIFIED:20250726T214235Z
UID:10034282-1755169200-1755183600@metroatlantaexchange.org
SUMMARY:CareerEco: AI and Automation Virtual Career and Grad Summit
DESCRIPTION:CareerEco is hosting an AI and Automation Virtual Career and Grad Summit on Thursday\, August 14th\, from 11:00 AM to 3:00 PM. \nThis event will connect students\, recent graduates and professionals with employers and graduate programs in Artificial Intelligence\, Machine Learning\, Data Science and related fields. Explore full-time roles\, internships and advanced degree opportunities in one of the fastest-growing tech sectors. \nClick here to register.
URL:https://metroatlantaexchange.org/event/careereco-ai-and-automation-virtual-career-and-grad-summit-2/
LOCATION:GA
CATEGORIES:Career Development,Job Seeker,Virtual Event
ORGANIZER;CN="CareerEco":MAILTO:Events@CareerEco.com
END:VEVENT
BEGIN:VEVENT
DTSTART;TZID=America/New_York:20250814T120000
DTEND;TZID=America/New_York:20250814T130000
DTSTAMP:20260422T123225
CREATED:20250726T215029Z
LAST-MODIFIED:20250726T215029Z
UID:10034285-1755172800-1755176400@metroatlantaexchange.org
SUMMARY:G.I Jobs: Veteran Get Hired Virtual Workshop
DESCRIPTION:G.I Jobs is hosting a Veteran Get Hired Virtual Workshop on Thursday\, August 14th\, from 12:00 PM to 1:00 PM. \nThere will be a panel discussion with insider tips on getting noticed and getting hired from today’s biggest brands during this free live Zoom event. Recruiter secrets will be revealed\, so don’t miss this opportunity! \nClick here to learn more and register.
URL:https://metroatlantaexchange.org/event/g-i-jobs-veteran-get-hired-virtual-workshop/
LOCATION:GA
CATEGORIES:Career Development,Job Seeker,Veterans/Military,Virtual Event
END:VEVENT
BEGIN:VEVENT
DTSTART;TZID=America/New_York:20250814T120000
DTEND;TZID=America/New_York:20250814T130000
DTSTAMP:20260422T123225
CREATED:20250802T181903Z
LAST-MODIFIED:20250802T181903Z
UID:10034907-1755172800-1755176400@metroatlantaexchange.org
SUMMARY:Transitions Careers: Career Conversations - Reconnecting with your Values
DESCRIPTION:Transitions Careers is hosting a Career Conversations: Reconnecting with your Values webinar on Thursday\, August 14th\, from 12:00 PM to 1:00 PM. \nThis session is part of a series of Career Conversations – free\, small-group sessions designed to help you navigate the twists and turns of your midlife career journey; not alone\, but with others who get it. Whether you’re questioning what’s next\, quietly dreaming about a change\, or just feeling a little stuck – this is a place to connect\, share\, and hear from others walking a similar path. Think of it as a judgment-free space to press pause and be in conversation with others who are asking similar questions. \nThese sessions are guided\, but informal opportunities to reflect\, connect\, and know you’re not alone in whatever career transition you’re facing or considering. It is our hope and intention that you’ll leave feeling heard\, encouraged\, a little more grounded and perhaps ready to take the next small\, brave step toward the career (and life) you’ve been quietly imagining. \nClick here to learn more and register.
URL:https://metroatlantaexchange.org/event/transitions-careers-career-conversations-reconnecting-with-your-values/
LOCATION:GA
CATEGORIES:Career Development,Job Seeker,Virtual Event
END:VEVENT
BEGIN:VEVENT
DTSTART;TZID=America/New_York:20250814T140000
DTEND;TZID=America/New_York:20250814T150000
DTSTAMP:20260422T123225
CREATED:20250726T215204Z
LAST-MODIFIED:20250726T215204Z
UID:10034286-1755180000-1755183600@metroatlantaexchange.org
SUMMARY:Job Search Academy: Behind the Curtain
DESCRIPTION:Job Search Academy is hosting a Behind the Curtain webinar on Thursday\, August 14th\, starting at 2:00 PM. \nHave you ever wondered what goes on behind the scenes when you apply for a job? Join Indeed Career Strategist\, Nykky Robinson\, alongside a panel of experienced recruiters for an insightful discussion on what actually happens during recruiting processes. Together\, we will pull back the curtain\, revealing key aspects of hiring\, while providing practical tips to help you shine and clearly demonstrate your unique value to potential employers. \nClick here to learn more and register.
URL:https://metroatlantaexchange.org/event/job-search-academy-behind-the-curtain/
LOCATION:GA
CATEGORIES:Career Development,Job Seeker,Virtual Event
END:VEVENT
BEGIN:VEVENT
DTSTART;TZID=America/New_York:20250814T160000
DTEND;TZID=America/New_York:20250814T180000
DTSTAMP:20260422T123225
CREATED:20250726T214829Z
LAST-MODIFIED:20250726T214829Z
UID:10034284-1755187200-1755194400@metroatlantaexchange.org
SUMMARY:CareerClub: Healthcare Career Connections Virtual Networking Event - Atlanta
DESCRIPTION:CareerClub is hosting a Healthcare Career Connections Virtual Networking Event – Atlanta on Thursday\, August 14th\, from 4:00 PM to 6:00 PM. \nAre you a healthcare or nursing professional looking to expand your professional network\, exchange insights\, and explore new career pathways? The Healthcare Career Connections event is a virtual networking experience designed to bring together healthcare professionals\, industry leaders\, and peers for meaningful discussions\, collaborations\, and career growth. This event provides a space to connect with like-minded professionals\, gain industry insights\, and discuss the latest trends in healthcare and nursing. Whether you’re a nurse\, physician\, therapist\, administrator\, or medical professional\, this is an opportunity to build valuable relationships that can shape your career journey. \nClick here to learn more and register.
URL:https://metroatlantaexchange.org/event/careerclub-healthcare-career-connections-virtual-networking-event-atlanta/
LOCATION:GA
CATEGORIES:Career Development,Job Seeker,Virtual Event
END:VEVENT
BEGIN:VEVENT
DTSTART;TZID=America/New_York:20250814T160000
DTEND;TZID=America/New_York:20250814T190000
DTSTAMP:20260422T123225
CREATED:20250802T141607Z
LAST-MODIFIED:20250802T141607Z
UID:10034716-1755187200-1755198000@metroatlantaexchange.org
SUMMARY:Northside Hospital: Oncology RN and LPN Recruiting Event
DESCRIPTION:Northside Hospital is hosting an Oncology RN and LPN Recruiting Event on Thursday\, August 14th\, from 4:00 PM to 7:00 PM\, at the HobNob Neighborhood Tavern. \nJoin one of the nation’s largest cancer care programs at Northside Hospital. We diagnose and treat more new cancer cases than any other community health system in Georgia. Register now for your onsite interview. Be sure to ask about our culture of work-life harmony\, career development opportunities\, and exceptional benefits! \nClick here to learn more and register.
URL:https://metroatlantaexchange.org/event/northside-hospital-oncology-rn-and-lpn-recruiting-event/
LOCATION:HOBNOB Neighborhood Tavern\, 6690 Town Square\, #420\, Alpharetta\, GA\, 30005\, United States
CATEGORIES:In-Person Event,Job Seeker
END:VEVENT
END:VCALENDAR