BEGIN:VCALENDAR
VERSION:2.0
PRODID:-//MAX - ECPv6.15.17.1//NONSGML v1.0//EN
CALSCALE:GREGORIAN
METHOD:PUBLISH
X-ORIGINAL-URL:https://metroatlantaexchange.org
X-WR-CALDESC:Events for MAX
REFRESH-INTERVAL;VALUE=DURATION:PT1H
X-Robots-Tag:noindex
X-PUBLISHED-TTL:PT1H
BEGIN:VTIMEZONE
TZID:America/New_York
BEGIN:DAYLIGHT
TZOFFSETFROM:-0500
TZOFFSETTO:-0400
TZNAME:EDT
DTSTART:20240310T070000
END:DAYLIGHT
BEGIN:STANDARD
TZOFFSETFROM:-0400
TZOFFSETTO:-0500
TZNAME:EST
DTSTART:20241103T060000
END:STANDARD
BEGIN:DAYLIGHT
TZOFFSETFROM:-0500
TZOFFSETTO:-0400
TZNAME:EDT
DTSTART:20250309T070000
END:DAYLIGHT
BEGIN:STANDARD
TZOFFSETFROM:-0400
TZOFFSETTO:-0500
TZNAME:EST
DTSTART:20251102T060000
END:STANDARD
BEGIN:DAYLIGHT
TZOFFSETFROM:-0500
TZOFFSETTO:-0400
TZNAME:EDT
DTSTART:20260308T070000
END:DAYLIGHT
BEGIN:STANDARD
TZOFFSETFROM:-0400
TZOFFSETTO:-0500
TZNAME:EST
DTSTART:20261101T060000
END:STANDARD
END:VTIMEZONE
BEGIN:VEVENT
DTSTART;TZID=America/New_York:20250818T090000
DTEND;TZID=America/New_York:20250818T100000
DTSTAMP:20260422T175627
CREATED:20250726T215403Z
LAST-MODIFIED:20250726T215403Z
UID:10034287-1755507600-1755511200@metroatlantaexchange.org
SUMMARY:American Professional Online Association (APROLA): E-Business Opportunities - Start Your Digital Journey
DESCRIPTION:The American Professional Online Association (APROLA) is hosting an E-Business Opportunities: Start Your Digital Journey event on Monday\, August 18th\, starting at 9:00 AM\, at Industrious. \nThis is a free event. Learn how to turn your ideas into a profitable online business. This exciting workshop reveals the hottest digital opportunities and shows complete beginners how to start making money online. \nClick here to learn more and register.
URL:https://metroatlantaexchange.org/event/american-professional-online-association-aprola-e-business-opportunities-start-your-digital-journey-2/
LOCATION:Industrious\, 7000 Central Parkway\, Suite #1100\, Sandy Springs\, GA\, 30328\, United States
CATEGORIES:Career Development,In-Person Event,Job Seeker
END:VEVENT
BEGIN:VEVENT
DTSTART;TZID=America/New_York:20250818T093000
DTEND;TZID=America/New_York:20250818T103000
DTSTAMP:20260422T175627
CREATED:20250802T182316Z
LAST-MODIFIED:20250802T182316Z
UID:10034909-1755509400-1755513000@metroatlantaexchange.org
SUMMARY:Atlanta Center for Self Sufficiency: CareerWorks Orientation
DESCRIPTION:The Atlanta Center for Self Sufficiency is hosting a CareerWorks Orientation on Monday\, August 18th\, starting at 9:30 AM\, at Families First. \nJoin us for an informative session to kickstart your career journey. Our orientation will outline services and resources designed to help you navigate the job market successfully. Whether you’re unemployed\, a recent graduate\, considering a career change\, or looking to enhance your skills… the CareerWorks Orientation is the perfect place to start. Don’t miss out on this chance to take the next step towards your dream job! \nClick here to learn more and register.
URL:https://metroatlantaexchange.org/event/atlanta-center-for-self-sufficiency-careerworks-orientation-2/
LOCATION:Families First\, 80 Joseph E. Lowery Boulevard\, NW\, Atlanta\, 30314\, United States
CATEGORIES:Career Development,In-Person Event,Job Seeker
END:VEVENT
BEGIN:VEVENT
DTSTART;TZID=America/New_York:20250818T100000
DTEND;TZID=America/New_York:20250818T110000
DTSTAMP:20260422T175627
CREATED:20250802T182426Z
LAST-MODIFIED:20250802T182426Z
UID:10034910-1755511200-1755514800@metroatlantaexchange.org
SUMMARY:Goodwill of North Georgia: Basic Computer Skills Class
DESCRIPTION:Goodwill of North Georgia is hosting a Basic Computer Skills Class on Monday\, August 18th\, from 10:00 AM to 11:00 AM\, at the Metropolitan Parkway Career Center. \nFor more information\, call 770-795-4204. \nClick here to learn more and register.
URL:https://metroatlantaexchange.org/event/goodwill-of-north-georgia-basic-computer-skills-class-2/
LOCATION:Goodwill of North Georgia – Metropolitan Parkway Career Center\, 2160 Metropolitan Parkway\, Atlanta\, GA\, 30315\, United States
CATEGORIES:Career Development,In-Person Event,Job Seeker
END:VEVENT
BEGIN:VEVENT
DTSTART;TZID=America/New_York:20250818T100000
DTEND;TZID=America/New_York:20250818T110000
DTSTAMP:20260422T175627
CREATED:20250802T182543Z
LAST-MODIFIED:20250802T182543Z
UID:10034911-1755511200-1755514800@metroatlantaexchange.org
SUMMARY:Jewish Family and Career Services: Virtual Resume Workshop
DESCRIPTION:Jewish Family and Career Services is hosting a Virtual Resume Workshop on Monday\, August 18th\, from 10:00 AM to 11:00 AM. \nLearn how to create an effective resume or improve the one you already have. Transform your resume into a powerful tool. This workshop will identify the different parts of a resume and their purpose\, create a master profile of core competences and accomplishments and provide a checklist of resume do’s and don’ts. It will also help you develop a cover letter to accompany your resume. \nClick here to register via Zoom.
URL:https://metroatlantaexchange.org/event/jewish-family-and-career-services-virtual-resume-workshop-2/
LOCATION:GA
CATEGORIES:Career Development,Job Seeker,Virtual Event
ORGANIZER;CN="Jewish Family and Career Services":MAILTO:info@jfcsatl.org
END:VEVENT
BEGIN:VEVENT
DTSTART;TZID=America/New_York:20250818T103000
DTEND;TZID=America/New_York:20250818T113000
DTSTAMP:20260422T175627
CREATED:20250802T173236Z
LAST-MODIFIED:20250802T173328Z
UID:10034853-1755513000-1755516600@metroatlantaexchange.org
SUMMARY:Goodwill of North Georgia: Training Information Session
DESCRIPTION:Goodwill of North Georgia is hosting a Training Information Session every Monday\, from 10:30 AM to 11:30 AM\, at the East Athens Career Center. \nFor more information\, call 706-395-1558. \nClick here to learn more and register.
URL:https://metroatlantaexchange.org/event/goodwill-of-north-georgia-training-information-session/2025-08-18/
LOCATION:Goodwill of North Georgia – East Athens Career Center\, 4070 Lexington Road\, Athens\, GA\, 30605\, United States
CATEGORIES:Career Development,In-Person Event,Job Seeker
END:VEVENT
BEGIN:VEVENT
DTSTART;TZID=America/New_York:20250818T103000
DTEND;TZID=America/New_York:20250818T143000
DTSTAMP:20260422T175627
CREATED:20250802T172917Z
LAST-MODIFIED:20250802T173007Z
UID:10034814-1755513000-1755527400@metroatlantaexchange.org
SUMMARY:Goodwill of North Georgia: GED Class
DESCRIPTION:Goodwill of North Georgia is hosting a GED Class\, facilitated by Athens Tech\, every Monday through Thursday\, from 10:30 AM to 2:30 PM\, at the East Athens Career Center. \nFor more information\, call 706-395-1558. \nClick here to learn more and register.
URL:https://metroatlantaexchange.org/event/goodwill-of-north-georgia-ged-class-2/2025-08-18/
LOCATION:Goodwill of North Georgia – East Athens Career Center\, 4070 Lexington Road\, Athens\, GA\, 30605\, United States
CATEGORIES:Career Development,In-Person Event,Job Seeker
END:VEVENT
BEGIN:VEVENT
DTSTART;TZID=America/New_York:20250818T110000
DTEND;TZID=America/New_York:20250818T130000
DTSTAMP:20260422T175627
CREATED:20250802T173513Z
LAST-MODIFIED:20250802T173513Z
UID:10034862-1755514800-1755522000@metroatlantaexchange.org
SUMMARY:Goodwill of North Georgia: On-Site Resume Assistance Workshop
DESCRIPTION:Goodwill of North Georgia is hosting an On-Site Resume Assistance Workshop every Monday\, from 11:00 AM to 1:00 PM\, at the South DeKalb Career Center. \nFor more information\, call 404-728-8605. \nClick here to learn more and register.
URL:https://metroatlantaexchange.org/event/goodwill-of-north-georgia-on-site-resume-assistance-workshop-2/2025-08-18/
LOCATION:Goodwill of North Georgia – South DeKalb Career Center\, 1295 Columbia Drive\, Decatur\, GA\, 30032\, United States
CATEGORIES:Career Development,In-Person Event,Job Seeker
GEO:33.7510576;-84.2656565
X-APPLE-STRUCTURED-LOCATION;VALUE=URI;X-ADDRESS=Goodwill of North Georgia – South DeKalb Career Center 1295 Columbia Drive Decatur GA 30032 United States;X-APPLE-RADIUS=500;X-TITLE=1295 Columbia Drive:geo:-84.2656565,33.7510576
END:VEVENT
END:VCALENDAR