BEGIN:VCALENDAR
VERSION:2.0
PRODID:-//MAX - ECPv6.15.17.1//NONSGML v1.0//EN
CALSCALE:GREGORIAN
METHOD:PUBLISH
X-ORIGINAL-URL:https://metroatlantaexchange.org
X-WR-CALDESC:Events for MAX
REFRESH-INTERVAL;VALUE=DURATION:PT1H
X-Robots-Tag:noindex
X-PUBLISHED-TTL:PT1H
BEGIN:VTIMEZONE
TZID:America/New_York
BEGIN:DAYLIGHT
TZOFFSETFROM:-0500
TZOFFSETTO:-0400
TZNAME:EDT
DTSTART:20240310T070000
END:DAYLIGHT
BEGIN:STANDARD
TZOFFSETFROM:-0400
TZOFFSETTO:-0500
TZNAME:EST
DTSTART:20241103T060000
END:STANDARD
BEGIN:DAYLIGHT
TZOFFSETFROM:-0500
TZOFFSETTO:-0400
TZNAME:EDT
DTSTART:20250309T070000
END:DAYLIGHT
BEGIN:STANDARD
TZOFFSETFROM:-0400
TZOFFSETTO:-0500
TZNAME:EST
DTSTART:20251102T060000
END:STANDARD
BEGIN:DAYLIGHT
TZOFFSETFROM:-0500
TZOFFSETTO:-0400
TZNAME:EDT
DTSTART:20260308T070000
END:DAYLIGHT
BEGIN:STANDARD
TZOFFSETFROM:-0400
TZOFFSETTO:-0500
TZNAME:EST
DTSTART:20261101T060000
END:STANDARD
END:VTIMEZONE
BEGIN:VEVENT
DTSTART;TZID=America/New_York:20250822T100000
DTEND;TZID=America/New_York:20250822T180000
DTSTAMP:20260422T155814
CREATED:20250802T144813Z
LAST-MODIFIED:20250802T144813Z
UID:10034730-1755856800-1755885600@metroatlantaexchange.org
SUMMARY:CareerTown: Georgia Virtual Job Fair
DESCRIPTION:CareerTown\, in partnership with Champions of Diversity\, is hosting a Georgia Virtual Job Fair on Thursday\, August 21st and Friday\, August 22nd\, from 10:00 AM to 6:00 PM each day. \nThis unique\, virtual career fair experience will allow participants to connect and communicate in real-time with recruiters personally. Explore multiple industries and opportunities in one place during this free event. \nClick here to learn more and register.
URL:https://metroatlantaexchange.org/event/careertown-georgia-virtual-job-fair/2025-08-22/
LOCATION:GA
CATEGORIES:Job Seeker,Virtual Event
END:VEVENT
BEGIN:VEVENT
DTSTART;TZID=America/New_York:20250822T110000
DTEND;TZID=America/New_York:20250822T130000
DTSTAMP:20260422T155814
CREATED:20250726T220845Z
LAST-MODIFIED:20250726T220845Z
UID:10034295-1755860400-1755867600@metroatlantaexchange.org
SUMMARY:Goodwill of North Georgia: In-Person Resume and Computer Basics Workshop
DESCRIPTION:Goodwill of North Georgia is hosting an In-Person Resume and Computer Basics Workshop on Friday\, August 22nd\, from 11:00 AM to 1:00 PM\, at the East Athens Career Center. \nFor more information\, call 706-395-1558. \nClick here to learn more and register.
URL:https://metroatlantaexchange.org/event/goodwill-of-north-georgia-in-person-resume-and-computer-basics-workshop-2/
LOCATION:Goodwill of North Georgia – East Athens Career Center\, 4070 Lexington Road\, Athens\, GA\, 30605\, United States
CATEGORIES:Career Development,In-Person Event,Job Seeker
END:VEVENT
BEGIN:VEVENT
DTSTART;TZID=America/New_York:20250822T110000
DTEND;TZID=America/New_York:20250822T130000
DTSTAMP:20260422T155814
CREATED:20250802T180154Z
LAST-MODIFIED:20250802T180305Z
UID:10034891-1755860400-1755867600@metroatlantaexchange.org
SUMMARY:Goodwill of North Georgia: On-Site Application Assistance Workshop
DESCRIPTION:Goodwill of North Georgia is hosting an On-Site Application Assistance Workshop every Friday\, from 11:00 AM to 1:00 PM\, at the South DeKalb Career Center. \nFor more information\, call 404-728-8605. \nClick here to learn more and register.
URL:https://metroatlantaexchange.org/event/goodwill-of-north-georgia-on-site-application-assistance-workshop-2/2025-08-22/
LOCATION:Goodwill of North Georgia – South DeKalb Career Center\, 1295 Columbia Drive\, Decatur\, GA\, 30032\, United States
CATEGORIES:Career Development,In-Person Event,Job Seeker
GEO:33.7510576;-84.2656565
X-APPLE-STRUCTURED-LOCATION;VALUE=URI;X-ADDRESS=Goodwill of North Georgia – South DeKalb Career Center 1295 Columbia Drive Decatur GA 30032 United States;X-APPLE-RADIUS=500;X-TITLE=1295 Columbia Drive:geo:-84.2656565,33.7510576
END:VEVENT
BEGIN:VEVENT
DTSTART;TZID=America/New_York:20250822T110000
DTEND;TZID=America/New_York:20250822T140000
DTSTAMP:20260422T155814
CREATED:20250802T133808Z
LAST-MODIFIED:20250802T133910Z
UID:10034706-1755860400-1755871200@metroatlantaexchange.org
SUMMARY:Goodwill of North Georgia: Department of Corrections Hiring Event
DESCRIPTION:Goodwill of North Georgia is hosting a Department of Corrections Hiring Event every Friday\, from 11:00 AM to 2:00 PM\, at the Stockbridge Career Center. \nFor more information\, call 678-514-0670. \nClick here to learn more and register.
URL:https://metroatlantaexchange.org/event/goodwill-of-north-georgia-department-of-corrections-hiring-event-4/2025-08-22/
LOCATION:GA
CATEGORIES:In-Person Event,Job Seeker
END:VEVENT
BEGIN:VEVENT
DTSTART;TZID=America/New_York:20250822T110000
DTEND;TZID=America/New_York:20250822T140000
DTSTAMP:20260422T155814
CREATED:20250802T161637Z
LAST-MODIFIED:20250802T161637Z
UID:10034736-1755860400-1755871200@metroatlantaexchange.org
SUMMARY:Manufacturing Institute: Military to Manufacturing Virtual Career Fair
DESCRIPTION:The Manufacturing Institute is hosting a Military to Manufacturing Virtual Career Fair on Friday\, August 22nd\, from 11:00 AM to 2:00 PM. \nPlease join the Manufacturing Institute’s Heroes MAKE America program for a virtual career fair focused on connecting members of the military community with national and regional manufacturing and supply chain companies who are hiring today. These companies have positions in a variety of occupational fields to include production\, maintenance\, logistics/supply chain\, procurement\, operations\, engineering\, human resources\, sales\, accounting\, and so much more. All different types of team members from entry level to supervisory are required to operate successfully! Transitioning service members\, Guard\, Reservists\, veterans and military spouses have the extraordinary qualities\, skills\, and experiences that make them ideal candidates for these industries. \nClick here to learn more and register.
URL:https://metroatlantaexchange.org/event/manufacturing-institute-military-to-manufacturing-virtual-career-fair-2/
LOCATION:GA
CATEGORIES:Job Seeker,Veterans/Military,Virtual Event
END:VEVENT
BEGIN:VEVENT
DTSTART;TZID=America/New_York:20250822T110000
DTEND;TZID=America/New_York:20250822T150000
DTSTAMP:20260422T155814
CREATED:20250802T161510Z
LAST-MODIFIED:20250802T161510Z
UID:10034735-1755860400-1755874800@metroatlantaexchange.org
SUMMARY:JobFairX: Atlanta Technology Virtual Job Fair
DESCRIPTION:JobFairX is hosting an Atlanta Technology Virtual Job Fair on Friday\, August 22nd\, from 11:00 AM to 3:00 PM. \nAt JobFairX\, we match job seekers like you with employers who have registered for the virtual job fair. When you sign up and create a profile\, we collect information about your qualifications\, skills\, and preferences. Our advanced matching algorithm analyzes this data to identify suitable job opportunities. If your qualifications align with a job\, you’ll receive an email invitation to schedule an interview with the employer during the fair. Our streamlined process saves you time on your job search. \nClick here to learn more and register.
URL:https://metroatlantaexchange.org/event/jobfairx-atlanta-technology-virtual-job-fair-2/
LOCATION:GA
CATEGORIES:Job Seeker,Virtual Event
END:VEVENT
BEGIN:VEVENT
DTSTART;TZID=America/New_York:20250822T160000
DTEND;TZID=America/New_York:20250822T170000
DTSTAMP:20260422T155814
CREATED:20250726T205302Z
LAST-MODIFIED:20250726T205302Z
UID:10034260-1755878400-1755882000@metroatlantaexchange.org
SUMMARY:American Professional Online Association (APROLA): Start Your Online Career Event
DESCRIPTION:The American Professional Online Association (APROLA) is hosting a Start Your Online Career event every Friday\, from 4:00 PM to 5:00 PM\, at APROLA Atlanta. \nThis life-changing workshop reveals amazing web professional opportunities that you can start TODAY – no tech skills required! Learn about exciting career opportunities in web design and development\, content and media\, e-commerce\, digital marketing and more. Discover how APROLA is helping people just like you build successful online careers. \nClick here to learn more and register.
URL:https://metroatlantaexchange.org/event/american-professional-online-association-aprola-start-your-online-career-event/2025-08-22/
LOCATION:APROLA Atlanta\, 7000 Central Parkway\, Suite #1100\, Atlanta\, GA\, 30328\, United States
CATEGORIES:Career Development,In-Person Event,Job Seeker
END:VEVENT
END:VCALENDAR