BEGIN:VCALENDAR
VERSION:2.0
PRODID:-//MAX - ECPv6.15.17.1//NONSGML v1.0//EN
CALSCALE:GREGORIAN
METHOD:PUBLISH
X-ORIGINAL-URL:https://metroatlantaexchange.org
X-WR-CALDESC:Events for MAX
REFRESH-INTERVAL;VALUE=DURATION:PT1H
X-Robots-Tag:noindex
X-PUBLISHED-TTL:PT1H
BEGIN:VTIMEZONE
TZID:America/New_York
BEGIN:DAYLIGHT
TZOFFSETFROM:-0500
TZOFFSETTO:-0400
TZNAME:EDT
DTSTART:20240310T070000
END:DAYLIGHT
BEGIN:STANDARD
TZOFFSETFROM:-0400
TZOFFSETTO:-0500
TZNAME:EST
DTSTART:20241103T060000
END:STANDARD
BEGIN:DAYLIGHT
TZOFFSETFROM:-0500
TZOFFSETTO:-0400
TZNAME:EDT
DTSTART:20250309T070000
END:DAYLIGHT
BEGIN:STANDARD
TZOFFSETFROM:-0400
TZOFFSETTO:-0500
TZNAME:EST
DTSTART:20251102T060000
END:STANDARD
BEGIN:DAYLIGHT
TZOFFSETFROM:-0500
TZOFFSETTO:-0400
TZNAME:EDT
DTSTART:20260308T070000
END:DAYLIGHT
BEGIN:STANDARD
TZOFFSETFROM:-0400
TZOFFSETTO:-0500
TZNAME:EST
DTSTART:20261101T060000
END:STANDARD
END:VTIMEZONE
BEGIN:VEVENT
DTSTART;TZID=America/New_York:20250828T100000
DTEND;TZID=America/New_York:20250828T120000
DTSTAMP:20260422T155820
CREATED:20250802T163910Z
LAST-MODIFIED:20250802T163910Z
UID:10034749-1756375200-1756382400@metroatlantaexchange.org
SUMMARY:Goodwill of North Georgia: Multi-Employer Job and Resource Fair
DESCRIPTION:Goodwill of North Georgia is hosting a Multi-Employer Job and Resource Fair on Thursday\, August 28th\, from 10:00 AM to 12:00 PM\, at the Oakwood Career Center. \nFor more information\, call 770-538-4209. \nClick here to learn more and register.
URL:https://metroatlantaexchange.org/event/goodwill-of-north-georgia-multi-employer-job-and-resource-fair/
LOCATION:Goodwill of North Georgia – Oakwood Career Center\, 3715 Mundy Mill Road\, Oakwood\, GA\, 30566\, United States
CATEGORIES:In-Person Event,Job Seeker
GEO:34.2290795;-83.8701636
X-APPLE-STRUCTURED-LOCATION;VALUE=URI;X-ADDRESS=Goodwill of North Georgia – Oakwood Career Center 3715 Mundy Mill Road Oakwood GA 30566 United States;X-APPLE-RADIUS=500;X-TITLE=3715 Mundy Mill Road:geo:-83.8701636,34.2290795
END:VEVENT
BEGIN:VEVENT
DTSTART;TZID=America/New_York:20250828T100000
DTEND;TZID=America/New_York:20250828T150000
DTSTAMP:20260422T155820
CREATED:20250823T234516Z
LAST-MODIFIED:20250823T234516Z
UID:10035037-1756375200-1756393200@metroatlantaexchange.org
SUMMARY:Highland Rivers Behavioral Health: Hiring Event
DESCRIPTION:Highland Rivers Behavioral Health is hosting a Hiring Event on Thursday\, August 28th\, from 10:00 AM to 3:00 PM\, at Highland Rivers Behavioral Health. \nJoin us for our Mother’s Making a Change Program. Open positions include Patient Care Technician\, Vehicle Operator\, Substance Use Counselor\, Registered Nurse\, and Therapeutic Childcare Provider. This program requires female staff only. \nEmail hadiyaharrahmaan@highlandrivers.org to sign up for an interview time. Don’t miss this chance to start your career with Highland Rivers Behavioral Health! We look forward to meeting you and exploring how you can make a difference in our community. \nClick here to learn more.
URL:https://metroatlantaexchange.org/event/highland-rivers-behavioral-health-hiring-event/
LOCATION:Highland Rivers Behavioral Health\, 2051 Greenridge Street\, SE\, Smyrna\, GA\, 30080\, United States
CATEGORIES:In-Person Event,Job Seeker
END:VEVENT
BEGIN:VEVENT
DTSTART;TZID=America/New_York:20250828T103000
DTEND;TZID=America/New_York:20250828T143000
DTSTAMP:20260422T155820
CREATED:20250802T172917Z
LAST-MODIFIED:20250802T173007Z
UID:10034821-1756377000-1756391400@metroatlantaexchange.org
SUMMARY:Goodwill of North Georgia: GED Class
DESCRIPTION:Goodwill of North Georgia is hosting a GED Class\, facilitated by Athens Tech\, every Monday through Thursday\, from 10:30 AM to 2:30 PM\, at the East Athens Career Center. \nFor more information\, call 706-395-1558. \nClick here to learn more and register.
URL:https://metroatlantaexchange.org/event/goodwill-of-north-georgia-ged-class-2/2025-08-28/
LOCATION:Goodwill of North Georgia – East Athens Career Center\, 4070 Lexington Road\, Athens\, GA\, 30605\, United States
CATEGORIES:Career Development,In-Person Event,Job Seeker
END:VEVENT
BEGIN:VEVENT
DTSTART;TZID=America/New_York:20250828T110000
DTEND;TZID=America/New_York:20250828T120000
DTSTAMP:20260422T155820
CREATED:20250726T204830Z
LAST-MODIFIED:20250726T204830Z
UID:10034256-1756378800-1756382400@metroatlantaexchange.org
SUMMARY:Goodwill of North Georgia: Goodwill Training Program Information Session
DESCRIPTION:Goodwill of North Georgia is hosting a Goodwill Training Program Information Session every Thursday\, from 11:00 AM to 12:00 PM\, at the Pleasant Hill Career Center. \nFor more information\, call 770-564-2447. \nClick here to learn more and register.
URL:https://metroatlantaexchange.org/event/goodwill-of-north-georgia-goodwill-training-program-information-session/2025-08-28/
LOCATION:Goodwill of North Georgia – Pleasant Hill Career Center\, 1502 Pleasant Hill Road\, Duluth\, GA\, 30096\, United States
CATEGORIES:Career Development,In-Person Event,Job Seeker
GEO:33.9429794;-84.121643
X-APPLE-STRUCTURED-LOCATION;VALUE=URI;X-ADDRESS=Goodwill of North Georgia – Pleasant Hill Career Center 1502 Pleasant Hill Road Duluth GA 30096 United States;X-APPLE-RADIUS=500;X-TITLE=1502 Pleasant Hill Road:geo:-84.121643,33.9429794
END:VEVENT
BEGIN:VEVENT
DTSTART;TZID=America/New_York:20250828T110000
DTEND;TZID=America/New_York:20250828T130000
DTSTAMP:20260422T155820
CREATED:20250802T164048Z
LAST-MODIFIED:20250802T164048Z
UID:10034750-1756378800-1756386000@metroatlantaexchange.org
SUMMARY:Goodwill of North Georgia: Job and Resource Fair
DESCRIPTION:Goodwill of North Georgia is hosting a Job and Resource Fair on Thursday\, August 28th\, from 11:00 AM to 1:00 PM\, at the East Athens Career Center. \nFor more information\, call 706-395-1558. \nClick here to learn more and register.
URL:https://metroatlantaexchange.org/event/goodwill-of-north-georgia-job-and-resource-fair-10/
LOCATION:Goodwill of North Georgia – East Athens Career Center\, 4070 Lexington Road\, Athens\, GA\, 30605\, United States
CATEGORIES:In-Person Event,Job Seeker
END:VEVENT
BEGIN:VEVENT
DTSTART;TZID=America/New_York:20250828T110000
DTEND;TZID=America/New_York:20250828T130000
DTSTAMP:20260422T155820
CREATED:20250802T164203Z
LAST-MODIFIED:20250802T164203Z
UID:10034751-1756378800-1756386000@metroatlantaexchange.org
SUMMARY:Goodwill of North Georgia: Job and Resource Fair
DESCRIPTION:Goodwill of North Georgia is hosting a Job and Resource Fair on Thursday\, August 28th\, from 11:00 AM to 1:00 PM\, at the Pleasant Hill Career Center. \nFor more information\, call 770-564-2447. \nClick here to learn more and register.
URL:https://metroatlantaexchange.org/event/goodwill-of-north-georgia-job-and-resource-fair-11/
LOCATION:Goodwill of North Georgia – Pleasant Hill Career Center\, 1502 Pleasant Hill Road\, Duluth\, GA\, 30096\, United States
CATEGORIES:In-Person Event,Job Seeker
GEO:33.9429794;-84.121643
X-APPLE-STRUCTURED-LOCATION;VALUE=URI;X-ADDRESS=Goodwill of North Georgia – Pleasant Hill Career Center 1502 Pleasant Hill Road Duluth GA 30096 United States;X-APPLE-RADIUS=500;X-TITLE=1502 Pleasant Hill Road:geo:-84.121643,33.9429794
END:VEVENT
BEGIN:VEVENT
DTSTART;TZID=America/New_York:20250828T110000
DTEND;TZID=America/New_York:20250828T150000
DTSTAMP:20260422T155820
CREATED:20250802T163629Z
LAST-MODIFIED:20250802T163629Z
UID:10034747-1756378800-1756393200@metroatlantaexchange.org
SUMMARY:CareerEco: Engineering and Science Virtual Career Fair
DESCRIPTION:CareerEco is hosting an Engineering and Science Virtual Career Fair on Thursday\, August 28th\, from 11:00 AM to 3:00 PM. \nStudents & Alumni from Colleges & Universities nationwide across Engineering and Science disciplines are invited to explore full and part-time jobs\, co-ops\, internships and more. \nClick here to register.
URL:https://metroatlantaexchange.org/event/careereco-engineering-and-science-virtual-career-fair/
LOCATION:GA
CATEGORIES:Job Seeker,Student,Virtual Event
ORGANIZER;CN="CareerEco":MAILTO:Events@CareerEco.com
END:VEVENT
BEGIN:VEVENT
DTSTART;TZID=America/New_York:20250828T120000
DTEND;TZID=America/New_York:20250828T160000
DTSTAMP:20260422T155820
CREATED:20250802T163747Z
LAST-MODIFIED:20250802T163747Z
UID:10034748-1756382400-1756396800@metroatlantaexchange.org
SUMMARY:G.I. Jobs: Virtual Job Fair
DESCRIPTION:G.I. Jobs is hosting a Virtual Job Fair on Thursday\, August 28th\, from 12:00 PM to 4:00 PM. \nExplore hot jobs while you chat with recruiters and military friendly employers. You will be able to talk with company recruiters who know the value veterans bring to their organization and connect with them one on one. \nClick here to learn more and register.
URL:https://metroatlantaexchange.org/event/g-i-jobs-virtual-job-fair-2/
LOCATION:GA
CATEGORIES:Job Seeker,Veterans/Military,Virtual Event
END:VEVENT
BEGIN:VEVENT
DTSTART;TZID=America/New_York:20250828T171500
DTEND;TZID=America/New_York:20250828T190000
DTSTAMP:20260422T155820
CREATED:20250823T234730Z
LAST-MODIFIED:20250823T234730Z
UID:10035038-1756401300-1756407600@metroatlantaexchange.org
SUMMARY:Georgia Driving Academy: TMC Truck Driver Recruiter Event
DESCRIPTION:The Georgia Driving Academy is hosting a TMC Truck Driver Recruiter Event on Thursday\, August 28th\, starting at 5:15 PM\, at the Conyers Campus. \nAttend a free\, no-obligation information session with a representative from TMC at our Conyers Campus. Learn more about our CDL training courses\, receive a campus tour and hear about the many job opportunities for recent graduates. Find out how TMC is ready to jump-start your new trucking career with on-the-job training and support. \nClick here to learn more and register.
URL:https://metroatlantaexchange.org/event/georgia-driving-academy-tmc-truck-driver-recruiter-event/
LOCATION:Georgia Driving Academy\, 1035 Sigman Road\, NE\, Conyers\, GA\, 30012\, United States
CATEGORIES:In-Person Event,Job Seeker
END:VEVENT
END:VCALENDAR