BEGIN:VCALENDAR
VERSION:2.0
PRODID:-//MAX - ECPv6.15.17.1//NONSGML v1.0//EN
CALSCALE:GREGORIAN
METHOD:PUBLISH
X-WR-CALNAME:MAX
X-ORIGINAL-URL:https://metroatlantaexchange.org
X-WR-CALDESC:Events for MAX
REFRESH-INTERVAL;VALUE=DURATION:PT1H
X-Robots-Tag:noindex
X-PUBLISHED-TTL:PT1H
BEGIN:VTIMEZONE
TZID:America/New_York
BEGIN:DAYLIGHT
TZOFFSETFROM:-0500
TZOFFSETTO:-0400
TZNAME:EDT
DTSTART:20240310T070000
END:DAYLIGHT
BEGIN:STANDARD
TZOFFSETFROM:-0400
TZOFFSETTO:-0500
TZNAME:EST
DTSTART:20241103T060000
END:STANDARD
BEGIN:DAYLIGHT
TZOFFSETFROM:-0500
TZOFFSETTO:-0400
TZNAME:EDT
DTSTART:20250309T070000
END:DAYLIGHT
BEGIN:STANDARD
TZOFFSETFROM:-0400
TZOFFSETTO:-0500
TZNAME:EST
DTSTART:20251102T060000
END:STANDARD
BEGIN:DAYLIGHT
TZOFFSETFROM:-0500
TZOFFSETTO:-0400
TZNAME:EDT
DTSTART:20260308T070000
END:DAYLIGHT
BEGIN:STANDARD
TZOFFSETFROM:-0400
TZOFFSETTO:-0500
TZNAME:EST
DTSTART:20261101T060000
END:STANDARD
END:VTIMEZONE
BEGIN:VEVENT
DTSTART;TZID=America/New_York:20250905T100000
DTEND;TZID=America/New_York:20250905T110000
DTSTAMP:20260422T191647
CREATED:20250902T223452Z
LAST-MODIFIED:20250902T223452Z
UID:10035313-1757066400-1757070000@metroatlantaexchange.org
SUMMARY:Goodwill of North Georgia: Computer\, Internet and Email Basics
DESCRIPTION:Goodwill of North Georgia is hosting an in-person Computer\, Internet and Email Basics Workshop on Friday\, September 5th\, from 10:00 AM to 11:00 AM\, at the Woodstock Career Center. \nFor more information\, call 770-874-0901. \nClick here to learn more and register.
URL:https://metroatlantaexchange.org/event/goodwill-of-north-georgia-computer-internet-and-email-basics/
LOCATION:Goodwill of North Georgia – Woodstock Career Center\, 9425 Highway 92\, Woodstock\, GA\, 30188\, United States
CATEGORIES:Career Development,In-Person Event,Job Seeker
GEO:34.0872637;-84.5325399
X-APPLE-STRUCTURED-LOCATION;VALUE=URI;X-ADDRESS=Goodwill of North Georgia – Woodstock Career Center 9425 Highway 92 Woodstock GA 30188 United States;X-APPLE-RADIUS=500;X-TITLE=9425 Highway 92:geo:-84.5325399,34.0872637
END:VEVENT
BEGIN:VEVENT
DTSTART;TZID=America/New_York:20250905T100000
DTEND;TZID=America/New_York:20250905T113000
DTSTAMP:20260422T191647
CREATED:20250902T223700Z
LAST-MODIFIED:20250902T223700Z
UID:10035314-1757066400-1757071800@metroatlantaexchange.org
SUMMARY:Goodwill of North Georgia: First Step to a Fresh Start Criminal Records Information Session - Expungement
DESCRIPTION:Goodwill of North Georgia is hosting a First Step to a Fresh Start Criminal Records Information Session – Expungement on Friday\, September 5th\, from 10:00 AM to 11:30 AM\, at the South DeKalb Career Center. \nFor more information\, call 404-728-8605. \nClick here to learn more and register.
URL:https://metroatlantaexchange.org/event/goodwill-of-north-georgia-first-step-to-a-fresh-start-criminal-records-information-session-expungement/
LOCATION:Goodwill of North Georgia – South DeKalb Career Center\, 1295 Columbia Drive\, Decatur\, GA\, 30032\, United States
CATEGORIES:Career Development,In-Person Event,Job Seeker
GEO:33.7510576;-84.2656565
X-APPLE-STRUCTURED-LOCATION;VALUE=URI;X-ADDRESS=Goodwill of North Georgia – South DeKalb Career Center 1295 Columbia Drive Decatur GA 30032 United States;X-APPLE-RADIUS=500;X-TITLE=1295 Columbia Drive:geo:-84.2656565,33.7510576
END:VEVENT
BEGIN:VEVENT
DTSTART;TZID=America/New_York:20250905T110000
DTEND;TZID=America/New_York:20250905T130000
DTSTAMP:20260422T191647
CREATED:20250802T180154Z
LAST-MODIFIED:20250802T180305Z
UID:10034893-1757070000-1757077200@metroatlantaexchange.org
SUMMARY:Goodwill of North Georgia: On-Site Application Assistance Workshop
DESCRIPTION:Goodwill of North Georgia is hosting an On-Site Application Assistance Workshop every Friday\, from 11:00 AM to 1:00 PM\, at the South DeKalb Career Center. \nFor more information\, call 404-728-8605. \nClick here to learn more and register.
URL:https://metroatlantaexchange.org/event/goodwill-of-north-georgia-on-site-application-assistance-workshop-2/2025-09-05/
LOCATION:Goodwill of North Georgia – South DeKalb Career Center\, 1295 Columbia Drive\, Decatur\, GA\, 30032\, United States
CATEGORIES:Career Development,In-Person Event,Job Seeker
GEO:33.7510576;-84.2656565
X-APPLE-STRUCTURED-LOCATION;VALUE=URI;X-ADDRESS=Goodwill of North Georgia – South DeKalb Career Center 1295 Columbia Drive Decatur GA 30032 United States;X-APPLE-RADIUS=500;X-TITLE=1295 Columbia Drive:geo:-84.2656565,33.7510576
END:VEVENT
BEGIN:VEVENT
DTSTART;TZID=America/New_York:20250905T130000
DTEND;TZID=America/New_York:20250905T180000
DTSTAMP:20260422T191647
CREATED:20250901T235340Z
LAST-MODIFIED:20250901T235340Z
UID:10035202-1757077200-1757095200@metroatlantaexchange.org
SUMMARY:Nakato Japanese Restaurant: Job Fair
DESCRIPTION:Nakato Japanese Restaurant is hosting a Job Fair on Friday\, September 5th\, from 1:00 PM to 6:00 PM\, at the Carlyle Venue. \nCome be part of a legend in Atlanta’s dining scene! Nakato Japanese Restaurant is undergoing a floor-to-ceiling renovation\, and building a new team of passionate\, skilled restaurant professionals who are ready to carry forward Nakato’s rich legacy of authentic Japanese cuisine and unforgettable service. Open roles include all front and back-of-house positions. Bring a resume and walk-ins are welcome. \nClick here to apply in advance of the event. \nClick here to learn more and register.
URL:https://metroatlantaexchange.org/event/nakato-japanese-restaurant-job-fair/
LOCATION:Carlyle Venue\, 1919 Piedmont Road\, NE\, Atlanta\, GA\, 30324\, United States
CATEGORIES:In-Person Event,Job Seeker
END:VEVENT
END:VCALENDAR